BEGIN:VCALENDAR
VERSION:2.0
PRODID:-//St. Andrew&#039;s Lutheran Church - ECPv6.15.20//NONSGML v1.0//EN
CALSCALE:GREGORIAN
METHOD:PUBLISH
X-WR-CALNAME:St. Andrew&#039;s Lutheran Church
X-ORIGINAL-URL:https://saintandrews.org
X-WR-CALDESC:Events for St. Andrew&#039;s Lutheran Church
REFRESH-INTERVAL;VALUE=DURATION:PT1H
X-Robots-Tag:noindex
X-PUBLISHED-TTL:PT1H
BEGIN:VTIMEZONE
TZID:UTC
BEGIN:STANDARD
TZOFFSETFROM:+0000
TZOFFSETTO:+0000
TZNAME:UTC
DTSTART:20250101T000000
END:STANDARD
END:VTIMEZONE
BEGIN:VTIMEZONE
TZID:America/Chicago
BEGIN:DAYLIGHT
TZOFFSETFROM:-0600
TZOFFSETTO:-0500
TZNAME:CDT
DTSTART:20250309T080000
END:DAYLIGHT
BEGIN:STANDARD
TZOFFSETFROM:-0500
TZOFFSETTO:-0600
TZNAME:CST
DTSTART:20251102T070000
END:STANDARD
BEGIN:DAYLIGHT
TZOFFSETFROM:-0600
TZOFFSETTO:-0500
TZNAME:CDT
DTSTART:20260308T080000
END:DAYLIGHT
BEGIN:STANDARD
TZOFFSETFROM:-0500
TZOFFSETTO:-0600
TZNAME:CST
DTSTART:20261101T070000
END:STANDARD
BEGIN:DAYLIGHT
TZOFFSETFROM:-0600
TZOFFSETTO:-0500
TZNAME:CDT
DTSTART:20270314T080000
END:DAYLIGHT
BEGIN:STANDARD
TZOFFSETFROM:-0500
TZOFFSETTO:-0600
TZNAME:CST
DTSTART:20271107T070000
END:STANDARD
END:VTIMEZONE
BEGIN:VEVENT
DTSTART;TZID=UTC:20260513T180000
DTEND;TZID=UTC:20260513T193000
DTSTAMP:20260423T065922
CREATED:20260422T183946Z
LAST-MODIFIED:20260422T184110Z
UID:10013896-1778695200-1778700600@saintandrews.org
SUMMARY:PLAY IT FORWARD - A VOLUNTEER CELEBRATION
DESCRIPTION:To thank you for all you do\, volunteers who serve St. Andrew’s with their time and talents get to celebrate! Check in at 5:30pm when doors open. Enjoy our entertainment of Sweet Keys Dueling Pianos starting at 6pm in the Fellowship Hall. Following the program\, pick up pizza and a sweet treat and mingle with your volunteer team. Because we value you\, this event is FREE!RSVP by Friday\, May 8 using the button below.
URL:https://saintandrews.org/event/play-it-forward-a-volunteer-celebration/
LOCATION:Sanctuary Fellowship Hall\, 900 Stillwater Rd\, Mahtomedi\, MN\, 55115\, United States
CATEGORIES:Membership & Volunteers
ATTACH;FMTTYPE=image/jpeg:https://saintandrews.org/wp-content/uploads/Volunteer-Celebration-2026-scaled.jpg
ORGANIZER;CN="Sue Lennartson":MAILTO:slennartson@saintandrews.org
END:VEVENT
BEGIN:VEVENT
DTSTART;TZID=UTC:20260517T114500
DTEND;TZID=UTC:20260517T123000
DTSTAMP:20260423T065922
CREATED:20260202T194747Z
LAST-MODIFIED:20260202T194749Z
UID:10010434-1779018300-1779021000@saintandrews.org
SUMMARY:HOT TAKES
DESCRIPTION:20s and 30s Meet Up in the Fellowship Hall\n\n\n\n\n\nMeet up with other young adults after church to discuss the sermon\, build connections\, and enjoy a coffee on us!
URL:https://saintandrews.org/event/hot-takes-2/2026-05-17/
LOCATION:Sanctuary Fellowship Hall\, 900 Stillwater Rd\, Mahtomedi\, MN\, 55115\, United States
CATEGORIES:Adult Ministries,Young Adults - 20's & 30's
ATTACH;FMTTYPE=image/jpeg:https://saintandrews.org/wp-content/uploads/Young-Adult-Meet-Up-1920x1080-1-scaled.jpg
ORGANIZER;CN="Teaching Pastor Amy Mihelich Smith":MAILTO:amihelich@saintandrews.org
END:VEVENT
BEGIN:VEVENT
DTSTART;TZID=America/Chicago:20260518T140000
DTEND;TZID=America/Chicago:20260518T150000
DTSTAMP:20260423T065922
CREATED:20250717T180030Z
LAST-MODIFIED:20260205T171839Z
UID:10010347-1779112800-1779116400@saintandrews.org
SUMMARY:ROOTED IN SCRIPTURE
DESCRIPTION:Deepen Your Faith with Pastor Mike Carlson \n\n\n\nRooted in Scripture\, this engaging 5-session Bible study invites you to grow in faith and deepen your understanding of the Bible. Led by Mike Carlson\, lead pastor of St. Andrew’s\, each session explores upcoming preaching texts\, fosters open and thoughtful conversation\, and creates space to wrestle with life’s big questions—together. \n\n\n\nJoin us Mondays at 2 p.m. in the Fellowship Hall and expand your biblical insight in a welcoming\, discussion-based setting. \n\n\n\nSchedule:Session #1: Sept. 29\, Oct. 6\, Oct. 13\, Oct. 20 (4-week)Session #2: Nov. 10\, Nov. 17\, Nov. 24\, Dec. 1\, Dec. 8\, Dec. 15 (6-week)Session #3: Jan. 26\, Feb. 2\, Feb. 9\, Feb. 16\, (4-week)Session #4: Mar. 2\, Mar. 9\, Mar. 16\, Mar. 23\, Mar. 30 (5-week)Session #5: Apr. 13\, Apr. 20\, Apr. 27\, May 4\, May 11\, May 18 (6-week)
URL:https://saintandrews.org/event/rooted-in-scripture/2026-05-18/
LOCATION:Sanctuary Fellowship Hall\, 900 Stillwater Rd\, Mahtomedi\, MN\, 55115\, United States
CATEGORIES:Adult Education,Bible Studies,Seniors Page Extra
ATTACH;FMTTYPE=image/jpeg:https://saintandrews.org/wp-content/uploads/Rooted-in-Faith-Bible-Study-1920x1080-1.jpg
ORGANIZER;CN="St. Andrew's Lutheran Church":MAILTO:office@saintandrews.org
END:VEVENT
BEGIN:VEVENT
DTSTART;TZID=America/Chicago:20260601T183000
DTEND;TZID=America/Chicago:20260601T203000
DTSTAMP:20260423T065922
CREATED:20260202T202147Z
LAST-MODIFIED:20260421T184248Z
UID:10013754-1780338600-1780345800@saintandrews.org
SUMMARY:A SHEPHERD LOOKS AT PSALM 23
DESCRIPTION:Women\, step into a book\, the Bible\, and a bit of light yoga all centered around the 23rd Psalm. There’s an awakening within this familiar psalm\, led by yoga instructor Sandy Cedergren and Director of Adult Ministry Sue Lennartson. The book we’ll be reading is “A Shepherd Looks at Psalm 23” by Phillip Keller. Participants will be asked to purchase a copy of the book.
URL:https://saintandrews.org/event/a-shepherd-looks-at-psalm-23/2026-06-01/
LOCATION:Sanctuary Fellowship Hall\, 900 Stillwater Rd\, Mahtomedi\, MN\, 55115\, United States
CATEGORIES:Adult Education,Bible Studies,Women's Ministry
ATTACH;FMTTYPE=image/jpeg:https://saintandrews.org/wp-content/uploads/Psalm-23-Book-and-Bible-Study.jpg
ORGANIZER;CN="St. Andrew's Lutheran Church":MAILTO:office@saintandrews.org
END:VEVENT
BEGIN:VEVENT
DTSTART;TZID=UTC:20260614T114500
DTEND;TZID=UTC:20260614T123000
DTSTAMP:20260423T065922
CREATED:20260202T194747Z
LAST-MODIFIED:20260202T194749Z
UID:10010359-1781437500-1781440200@saintandrews.org
SUMMARY:HOT TAKES
DESCRIPTION:20s and 30s Meet Up in the Fellowship Hall\n\n\n\n\n\nMeet up with other young adults after church to discuss the sermon\, build connections\, and enjoy a coffee on us!
URL:https://saintandrews.org/event/hot-takes-2/2026-06-14/
LOCATION:Sanctuary Fellowship Hall\, 900 Stillwater Rd\, Mahtomedi\, MN\, 55115\, United States
CATEGORIES:Adult Ministries,Young Adults - 20's & 30's
ATTACH;FMTTYPE=image/jpeg:https://saintandrews.org/wp-content/uploads/Young-Adult-Meet-Up-1920x1080-1-scaled.jpg
ORGANIZER;CN="Teaching Pastor Amy Mihelich Smith":MAILTO:amihelich@saintandrews.org
END:VEVENT
BEGIN:VEVENT
DTSTART;TZID=America/Chicago:20260727T183000
DTEND;TZID=America/Chicago:20260727T203000
DTSTAMP:20260423T065922
CREATED:20260202T202147Z
LAST-MODIFIED:20260421T184248Z
UID:10013750-1785177000-1785184200@saintandrews.org
SUMMARY:A SHEPHERD LOOKS AT PSALM 23
DESCRIPTION:Women\, step into a book\, the Bible\, and a bit of light yoga all centered around the 23rd Psalm. There’s an awakening within this familiar psalm\, led by yoga instructor Sandy Cedergren and Director of Adult Ministry Sue Lennartson. The book we’ll be reading is “A Shepherd Looks at Psalm 23” by Phillip Keller. Participants will be asked to purchase a copy of the book.
URL:https://saintandrews.org/event/a-shepherd-looks-at-psalm-23/2026-07-27/
LOCATION:Sanctuary Fellowship Hall\, 900 Stillwater Rd\, Mahtomedi\, MN\, 55115\, United States
CATEGORIES:Adult Education,Bible Studies,Women's Ministry
ATTACH;FMTTYPE=image/jpeg:https://saintandrews.org/wp-content/uploads/Psalm-23-Book-and-Bible-Study.jpg
ORGANIZER;CN="St. Andrew's Lutheran Church":MAILTO:office@saintandrews.org
END:VEVENT
BEGIN:VEVENT
DTSTART;TZID=America/Chicago:20260817T183000
DTEND;TZID=America/Chicago:20260817T203000
DTSTAMP:20260423T065922
CREATED:20260202T202147Z
LAST-MODIFIED:20260421T184248Z
UID:10013755-1786991400-1786998600@saintandrews.org
SUMMARY:A SHEPHERD LOOKS AT PSALM 23
DESCRIPTION:Women\, step into a book\, the Bible\, and a bit of light yoga all centered around the 23rd Psalm. There’s an awakening within this familiar psalm\, led by yoga instructor Sandy Cedergren and Director of Adult Ministry Sue Lennartson. The book we’ll be reading is “A Shepherd Looks at Psalm 23” by Phillip Keller. Participants will be asked to purchase a copy of the book.
URL:https://saintandrews.org/event/a-shepherd-looks-at-psalm-23/2026-08-17/
LOCATION:Sanctuary Fellowship Hall\, 900 Stillwater Rd\, Mahtomedi\, MN\, 55115\, United States
CATEGORIES:Adult Education,Bible Studies,Women's Ministry
ATTACH;FMTTYPE=image/jpeg:https://saintandrews.org/wp-content/uploads/Psalm-23-Book-and-Bible-Study.jpg
ORGANIZER;CN="St. Andrew's Lutheran Church":MAILTO:office@saintandrews.org
END:VEVENT
BEGIN:VEVENT
DTSTART;TZID=America/Chicago:20260928T183000
DTEND;TZID=America/Chicago:20260928T203000
DTSTAMP:20260423T065922
CREATED:20260202T202147Z
LAST-MODIFIED:20260421T184248Z
UID:10013752-1790620200-1790627400@saintandrews.org
SUMMARY:A SHEPHERD LOOKS AT PSALM 23
DESCRIPTION:Women\, step into a book\, the Bible\, and a bit of light yoga all centered around the 23rd Psalm. There’s an awakening within this familiar psalm\, led by yoga instructor Sandy Cedergren and Director of Adult Ministry Sue Lennartson. The book we’ll be reading is “A Shepherd Looks at Psalm 23” by Phillip Keller. Participants will be asked to purchase a copy of the book.
URL:https://saintandrews.org/event/a-shepherd-looks-at-psalm-23/2026-09-28/
LOCATION:Sanctuary Fellowship Hall\, 900 Stillwater Rd\, Mahtomedi\, MN\, 55115\, United States
CATEGORIES:Adult Education,Bible Studies,Women's Ministry
ATTACH;FMTTYPE=image/jpeg:https://saintandrews.org/wp-content/uploads/Psalm-23-Book-and-Bible-Study.jpg
ORGANIZER;CN="St. Andrew's Lutheran Church":MAILTO:office@saintandrews.org
END:VEVENT
BEGIN:VEVENT
DTSTART;TZID=America/Chicago:20261204T183000
DTEND;TZID=America/Chicago:20261204T203000
DTSTAMP:20260423T065922
CREATED:20260203T223058Z
LAST-MODIFIED:20260203T223100Z
UID:10013761-1796409000-1796416200@saintandrews.org
SUMMARY:JOY!
DESCRIPTION:A WOMEN’S ADVENT GATHERING\n\n\n\n\n\nWomen\, come gather for a time of music\, message\, and meaning as we begin the Advent season. We’ll prepare our hearts to receive the JOY of Christmas over food and entertainment. \n\n\n\n\n\nRegistration opens November 15\, 2026
URL:https://saintandrews.org/event/joy/
LOCATION:Sanctuary Fellowship Hall\, 900 Stillwater Rd\, Mahtomedi\, MN\, 55115\, United States
CATEGORIES:Christmas,Women's Ministry
ATTACH;FMTTYPE=image/jpeg:https://saintandrews.org/wp-content/uploads/Womens-Advent-Gathering-2026.jpg
ORGANIZER;CN="Sue Lennartson":MAILTO:slennartson@saintandrews.org
END:VEVENT
END:VCALENDAR