BEGIN:VCALENDAR
VERSION:2.0
PRODID:-//St. Andrew&#039;s Lutheran Church - ECPv6.15.20//NONSGML v1.0//EN
CALSCALE:GREGORIAN
METHOD:PUBLISH
X-ORIGINAL-URL:https://saintandrews.org
X-WR-CALDESC:Events for St. Andrew&#039;s Lutheran Church
REFRESH-INTERVAL;VALUE=DURATION:PT1H
X-Robots-Tag:noindex
X-PUBLISHED-TTL:PT1H
BEGIN:VTIMEZONE
TZID:UTC
BEGIN:STANDARD
TZOFFSETFROM:+0000
TZOFFSETTO:+0000
TZNAME:UTC
DTSTART:20240101T000000
END:STANDARD
END:VTIMEZONE
BEGIN:VEVENT
DTSTART;TZID=UTC:20251127T180000
DTEND;TZID=UTC:20251127T190000
DTSTAMP:20260421T113520
CREATED:20251121T210627Z
LAST-MODIFIED:20251121T210637Z
UID:10006791-1764266400-1764270000@saintandrews.org
SUMMARY:CANCEL! - THURSDAY NIGHT COMMUNITY MEAL
DESCRIPTION:There will be no meal on Thanksgiving Day.
URL:https://saintandrews.org/event/thursday-night-community-meal-6/
LOCATION:Great Hall – CRC Entrance/Door #6\, 900 Stillwater Rd\, Mahtomedi\, MN\, 55115\, United States
CATEGORIES:Missions
ATTACH;FMTTYPE=image/jpeg:https://saintandrews.org/wp-content/uploads/Thursday-Night-Community-Meal-2024-1920x1080-1.jpg
ORGANIZER;CN="CRC Office":MAILTO:office@saintandrews.org
END:VEVENT
BEGIN:VEVENT
DTSTART;TZID=UTC:20251123T190000
DTEND;TZID=UTC:20251123T200000
DTSTAMP:20260421T113520
CREATED:20240422T192829Z
LAST-MODIFIED:20241010T191823Z
UID:10004637-1763924400-1763928000@saintandrews.org
SUMMARY:AA - HAPPY\, JOYOUS\, & FREE
DESCRIPTION:Sundays\, 7:00-8:00 p.m. \n\n\n\nGreat Hall Room 2 \n\n\n\nDirections: Enter the church campus from the HiltonTrail/Stillwater Rd. intersection and take an immediate left toward the Great Hall. Enter the Great Hall building using door #6 (Community Resource Centerentrance). Room 2 is to the right just inside door #6. \n\n\n\nGroup meets weekly\, except on federal holidays\, due to inclement weather\, or other church building closure.
URL:https://saintandrews.org/event/aa-happy-joyous-free-2/2025-11-23/
LOCATION:Great Hall – CRC Entrance/Door #6\, 900 Stillwater Rd\, Mahtomedi\, MN\, 55115\, United States
CATEGORIES:AA
ATTACH;FMTTYPE=image/jpeg:https://saintandrews.org/wp-content/uploads/AA-Meetings-1920x1080-1.jpg
END:VEVENT
BEGIN:VEVENT
DTSTART;TZID=UTC:20251123T173000
DTEND;TZID=UTC:20251123T183000
DTSTAMP:20260421T113520
CREATED:20240422T192922Z
LAST-MODIFIED:20241010T191751Z
UID:10004376-1763919000-1763922600@saintandrews.org
SUMMARY:AA - GRATITUDE IN ACTION
DESCRIPTION:AA – Gratitude inAction \n\n\n\nSundays\, 5:30-6:30 p.m. \n\n\n\nGreat Hall Room 2 \n\n\n\nDirections: Enter the church campus from the HiltonTrail/Stillwater Rd. intersection and take an immediate left toward the Great Hall. Enter the Great Hall building using door #6 (Community Resource Centerentrance). Room 2 is to the right just inside door #6. \n\n\n\nGroup meets weekly\, except on federal holidays\, due to inclement weather\, or other church building closure.
URL:https://saintandrews.org/event/aa-gratitude-in-action-2/2025-11-23/
LOCATION:Great Hall – CRC Entrance/Door #6\, 900 Stillwater Rd\, Mahtomedi\, MN\, 55115\, United States
CATEGORIES:AA
ATTACH;FMTTYPE=image/jpeg:https://saintandrews.org/wp-content/uploads/AA-Meetings-1920x1080-1.jpg
END:VEVENT
BEGIN:VEVENT
DTSTART;TZID=UTC:20251121T190000
DTEND;TZID=UTC:20251121T200000
DTSTAMP:20260421T113520
CREATED:20240422T193419Z
LAST-MODIFIED:20250527T143122Z
UID:10005159-1763751600-1763755200@saintandrews.org
SUMMARY:NA - SUPPORT GROUP
DESCRIPTION:Fridays\, 7 p.m. Great Hall Room 5B \n\n\n\n Directions: Enter the church campus from the HiltonTrail/Stillwater Rd. intersection and take an immediate left toward the Great Hall. Enter the Great Hall building using door #6 (Community Resource Centerentrance). Just inside the building\, turn left toward the Community ResourceCenter and continue to Room 5B at the end of the hallway. \n\n\n\nGroup meets weekly\, except on federal holidays\, due to inclement weather\, or other church building closure.
URL:https://saintandrews.org/event/na-support-group-2/2025-11-21/
LOCATION:Great Hall – CRC Entrance/Door #6\, 900 Stillwater Rd\, Mahtomedi\, MN\, 55115\, United States
CATEGORIES:AA
ATTACH;FMTTYPE=image/jpeg:https://saintandrews.org/wp-content/uploads/AA-Meetings-1920x1080-1.jpg
END:VEVENT
BEGIN:VEVENT
DTSTART;TZID=UTC:20251121T190000
DTEND;TZID=UTC:20251121T200000
DTSTAMP:20260421T113520
CREATED:20240422T193257Z
LAST-MODIFIED:20250527T143033Z
UID:10004115-1763751600-1763755200@saintandrews.org
SUMMARY:AL - ANON - WORKS FAMILY GROUP
DESCRIPTION:Fridays\, 7 p.m. \n\n\n\nGreat Hall Dot Room \n\n\n\nDirections: Enter the church campus from the HiltonTrail/Stillwater Rd. intersection and take an immediate left toward the Great Hall. Enter the Great Hall building using door #6 (Community Resource Centerentrance). \n\n\n\n Group meets weekly\, except on federal holidays\, due to inclement weather\, or other church building closure.
URL:https://saintandrews.org/event/al-anon-works-family-group-2/2025-11-21/
LOCATION:Great Hall – CRC Entrance/Door #6\, 900 Stillwater Rd\, Mahtomedi\, MN\, 55115\, United States
CATEGORIES:AA
ATTACH;FMTTYPE=image/jpeg:https://saintandrews.org/wp-content/uploads/AA-Meetings-1920x1080-1.jpg
END:VEVENT
BEGIN:VEVENT
DTSTART;TZID=UTC:20251121T190000
DTEND;TZID=UTC:20251121T200000
DTSTAMP:20260421T113520
CREATED:20240422T193009Z
LAST-MODIFIED:20250527T142937Z
UID:10003332-1763751600-1763755200@saintandrews.org
SUMMARY:AA - 12 X 12 BY THE BOOK
DESCRIPTION:Fridays\, 7:00-8:00 p.m. Great Hall Room 2 \n\n\n\nDirections: Enter the church campus from the HiltonTrail/Stillwater Rd. intersection and take an immediate left toward the Great Hall. Enter the Great Hall building using door #6 (Community Resource Centerentrance). Room 2 is to the right just inside door #6. \n\n\n\nGroup meets weekly\, except on federal holidays\, due to inclement weather\, or other church building closure.
URL:https://saintandrews.org/event/aa-12-x-12-by-the-book-2/2025-11-21/
LOCATION:Great Hall – CRC Entrance/Door #6\, 900 Stillwater Rd\, Mahtomedi\, MN\, 55115\, United States
CATEGORIES:AA
ATTACH;FMTTYPE=image/jpeg:https://saintandrews.org/wp-content/uploads/AA-Meetings-1920x1080-1.jpg
END:VEVENT
BEGIN:VEVENT
DTSTART;TZID=UTC:20251121T173000
DTEND;TZID=UTC:20251121T183000
DTSTAMP:20260421T113520
CREATED:20240422T193057Z
LAST-MODIFIED:20250527T142828Z
UID:10003071-1763746200-1763749800@saintandrews.org
SUMMARY:AA - HAPPY HOUR 12 X 12
DESCRIPTION:Directions: Enter the church campus from the HiltonTrail/Stillwater Rd. intersection and take an immediate left toward the Great Hall. Enter the Great Hall building using door #6 (Community Resource Centerentrance). Room 2 is to the right just inside door #6. \n\n\n\nGroup meets weekly\, except on federal holidays\, due to inclement weather\, or other church building closure.
URL:https://saintandrews.org/event/aa-happy-hour-12-x-12-2/2025-11-21/
LOCATION:Great Hall – CRC Entrance/Door #6\, 900 Stillwater Rd\, Mahtomedi\, MN\, 55115\, United States
CATEGORIES:AA
ATTACH;FMTTYPE=image/jpeg:https://saintandrews.org/wp-content/uploads/AA-Meetings-1920x1080-1.jpg
END:VEVENT
BEGIN:VEVENT
DTSTART;TZID=UTC:20251120T180000
DTEND;TZID=UTC:20251120T190000
DTSTAMP:20260421T113520
CREATED:20250527T141549Z
LAST-MODIFIED:20250527T141550Z
UID:10006790-1763661600-1763665200@saintandrews.org
SUMMARY:THURSDAY NIGHT COMMUNITY MEAL
DESCRIPTION:Serving our community with a dine-in\, warm\, home-cooked meal.Thursdays 6-7 pm\, Great Hall\, Enter Door 6.No registration is necessary! \n\n\n\nPlease spread the word to those you may know that could benefit from this outreach ministry!
URL:https://saintandrews.org/event/thursday-night-community-meal-5/2025-11-20/
LOCATION:Great Hall – CRC Entrance/Door #6\, 900 Stillwater Rd\, Mahtomedi\, MN\, 55115\, United States
CATEGORIES:Missions
ATTACH;FMTTYPE=image/jpeg:https://saintandrews.org/wp-content/uploads/Thursday-Night-Community-Meal-2024-1920x1080-1.jpg
ORGANIZER;CN="CRC Office":MAILTO:office@saintandrews.org
END:VEVENT
BEGIN:VEVENT
DTSTART;TZID=UTC:20251116T190000
DTEND;TZID=UTC:20251116T200000
DTSTAMP:20260421T113520
CREATED:20240422T192829Z
LAST-MODIFIED:20241010T191823Z
UID:10004636-1763319600-1763323200@saintandrews.org
SUMMARY:AA - HAPPY\, JOYOUS\, & FREE
DESCRIPTION:Sundays\, 7:00-8:00 p.m. \n\n\n\nGreat Hall Room 2 \n\n\n\nDirections: Enter the church campus from the HiltonTrail/Stillwater Rd. intersection and take an immediate left toward the Great Hall. Enter the Great Hall building using door #6 (Community Resource Centerentrance). Room 2 is to the right just inside door #6. \n\n\n\nGroup meets weekly\, except on federal holidays\, due to inclement weather\, or other church building closure.
URL:https://saintandrews.org/event/aa-happy-joyous-free-2/2025-11-16/
LOCATION:Great Hall – CRC Entrance/Door #6\, 900 Stillwater Rd\, Mahtomedi\, MN\, 55115\, United States
CATEGORIES:AA
ATTACH;FMTTYPE=image/jpeg:https://saintandrews.org/wp-content/uploads/AA-Meetings-1920x1080-1.jpg
END:VEVENT
BEGIN:VEVENT
DTSTART;TZID=UTC:20251116T173000
DTEND;TZID=UTC:20251116T183000
DTSTAMP:20260421T113520
CREATED:20240422T192922Z
LAST-MODIFIED:20241010T191751Z
UID:10004375-1763314200-1763317800@saintandrews.org
SUMMARY:AA - GRATITUDE IN ACTION
DESCRIPTION:AA – Gratitude inAction \n\n\n\nSundays\, 5:30-6:30 p.m. \n\n\n\nGreat Hall Room 2 \n\n\n\nDirections: Enter the church campus from the HiltonTrail/Stillwater Rd. intersection and take an immediate left toward the Great Hall. Enter the Great Hall building using door #6 (Community Resource Centerentrance). Room 2 is to the right just inside door #6. \n\n\n\nGroup meets weekly\, except on federal holidays\, due to inclement weather\, or other church building closure.
URL:https://saintandrews.org/event/aa-gratitude-in-action-2/2025-11-16/
LOCATION:Great Hall – CRC Entrance/Door #6\, 900 Stillwater Rd\, Mahtomedi\, MN\, 55115\, United States
CATEGORIES:AA
ATTACH;FMTTYPE=image/jpeg:https://saintandrews.org/wp-content/uploads/AA-Meetings-1920x1080-1.jpg
END:VEVENT
BEGIN:VEVENT
DTSTART;TZID=UTC:20251114T190000
DTEND;TZID=UTC:20251114T200000
DTSTAMP:20260421T113520
CREATED:20240422T193419Z
LAST-MODIFIED:20250527T143122Z
UID:10005158-1763146800-1763150400@saintandrews.org
SUMMARY:NA - SUPPORT GROUP
DESCRIPTION:Fridays\, 7 p.m. Great Hall Room 5B \n\n\n\n Directions: Enter the church campus from the HiltonTrail/Stillwater Rd. intersection and take an immediate left toward the Great Hall. Enter the Great Hall building using door #6 (Community Resource Centerentrance). Just inside the building\, turn left toward the Community ResourceCenter and continue to Room 5B at the end of the hallway. \n\n\n\nGroup meets weekly\, except on federal holidays\, due to inclement weather\, or other church building closure.
URL:https://saintandrews.org/event/na-support-group-2/2025-11-14/
LOCATION:Great Hall – CRC Entrance/Door #6\, 900 Stillwater Rd\, Mahtomedi\, MN\, 55115\, United States
CATEGORIES:AA
ATTACH;FMTTYPE=image/jpeg:https://saintandrews.org/wp-content/uploads/AA-Meetings-1920x1080-1.jpg
END:VEVENT
BEGIN:VEVENT
DTSTART;TZID=UTC:20251114T190000
DTEND;TZID=UTC:20251114T200000
DTSTAMP:20260421T113520
CREATED:20240422T193257Z
LAST-MODIFIED:20250527T143033Z
UID:10004114-1763146800-1763150400@saintandrews.org
SUMMARY:AL - ANON - WORKS FAMILY GROUP
DESCRIPTION:Fridays\, 7 p.m. \n\n\n\nGreat Hall Dot Room \n\n\n\nDirections: Enter the church campus from the HiltonTrail/Stillwater Rd. intersection and take an immediate left toward the Great Hall. Enter the Great Hall building using door #6 (Community Resource Centerentrance). \n\n\n\n Group meets weekly\, except on federal holidays\, due to inclement weather\, or other church building closure.
URL:https://saintandrews.org/event/al-anon-works-family-group-2/2025-11-14/
LOCATION:Great Hall – CRC Entrance/Door #6\, 900 Stillwater Rd\, Mahtomedi\, MN\, 55115\, United States
CATEGORIES:AA
ATTACH;FMTTYPE=image/jpeg:https://saintandrews.org/wp-content/uploads/AA-Meetings-1920x1080-1.jpg
END:VEVENT
BEGIN:VEVENT
DTSTART;TZID=UTC:20251114T190000
DTEND;TZID=UTC:20251114T200000
DTSTAMP:20260421T113520
CREATED:20240422T193009Z
LAST-MODIFIED:20250527T142937Z
UID:10003331-1763146800-1763150400@saintandrews.org
SUMMARY:AA - 12 X 12 BY THE BOOK
DESCRIPTION:Fridays\, 7:00-8:00 p.m. Great Hall Room 2 \n\n\n\nDirections: Enter the church campus from the HiltonTrail/Stillwater Rd. intersection and take an immediate left toward the Great Hall. Enter the Great Hall building using door #6 (Community Resource Centerentrance). Room 2 is to the right just inside door #6. \n\n\n\nGroup meets weekly\, except on federal holidays\, due to inclement weather\, or other church building closure.
URL:https://saintandrews.org/event/aa-12-x-12-by-the-book-2/2025-11-14/
LOCATION:Great Hall – CRC Entrance/Door #6\, 900 Stillwater Rd\, Mahtomedi\, MN\, 55115\, United States
CATEGORIES:AA
ATTACH;FMTTYPE=image/jpeg:https://saintandrews.org/wp-content/uploads/AA-Meetings-1920x1080-1.jpg
END:VEVENT
BEGIN:VEVENT
DTSTART;TZID=UTC:20251114T173000
DTEND;TZID=UTC:20251114T183000
DTSTAMP:20260421T113520
CREATED:20240422T193057Z
LAST-MODIFIED:20250527T142828Z
UID:10003070-1763141400-1763145000@saintandrews.org
SUMMARY:AA - HAPPY HOUR 12 X 12
DESCRIPTION:Directions: Enter the church campus from the HiltonTrail/Stillwater Rd. intersection and take an immediate left toward the Great Hall. Enter the Great Hall building using door #6 (Community Resource Centerentrance). Room 2 is to the right just inside door #6. \n\n\n\nGroup meets weekly\, except on federal holidays\, due to inclement weather\, or other church building closure.
URL:https://saintandrews.org/event/aa-happy-hour-12-x-12-2/2025-11-14/
LOCATION:Great Hall – CRC Entrance/Door #6\, 900 Stillwater Rd\, Mahtomedi\, MN\, 55115\, United States
CATEGORIES:AA
ATTACH;FMTTYPE=image/jpeg:https://saintandrews.org/wp-content/uploads/AA-Meetings-1920x1080-1.jpg
END:VEVENT
BEGIN:VEVENT
DTSTART;TZID=UTC:20251113T180000
DTEND;TZID=UTC:20251113T190000
DTSTAMP:20260421T113520
CREATED:20250527T141549Z
LAST-MODIFIED:20250527T141550Z
UID:10006789-1763056800-1763060400@saintandrews.org
SUMMARY:THURSDAY NIGHT COMMUNITY MEAL
DESCRIPTION:Serving our community with a dine-in\, warm\, home-cooked meal.Thursdays 6-7 pm\, Great Hall\, Enter Door 6.No registration is necessary! \n\n\n\nPlease spread the word to those you may know that could benefit from this outreach ministry!
URL:https://saintandrews.org/event/thursday-night-community-meal-5/2025-11-13/
LOCATION:Great Hall – CRC Entrance/Door #6\, 900 Stillwater Rd\, Mahtomedi\, MN\, 55115\, United States
CATEGORIES:Missions
ATTACH;FMTTYPE=image/jpeg:https://saintandrews.org/wp-content/uploads/Thursday-Night-Community-Meal-2024-1920x1080-1.jpg
ORGANIZER;CN="CRC Office":MAILTO:office@saintandrews.org
END:VEVENT
BEGIN:VEVENT
DTSTART;TZID=UTC:20251109T190000
DTEND;TZID=UTC:20251109T200000
DTSTAMP:20260421T113520
CREATED:20240422T192829Z
LAST-MODIFIED:20241010T191823Z
UID:10004635-1762714800-1762718400@saintandrews.org
SUMMARY:AA - HAPPY\, JOYOUS\, & FREE
DESCRIPTION:Sundays\, 7:00-8:00 p.m. \n\n\n\nGreat Hall Room 2 \n\n\n\nDirections: Enter the church campus from the HiltonTrail/Stillwater Rd. intersection and take an immediate left toward the Great Hall. Enter the Great Hall building using door #6 (Community Resource Centerentrance). Room 2 is to the right just inside door #6. \n\n\n\nGroup meets weekly\, except on federal holidays\, due to inclement weather\, or other church building closure.
URL:https://saintandrews.org/event/aa-happy-joyous-free-2/2025-11-09/
LOCATION:Great Hall – CRC Entrance/Door #6\, 900 Stillwater Rd\, Mahtomedi\, MN\, 55115\, United States
CATEGORIES:AA
ATTACH;FMTTYPE=image/jpeg:https://saintandrews.org/wp-content/uploads/AA-Meetings-1920x1080-1.jpg
END:VEVENT
BEGIN:VEVENT
DTSTART;TZID=UTC:20251109T173000
DTEND;TZID=UTC:20251109T183000
DTSTAMP:20260421T113520
CREATED:20240422T192922Z
LAST-MODIFIED:20241010T191751Z
UID:10004374-1762709400-1762713000@saintandrews.org
SUMMARY:AA - GRATITUDE IN ACTION
DESCRIPTION:AA – Gratitude inAction \n\n\n\nSundays\, 5:30-6:30 p.m. \n\n\n\nGreat Hall Room 2 \n\n\n\nDirections: Enter the church campus from the HiltonTrail/Stillwater Rd. intersection and take an immediate left toward the Great Hall. Enter the Great Hall building using door #6 (Community Resource Centerentrance). Room 2 is to the right just inside door #6. \n\n\n\nGroup meets weekly\, except on federal holidays\, due to inclement weather\, or other church building closure.
URL:https://saintandrews.org/event/aa-gratitude-in-action-2/2025-11-09/
LOCATION:Great Hall – CRC Entrance/Door #6\, 900 Stillwater Rd\, Mahtomedi\, MN\, 55115\, United States
CATEGORIES:AA
ATTACH;FMTTYPE=image/jpeg:https://saintandrews.org/wp-content/uploads/AA-Meetings-1920x1080-1.jpg
END:VEVENT
BEGIN:VEVENT
DTSTART;TZID=UTC:20251107T190000
DTEND;TZID=UTC:20251107T200000
DTSTAMP:20260421T113520
CREATED:20240422T193419Z
LAST-MODIFIED:20250527T143122Z
UID:10005157-1762542000-1762545600@saintandrews.org
SUMMARY:NA - SUPPORT GROUP
DESCRIPTION:Fridays\, 7 p.m. Great Hall Room 5B \n\n\n\n Directions: Enter the church campus from the HiltonTrail/Stillwater Rd. intersection and take an immediate left toward the Great Hall. Enter the Great Hall building using door #6 (Community Resource Centerentrance). Just inside the building\, turn left toward the Community ResourceCenter and continue to Room 5B at the end of the hallway. \n\n\n\nGroup meets weekly\, except on federal holidays\, due to inclement weather\, or other church building closure.
URL:https://saintandrews.org/event/na-support-group-2/2025-11-07/
LOCATION:Great Hall – CRC Entrance/Door #6\, 900 Stillwater Rd\, Mahtomedi\, MN\, 55115\, United States
CATEGORIES:AA
ATTACH;FMTTYPE=image/jpeg:https://saintandrews.org/wp-content/uploads/AA-Meetings-1920x1080-1.jpg
END:VEVENT
BEGIN:VEVENT
DTSTART;TZID=UTC:20251107T190000
DTEND;TZID=UTC:20251107T200000
DTSTAMP:20260421T113520
CREATED:20240422T193257Z
LAST-MODIFIED:20250527T143033Z
UID:10004113-1762542000-1762545600@saintandrews.org
SUMMARY:AL - ANON - WORKS FAMILY GROUP
DESCRIPTION:Fridays\, 7 p.m. \n\n\n\nGreat Hall Dot Room \n\n\n\nDirections: Enter the church campus from the HiltonTrail/Stillwater Rd. intersection and take an immediate left toward the Great Hall. Enter the Great Hall building using door #6 (Community Resource Centerentrance). \n\n\n\n Group meets weekly\, except on federal holidays\, due to inclement weather\, or other church building closure.
URL:https://saintandrews.org/event/al-anon-works-family-group-2/2025-11-07/
LOCATION:Great Hall – CRC Entrance/Door #6\, 900 Stillwater Rd\, Mahtomedi\, MN\, 55115\, United States
CATEGORIES:AA
ATTACH;FMTTYPE=image/jpeg:https://saintandrews.org/wp-content/uploads/AA-Meetings-1920x1080-1.jpg
END:VEVENT
BEGIN:VEVENT
DTSTART;TZID=UTC:20251107T190000
DTEND;TZID=UTC:20251107T200000
DTSTAMP:20260421T113520
CREATED:20240422T193009Z
LAST-MODIFIED:20250527T142937Z
UID:10003330-1762542000-1762545600@saintandrews.org
SUMMARY:AA - 12 X 12 BY THE BOOK
DESCRIPTION:Fridays\, 7:00-8:00 p.m. Great Hall Room 2 \n\n\n\nDirections: Enter the church campus from the HiltonTrail/Stillwater Rd. intersection and take an immediate left toward the Great Hall. Enter the Great Hall building using door #6 (Community Resource Centerentrance). Room 2 is to the right just inside door #6. \n\n\n\nGroup meets weekly\, except on federal holidays\, due to inclement weather\, or other church building closure.
URL:https://saintandrews.org/event/aa-12-x-12-by-the-book-2/2025-11-07/
LOCATION:Great Hall – CRC Entrance/Door #6\, 900 Stillwater Rd\, Mahtomedi\, MN\, 55115\, United States
CATEGORIES:AA
ATTACH;FMTTYPE=image/jpeg:https://saintandrews.org/wp-content/uploads/AA-Meetings-1920x1080-1.jpg
END:VEVENT
BEGIN:VEVENT
DTSTART;TZID=UTC:20251107T173000
DTEND;TZID=UTC:20251107T183000
DTSTAMP:20260421T113520
CREATED:20240422T193057Z
LAST-MODIFIED:20250527T142828Z
UID:10003069-1762536600-1762540200@saintandrews.org
SUMMARY:AA - HAPPY HOUR 12 X 12
DESCRIPTION:Directions: Enter the church campus from the HiltonTrail/Stillwater Rd. intersection and take an immediate left toward the Great Hall. Enter the Great Hall building using door #6 (Community Resource Centerentrance). Room 2 is to the right just inside door #6. \n\n\n\nGroup meets weekly\, except on federal holidays\, due to inclement weather\, or other church building closure.
URL:https://saintandrews.org/event/aa-happy-hour-12-x-12-2/2025-11-07/
LOCATION:Great Hall – CRC Entrance/Door #6\, 900 Stillwater Rd\, Mahtomedi\, MN\, 55115\, United States
CATEGORIES:AA
ATTACH;FMTTYPE=image/jpeg:https://saintandrews.org/wp-content/uploads/AA-Meetings-1920x1080-1.jpg
END:VEVENT
BEGIN:VEVENT
DTSTART;TZID=UTC:20251106T180000
DTEND;TZID=UTC:20251106T190000
DTSTAMP:20260421T113520
CREATED:20250527T141549Z
LAST-MODIFIED:20250527T141550Z
UID:10006788-1762452000-1762455600@saintandrews.org
SUMMARY:THURSDAY NIGHT COMMUNITY MEAL
DESCRIPTION:Serving our community with a dine-in\, warm\, home-cooked meal.Thursdays 6-7 pm\, Great Hall\, Enter Door 6.No registration is necessary! \n\n\n\nPlease spread the word to those you may know that could benefit from this outreach ministry!
URL:https://saintandrews.org/event/thursday-night-community-meal-5/2025-11-06/
LOCATION:Great Hall – CRC Entrance/Door #6\, 900 Stillwater Rd\, Mahtomedi\, MN\, 55115\, United States
CATEGORIES:Missions
ATTACH;FMTTYPE=image/jpeg:https://saintandrews.org/wp-content/uploads/Thursday-Night-Community-Meal-2024-1920x1080-1.jpg
ORGANIZER;CN="CRC Office":MAILTO:office@saintandrews.org
END:VEVENT
BEGIN:VEVENT
DTSTART;TZID=UTC:20251102T190000
DTEND;TZID=UTC:20251102T200000
DTSTAMP:20260421T113520
CREATED:20240422T192829Z
LAST-MODIFIED:20241010T191823Z
UID:10004634-1762110000-1762113600@saintandrews.org
SUMMARY:AA - HAPPY\, JOYOUS\, & FREE
DESCRIPTION:Sundays\, 7:00-8:00 p.m. \n\n\n\nGreat Hall Room 2 \n\n\n\nDirections: Enter the church campus from the HiltonTrail/Stillwater Rd. intersection and take an immediate left toward the Great Hall. Enter the Great Hall building using door #6 (Community Resource Centerentrance). Room 2 is to the right just inside door #6. \n\n\n\nGroup meets weekly\, except on federal holidays\, due to inclement weather\, or other church building closure.
URL:https://saintandrews.org/event/aa-happy-joyous-free-2/2025-11-02/
LOCATION:Great Hall – CRC Entrance/Door #6\, 900 Stillwater Rd\, Mahtomedi\, MN\, 55115\, United States
CATEGORIES:AA
ATTACH;FMTTYPE=image/jpeg:https://saintandrews.org/wp-content/uploads/AA-Meetings-1920x1080-1.jpg
END:VEVENT
BEGIN:VEVENT
DTSTART;TZID=UTC:20251102T173000
DTEND;TZID=UTC:20251102T183000
DTSTAMP:20260421T113520
CREATED:20240422T192922Z
LAST-MODIFIED:20241010T191751Z
UID:10004373-1762104600-1762108200@saintandrews.org
SUMMARY:AA - GRATITUDE IN ACTION
DESCRIPTION:AA – Gratitude inAction \n\n\n\nSundays\, 5:30-6:30 p.m. \n\n\n\nGreat Hall Room 2 \n\n\n\nDirections: Enter the church campus from the HiltonTrail/Stillwater Rd. intersection and take an immediate left toward the Great Hall. Enter the Great Hall building using door #6 (Community Resource Centerentrance). Room 2 is to the right just inside door #6. \n\n\n\nGroup meets weekly\, except on federal holidays\, due to inclement weather\, or other church building closure.
URL:https://saintandrews.org/event/aa-gratitude-in-action-2/2025-11-02/
LOCATION:Great Hall – CRC Entrance/Door #6\, 900 Stillwater Rd\, Mahtomedi\, MN\, 55115\, United States
CATEGORIES:AA
ATTACH;FMTTYPE=image/jpeg:https://saintandrews.org/wp-content/uploads/AA-Meetings-1920x1080-1.jpg
END:VEVENT
BEGIN:VEVENT
DTSTART;TZID=UTC:20251031T190000
DTEND;TZID=UTC:20251031T200000
DTSTAMP:20260421T113520
CREATED:20240422T193419Z
LAST-MODIFIED:20250527T143122Z
UID:10005156-1761937200-1761940800@saintandrews.org
SUMMARY:NA - SUPPORT GROUP
DESCRIPTION:Fridays\, 7 p.m. Great Hall Room 5B \n\n\n\n Directions: Enter the church campus from the HiltonTrail/Stillwater Rd. intersection and take an immediate left toward the Great Hall. Enter the Great Hall building using door #6 (Community Resource Centerentrance). Just inside the building\, turn left toward the Community ResourceCenter and continue to Room 5B at the end of the hallway. \n\n\n\nGroup meets weekly\, except on federal holidays\, due to inclement weather\, or other church building closure.
URL:https://saintandrews.org/event/na-support-group-2/2025-10-31/
LOCATION:Great Hall – CRC Entrance/Door #6\, 900 Stillwater Rd\, Mahtomedi\, MN\, 55115\, United States
CATEGORIES:AA
ATTACH;FMTTYPE=image/jpeg:https://saintandrews.org/wp-content/uploads/AA-Meetings-1920x1080-1.jpg
END:VEVENT
BEGIN:VEVENT
DTSTART;TZID=UTC:20251031T190000
DTEND;TZID=UTC:20251031T200000
DTSTAMP:20260421T113520
CREATED:20240422T193257Z
LAST-MODIFIED:20250527T143033Z
UID:10004112-1761937200-1761940800@saintandrews.org
SUMMARY:AL - ANON - WORKS FAMILY GROUP
DESCRIPTION:Fridays\, 7 p.m. \n\n\n\nGreat Hall Dot Room \n\n\n\nDirections: Enter the church campus from the HiltonTrail/Stillwater Rd. intersection and take an immediate left toward the Great Hall. Enter the Great Hall building using door #6 (Community Resource Centerentrance). \n\n\n\n Group meets weekly\, except on federal holidays\, due to inclement weather\, or other church building closure.
URL:https://saintandrews.org/event/al-anon-works-family-group-2/2025-10-31/
LOCATION:Great Hall – CRC Entrance/Door #6\, 900 Stillwater Rd\, Mahtomedi\, MN\, 55115\, United States
CATEGORIES:AA
ATTACH;FMTTYPE=image/jpeg:https://saintandrews.org/wp-content/uploads/AA-Meetings-1920x1080-1.jpg
END:VEVENT
BEGIN:VEVENT
DTSTART;TZID=UTC:20251031T190000
DTEND;TZID=UTC:20251031T200000
DTSTAMP:20260421T113520
CREATED:20240422T193009Z
LAST-MODIFIED:20250527T142937Z
UID:10003329-1761937200-1761940800@saintandrews.org
SUMMARY:AA - 12 X 12 BY THE BOOK
DESCRIPTION:Fridays\, 7:00-8:00 p.m. Great Hall Room 2 \n\n\n\nDirections: Enter the church campus from the HiltonTrail/Stillwater Rd. intersection and take an immediate left toward the Great Hall. Enter the Great Hall building using door #6 (Community Resource Centerentrance). Room 2 is to the right just inside door #6. \n\n\n\nGroup meets weekly\, except on federal holidays\, due to inclement weather\, or other church building closure.
URL:https://saintandrews.org/event/aa-12-x-12-by-the-book-2/2025-10-31/
LOCATION:Great Hall – CRC Entrance/Door #6\, 900 Stillwater Rd\, Mahtomedi\, MN\, 55115\, United States
CATEGORIES:AA
ATTACH;FMTTYPE=image/jpeg:https://saintandrews.org/wp-content/uploads/AA-Meetings-1920x1080-1.jpg
END:VEVENT
BEGIN:VEVENT
DTSTART;TZID=UTC:20251031T173000
DTEND;TZID=UTC:20251031T183000
DTSTAMP:20260421T113520
CREATED:20240422T193057Z
LAST-MODIFIED:20250527T142828Z
UID:10003068-1761931800-1761935400@saintandrews.org
SUMMARY:AA - HAPPY HOUR 12 X 12
DESCRIPTION:Directions: Enter the church campus from the HiltonTrail/Stillwater Rd. intersection and take an immediate left toward the Great Hall. Enter the Great Hall building using door #6 (Community Resource Centerentrance). Room 2 is to the right just inside door #6. \n\n\n\nGroup meets weekly\, except on federal holidays\, due to inclement weather\, or other church building closure.
URL:https://saintandrews.org/event/aa-happy-hour-12-x-12-2/2025-10-31/
LOCATION:Great Hall – CRC Entrance/Door #6\, 900 Stillwater Rd\, Mahtomedi\, MN\, 55115\, United States
CATEGORIES:AA
ATTACH;FMTTYPE=image/jpeg:https://saintandrews.org/wp-content/uploads/AA-Meetings-1920x1080-1.jpg
END:VEVENT
BEGIN:VEVENT
DTSTART;TZID=UTC:20251030T180000
DTEND;TZID=UTC:20251030T190000
DTSTAMP:20260421T113520
CREATED:20250527T141549Z
LAST-MODIFIED:20250527T141550Z
UID:10006787-1761847200-1761850800@saintandrews.org
SUMMARY:THURSDAY NIGHT COMMUNITY MEAL
DESCRIPTION:Serving our community with a dine-in\, warm\, home-cooked meal.Thursdays 6-7 pm\, Great Hall\, Enter Door 6.No registration is necessary! \n\n\n\nPlease spread the word to those you may know that could benefit from this outreach ministry!
URL:https://saintandrews.org/event/thursday-night-community-meal-5/2025-10-30/
LOCATION:Great Hall – CRC Entrance/Door #6\, 900 Stillwater Rd\, Mahtomedi\, MN\, 55115\, United States
CATEGORIES:Missions
ATTACH;FMTTYPE=image/jpeg:https://saintandrews.org/wp-content/uploads/Thursday-Night-Community-Meal-2024-1920x1080-1.jpg
ORGANIZER;CN="CRC Office":MAILTO:office@saintandrews.org
END:VEVENT
BEGIN:VEVENT
DTSTART;TZID=UTC:20251026T190000
DTEND;TZID=UTC:20251026T200000
DTSTAMP:20260421T113520
CREATED:20240422T192829Z
LAST-MODIFIED:20241010T191823Z
UID:10004633-1761505200-1761508800@saintandrews.org
SUMMARY:AA - HAPPY\, JOYOUS\, & FREE
DESCRIPTION:Sundays\, 7:00-8:00 p.m. \n\n\n\nGreat Hall Room 2 \n\n\n\nDirections: Enter the church campus from the HiltonTrail/Stillwater Rd. intersection and take an immediate left toward the Great Hall. Enter the Great Hall building using door #6 (Community Resource Centerentrance). Room 2 is to the right just inside door #6. \n\n\n\nGroup meets weekly\, except on federal holidays\, due to inclement weather\, or other church building closure.
URL:https://saintandrews.org/event/aa-happy-joyous-free-2/2025-10-26/
LOCATION:Great Hall – CRC Entrance/Door #6\, 900 Stillwater Rd\, Mahtomedi\, MN\, 55115\, United States
CATEGORIES:AA
ATTACH;FMTTYPE=image/jpeg:https://saintandrews.org/wp-content/uploads/AA-Meetings-1920x1080-1.jpg
END:VEVENT
END:VCALENDAR