BEGIN:VCALENDAR
VERSION:2.0
PRODID:-//St. Andrew&#039;s Lutheran Church - ECPv6.15.20//NONSGML v1.0//EN
CALSCALE:GREGORIAN
METHOD:PUBLISH
X-ORIGINAL-URL:https://saintandrews.org
X-WR-CALDESC:Events for St. Andrew&#039;s Lutheran Church
REFRESH-INTERVAL;VALUE=DURATION:PT1H
X-Robots-Tag:noindex
X-PUBLISHED-TTL:PT1H
BEGIN:VTIMEZONE
TZID:UTC
BEGIN:STANDARD
TZOFFSETFROM:+0000
TZOFFSETTO:+0000
TZNAME:UTC
DTSTART:20230101T000000
END:STANDARD
END:VTIMEZONE
BEGIN:VEVENT
DTSTART;TZID=UTC:20240302T170000
DTEND;TZID=UTC:20240302T180000
DTSTAMP:20260425T114212
CREATED:20240406T070634Z
LAST-MODIFIED:20240502T211306Z
UID:10002710-1709398800-1709402400@saintandrews.org
SUMMARY:CONTEMPORARY WORSHIP SERVICE - IN PERSON & ONLINE
DESCRIPTION:Saturday at 5:00 p.m. in the Great Hall \n\n\n\nSaturday evening worship services are at 5pm in the Great Hall and also live streamed via ChurchOnline.
URL:https://saintandrews.org/event/contemporary-worship-service-in-person-online/2024-03-02/
ATTACH;FMTTYPE=image/jpeg:https://saintandrews.org/wp-content/uploads/Contemporary-Worship-2024-1920x1080-1.jpg
ORGANIZER;CN="St. Andrew's Lutheran Church":MAILTO:office@saintandrews.org
END:VEVENT
BEGIN:VEVENT
DTSTART;TZID=UTC:20240228T164500
DTEND;TZID=UTC:20240228T181500
DTSTAMP:20260425T114212
CREATED:20240405T193215Z
LAST-MODIFIED:20240405T193218Z
UID:10002095-1709138700-1709144100@saintandrews.org
SUMMARY:WEDNESDAY NIGHT DINNER
DESCRIPTION:Wednesday night is church night! We serve a delicious home-cooked meal for children\, adults\, and families participating in Wednesday programs (including kids and adult choirs\, Confirmation\, and LIFEU) and anyone looking for a break from cooking. Dinner is available 4:45-6:15 p.m. in the Sanctuary Fellowship Hall. Cost is $7 per person with a $25 family maximum. Kids 3 and under eat free. Cash\, check\, debit/credit cards\, and Apple Pay accepted. We could use your help! Join our volunteer teams that prepare the meal\, setup and serve\, or clean up. It’s a fun\, exciting way to be part of our church family together. All shifts occur in the Sanctuary Fellowship Hall. Click the VOLUNTEER button below for more details.
URL:https://saintandrews.org/event/wednesday-night-dinner/2024-02-28/
ATTACH;FMTTYPE=image/jpeg:https://saintandrews.org/wp-content/uploads/2024/04/image-2.jpg
ORGANIZER;CN="St. Andrew's Lutheran Church":MAILTO:office@saintandrews.org
END:VEVENT
BEGIN:VEVENT
DTSTART;TZID=UTC:20240224T170000
DTEND;TZID=UTC:20240224T180000
DTSTAMP:20260425T114212
CREATED:20240406T070634Z
LAST-MODIFIED:20240502T211306Z
UID:10002709-1708794000-1708797600@saintandrews.org
SUMMARY:CONTEMPORARY WORSHIP SERVICE - IN PERSON & ONLINE
DESCRIPTION:Saturday at 5:00 p.m. in the Great Hall \n\n\n\nSaturday evening worship services are at 5pm in the Great Hall and also live streamed via ChurchOnline.
URL:https://saintandrews.org/event/contemporary-worship-service-in-person-online/2024-02-24/
ATTACH;FMTTYPE=image/jpeg:https://saintandrews.org/wp-content/uploads/Contemporary-Worship-2024-1920x1080-1.jpg
ORGANIZER;CN="St. Andrew's Lutheran Church":MAILTO:office@saintandrews.org
END:VEVENT
BEGIN:VEVENT
DTSTART;TZID=UTC:20240221T164500
DTEND;TZID=UTC:20240221T181500
DTSTAMP:20260425T114212
CREATED:20240405T193215Z
LAST-MODIFIED:20240405T193218Z
UID:10002094-1708533900-1708539300@saintandrews.org
SUMMARY:WEDNESDAY NIGHT DINNER
DESCRIPTION:Wednesday night is church night! We serve a delicious home-cooked meal for children\, adults\, and families participating in Wednesday programs (including kids and adult choirs\, Confirmation\, and LIFEU) and anyone looking for a break from cooking. Dinner is available 4:45-6:15 p.m. in the Sanctuary Fellowship Hall. Cost is $7 per person with a $25 family maximum. Kids 3 and under eat free. Cash\, check\, debit/credit cards\, and Apple Pay accepted. We could use your help! Join our volunteer teams that prepare the meal\, setup and serve\, or clean up. It’s a fun\, exciting way to be part of our church family together. All shifts occur in the Sanctuary Fellowship Hall. Click the VOLUNTEER button below for more details.
URL:https://saintandrews.org/event/wednesday-night-dinner/2024-02-21/
ATTACH;FMTTYPE=image/jpeg:https://saintandrews.org/wp-content/uploads/2024/04/image-2.jpg
ORGANIZER;CN="St. Andrew's Lutheran Church":MAILTO:office@saintandrews.org
END:VEVENT
BEGIN:VEVENT
DTSTART;TZID=UTC:20240217T170000
DTEND;TZID=UTC:20240217T180000
DTSTAMP:20260425T114212
CREATED:20240406T070634Z
LAST-MODIFIED:20240502T211306Z
UID:10002708-1708189200-1708192800@saintandrews.org
SUMMARY:CONTEMPORARY WORSHIP SERVICE - IN PERSON & ONLINE
DESCRIPTION:Saturday at 5:00 p.m. in the Great Hall \n\n\n\nSaturday evening worship services are at 5pm in the Great Hall and also live streamed via ChurchOnline.
URL:https://saintandrews.org/event/contemporary-worship-service-in-person-online/2024-02-17/
ATTACH;FMTTYPE=image/jpeg:https://saintandrews.org/wp-content/uploads/Contemporary-Worship-2024-1920x1080-1.jpg
ORGANIZER;CN="St. Andrew's Lutheran Church":MAILTO:office@saintandrews.org
END:VEVENT
BEGIN:VEVENT
DTSTART;TZID=UTC:20240214T164500
DTEND;TZID=UTC:20240214T181500
DTSTAMP:20260425T114212
CREATED:20240405T193215Z
LAST-MODIFIED:20240405T193218Z
UID:10002093-1707929100-1707934500@saintandrews.org
SUMMARY:WEDNESDAY NIGHT DINNER
DESCRIPTION:Wednesday night is church night! We serve a delicious home-cooked meal for children\, adults\, and families participating in Wednesday programs (including kids and adult choirs\, Confirmation\, and LIFEU) and anyone looking for a break from cooking. Dinner is available 4:45-6:15 p.m. in the Sanctuary Fellowship Hall. Cost is $7 per person with a $25 family maximum. Kids 3 and under eat free. Cash\, check\, debit/credit cards\, and Apple Pay accepted. We could use your help! Join our volunteer teams that prepare the meal\, setup and serve\, or clean up. It’s a fun\, exciting way to be part of our church family together. All shifts occur in the Sanctuary Fellowship Hall. Click the VOLUNTEER button below for more details.
URL:https://saintandrews.org/event/wednesday-night-dinner/2024-02-14/
ATTACH;FMTTYPE=image/jpeg:https://saintandrews.org/wp-content/uploads/2024/04/image-2.jpg
ORGANIZER;CN="St. Andrew's Lutheran Church":MAILTO:office@saintandrews.org
END:VEVENT
BEGIN:VEVENT
DTSTART;TZID=UTC:20240210T170000
DTEND;TZID=UTC:20240210T180000
DTSTAMP:20260425T114212
CREATED:20240406T070634Z
LAST-MODIFIED:20240502T211306Z
UID:10002707-1707584400-1707588000@saintandrews.org
SUMMARY:CONTEMPORARY WORSHIP SERVICE - IN PERSON & ONLINE
DESCRIPTION:Saturday at 5:00 p.m. in the Great Hall \n\n\n\nSaturday evening worship services are at 5pm in the Great Hall and also live streamed via ChurchOnline.
URL:https://saintandrews.org/event/contemporary-worship-service-in-person-online/2024-02-10/
ATTACH;FMTTYPE=image/jpeg:https://saintandrews.org/wp-content/uploads/Contemporary-Worship-2024-1920x1080-1.jpg
ORGANIZER;CN="St. Andrew's Lutheran Church":MAILTO:office@saintandrews.org
END:VEVENT
BEGIN:VEVENT
DTSTART;TZID=UTC:20240207T164500
DTEND;TZID=UTC:20240207T181500
DTSTAMP:20260425T114212
CREATED:20240405T193215Z
LAST-MODIFIED:20240405T193218Z
UID:10002092-1707324300-1707329700@saintandrews.org
SUMMARY:WEDNESDAY NIGHT DINNER
DESCRIPTION:Wednesday night is church night! We serve a delicious home-cooked meal for children\, adults\, and families participating in Wednesday programs (including kids and adult choirs\, Confirmation\, and LIFEU) and anyone looking for a break from cooking. Dinner is available 4:45-6:15 p.m. in the Sanctuary Fellowship Hall. Cost is $7 per person with a $25 family maximum. Kids 3 and under eat free. Cash\, check\, debit/credit cards\, and Apple Pay accepted. We could use your help! Join our volunteer teams that prepare the meal\, setup and serve\, or clean up. It’s a fun\, exciting way to be part of our church family together. All shifts occur in the Sanctuary Fellowship Hall. Click the VOLUNTEER button below for more details.
URL:https://saintandrews.org/event/wednesday-night-dinner/2024-02-07/
ATTACH;FMTTYPE=image/jpeg:https://saintandrews.org/wp-content/uploads/2024/04/image-2.jpg
ORGANIZER;CN="St. Andrew's Lutheran Church":MAILTO:office@saintandrews.org
END:VEVENT
BEGIN:VEVENT
DTSTART;TZID=UTC:20240203T170000
DTEND;TZID=UTC:20240203T180000
DTSTAMP:20260425T114212
CREATED:20240406T070634Z
LAST-MODIFIED:20240502T211306Z
UID:10002706-1706979600-1706983200@saintandrews.org
SUMMARY:CONTEMPORARY WORSHIP SERVICE - IN PERSON & ONLINE
DESCRIPTION:Saturday at 5:00 p.m. in the Great Hall \n\n\n\nSaturday evening worship services are at 5pm in the Great Hall and also live streamed via ChurchOnline.
URL:https://saintandrews.org/event/contemporary-worship-service-in-person-online/2024-02-03/
ATTACH;FMTTYPE=image/jpeg:https://saintandrews.org/wp-content/uploads/Contemporary-Worship-2024-1920x1080-1.jpg
ORGANIZER;CN="St. Andrew's Lutheran Church":MAILTO:office@saintandrews.org
END:VEVENT
END:VCALENDAR