BEGIN:VCALENDAR
VERSION:2.0
PRODID:-//St. Andrew&#039;s Lutheran Church - ECPv6.15.20//NONSGML v1.0//EN
CALSCALE:GREGORIAN
METHOD:PUBLISH
X-WR-CALNAME:St. Andrew&#039;s Lutheran Church
X-ORIGINAL-URL:https://saintandrews.org
X-WR-CALDESC:Events for St. Andrew&#039;s Lutheran Church
REFRESH-INTERVAL;VALUE=DURATION:PT1H
X-Robots-Tag:noindex
X-PUBLISHED-TTL:PT1H
BEGIN:VTIMEZONE
TZID:UTC
BEGIN:STANDARD
TZOFFSETFROM:+0000
TZOFFSETTO:+0000
TZNAME:UTC
DTSTART:20230101T000000
END:STANDARD
END:VTIMEZONE
BEGIN:VEVENT
DTSTART;TZID=UTC:20240519T190000
DTEND;TZID=UTC:20240519T210000
DTSTAMP:20260425T091628
CREATED:20240416T195904Z
LAST-MODIFIED:20240416T200117Z
UID:10005349-1716145200-1716152400@saintandrews.org
SUMMARY:GATHER PRESENTS: A PINT SIZED GATHERING
DESCRIPTION:Young Adult Event – 20’s & 30’s \n\n\n\nJoin with other young adults from around the Twin Cities for an evening of fellowship and fun at a brewery in Minneapolis. (Exact location to be announced at a later date.) Drinks available for purchase\, including NA and gluten free options.
URL:https://saintandrews.org/event/gather-presents-a-pint-sized-gathering/
CATEGORIES:Adult Ministries
ATTACH;FMTTYPE=image/jpeg:https://saintandrews.org/wp-content/uploads/2024/04/image-22.jpg
ORGANIZER;CN="St. Andrew's Lutheran Church":MAILTO:office@saintandrews.org
END:VEVENT
BEGIN:VEVENT
DTSTART;TZID=UTC:20240518T170000
DTEND;TZID=UTC:20240518T180000
DTSTAMP:20260425T091628
CREATED:20240406T070634Z
LAST-MODIFIED:20240502T211306Z
UID:10002721-1716051600-1716055200@saintandrews.org
SUMMARY:CONTEMPORARY WORSHIP SERVICE - IN PERSON & ONLINE
DESCRIPTION:Saturday at 5:00 p.m. in the Great Hall \n\n\n\nSaturday evening worship services are at 5pm in the Great Hall and also live streamed via ChurchOnline.
URL:https://saintandrews.org/event/contemporary-worship-service-in-person-online/2024-05-18/
ATTACH;FMTTYPE=image/jpeg:https://saintandrews.org/wp-content/uploads/Contemporary-Worship-2024-1920x1080-1.jpg
ORGANIZER;CN="St. Andrew's Lutheran Church":MAILTO:office@saintandrews.org
END:VEVENT
BEGIN:VEVENT
DTSTART;TZID=UTC:20240511T170000
DTEND;TZID=UTC:20240511T180000
DTSTAMP:20260425T091628
CREATED:20240406T070634Z
LAST-MODIFIED:20240502T211306Z
UID:10002720-1715446800-1715450400@saintandrews.org
SUMMARY:CONTEMPORARY WORSHIP SERVICE - IN PERSON & ONLINE
DESCRIPTION:Saturday at 5:00 p.m. in the Great Hall \n\n\n\nSaturday evening worship services are at 5pm in the Great Hall and also live streamed via ChurchOnline.
URL:https://saintandrews.org/event/contemporary-worship-service-in-person-online/2024-05-11/
ATTACH;FMTTYPE=image/jpeg:https://saintandrews.org/wp-content/uploads/Contemporary-Worship-2024-1920x1080-1.jpg
ORGANIZER;CN="St. Andrew's Lutheran Church":MAILTO:office@saintandrews.org
END:VEVENT
BEGIN:VEVENT
DTSTART;TZID=UTC:20240508T164500
DTEND;TZID=UTC:20240508T181500
DTSTAMP:20260425T091628
CREATED:20240422T004417Z
LAST-MODIFIED:20240424T233126Z
UID:10002105-1715186700-1715192100@saintandrews.org
SUMMARY:WEDNESDAY NIGHT DINNER
DESCRIPTION:Wednesday night is church night! September through May\, enjoy a delicious home-cooked meal for children\, adults\, and families participating in Wednesday programs (including kids and adult choirs\, Confirmation\, and LIFEU) and anyone looking for a break from cooking. Dinner is available 4:45-6:15pm in the Sanctuary Fellowship Hall. Cost: $7 per person; $25 family maximum. Kids 3 and under eat free. Cash\, check\, debit/credit cards\, and Apple Pay accepted. We could use your help! Join our volunteer teams that prepare the meal\, setup and serve\, or clean up. It’s a fun way to be part of our church family together. All shifts occur in the Sanctuary Fellowship Hall. Click the VOLUNTEER button below for more details.
URL:https://saintandrews.org/event/wednesday-night-dinner-2/2024-05-08/
ATTACH;FMTTYPE=image/jpeg:https://saintandrews.org/wp-content/uploads/Wednesday-Night-Dinner-2024-1920x1080-1.jpg
ORGANIZER;CN="St. Andrew's Lutheran Church":MAILTO:office@saintandrews.org
END:VEVENT
BEGIN:VEVENT
DTSTART;TZID=UTC:20240507T180000
DTEND;TZID=UTC:20240507T200000
DTSTAMP:20260425T091628
CREATED:20240416T194544Z
LAST-MODIFIED:20240507T203207Z
UID:10005348-1715104800-1715112000@saintandrews.org
SUMMARY:BELONGING & INCLUSION VIDEO NIGHT
DESCRIPTION:Best-selling author David Grann talks about how he found the story of the forgotten Osage murders that became the basis for his book\, “Killers of the Flower Moon\,” and who is making it into a movie. Meeting via Zoom only. Video starts at 6:30pm.
URL:https://saintandrews.org/event/belonging-inclusion-video-night/
CATEGORIES:Belonging & Inclusion,Special Interest Groups
ATTACH;FMTTYPE=image/jpeg:https://saintandrews.org/wp-content/uploads/Belonging-and-Inclusion-1920x1080-1.jpg
ORGANIZER;CN="St. Andrew's Lutheran Church":MAILTO:office@saintandrews.org
END:VEVENT
BEGIN:VEVENT
DTSTART;TZID=UTC:20240504T170000
DTEND;TZID=UTC:20240504T180000
DTSTAMP:20260425T091628
CREATED:20240406T070634Z
LAST-MODIFIED:20240502T211306Z
UID:10002719-1714842000-1714845600@saintandrews.org
SUMMARY:CONTEMPORARY WORSHIP SERVICE - IN PERSON & ONLINE
DESCRIPTION:Saturday at 5:00 p.m. in the Great Hall \n\n\n\nSaturday evening worship services are at 5pm in the Great Hall and also live streamed via ChurchOnline.
URL:https://saintandrews.org/event/contemporary-worship-service-in-person-online/2024-05-04/
ATTACH;FMTTYPE=image/jpeg:https://saintandrews.org/wp-content/uploads/Contemporary-Worship-2024-1920x1080-1.jpg
ORGANIZER;CN="St. Andrew's Lutheran Church":MAILTO:office@saintandrews.org
END:VEVENT
BEGIN:VEVENT
DTSTART;TZID=UTC:20240501T164500
DTEND;TZID=UTC:20240501T181500
DTSTAMP:20260425T091628
CREATED:20240422T004417Z
LAST-MODIFIED:20240424T233126Z
UID:10002104-1714581900-1714587300@saintandrews.org
SUMMARY:WEDNESDAY NIGHT DINNER
DESCRIPTION:Wednesday night is church night! September through May\, enjoy a delicious home-cooked meal for children\, adults\, and families participating in Wednesday programs (including kids and adult choirs\, Confirmation\, and LIFEU) and anyone looking for a break from cooking. Dinner is available 4:45-6:15pm in the Sanctuary Fellowship Hall. Cost: $7 per person; $25 family maximum. Kids 3 and under eat free. Cash\, check\, debit/credit cards\, and Apple Pay accepted. We could use your help! Join our volunteer teams that prepare the meal\, setup and serve\, or clean up. It’s a fun way to be part of our church family together. All shifts occur in the Sanctuary Fellowship Hall. Click the VOLUNTEER button below for more details.
URL:https://saintandrews.org/event/wednesday-night-dinner-2/2024-05-01/
ATTACH;FMTTYPE=image/jpeg:https://saintandrews.org/wp-content/uploads/Wednesday-Night-Dinner-2024-1920x1080-1.jpg
ORGANIZER;CN="St. Andrew's Lutheran Church":MAILTO:office@saintandrews.org
END:VEVENT
BEGIN:VEVENT
DTSTART;TZID=UTC:20240427T170000
DTEND;TZID=UTC:20240427T180000
DTSTAMP:20260425T091628
CREATED:20240406T070634Z
LAST-MODIFIED:20240502T211306Z
UID:10002718-1714237200-1714240800@saintandrews.org
SUMMARY:CONTEMPORARY WORSHIP SERVICE - IN PERSON & ONLINE
DESCRIPTION:Saturday at 5:00 p.m. in the Great Hall \n\n\n\nSaturday evening worship services are at 5pm in the Great Hall and also live streamed via ChurchOnline.
URL:https://saintandrews.org/event/contemporary-worship-service-in-person-online/2024-04-27/
ATTACH;FMTTYPE=image/jpeg:https://saintandrews.org/wp-content/uploads/Contemporary-Worship-2024-1920x1080-1.jpg
ORGANIZER;CN="St. Andrew's Lutheran Church":MAILTO:office@saintandrews.org
END:VEVENT
BEGIN:VEVENT
DTSTART;TZID=UTC:20240424T164500
DTEND;TZID=UTC:20240424T181500
DTSTAMP:20260425T091628
CREATED:20240422T004417Z
LAST-MODIFIED:20240424T233126Z
UID:10002103-1713977100-1713982500@saintandrews.org
SUMMARY:WEDNESDAY NIGHT DINNER
DESCRIPTION:Wednesday night is church night! September through May\, enjoy a delicious home-cooked meal for children\, adults\, and families participating in Wednesday programs (including kids and adult choirs\, Confirmation\, and LIFEU) and anyone looking for a break from cooking. Dinner is available 4:45-6:15pm in the Sanctuary Fellowship Hall. Cost: $7 per person; $25 family maximum. Kids 3 and under eat free. Cash\, check\, debit/credit cards\, and Apple Pay accepted. We could use your help! Join our volunteer teams that prepare the meal\, setup and serve\, or clean up. It’s a fun way to be part of our church family together. All shifts occur in the Sanctuary Fellowship Hall. Click the VOLUNTEER button below for more details.
URL:https://saintandrews.org/event/wednesday-night-dinner-2/2024-04-24/
ATTACH;FMTTYPE=image/jpeg:https://saintandrews.org/wp-content/uploads/Wednesday-Night-Dinner-2024-1920x1080-1.jpg
ORGANIZER;CN="St. Andrew's Lutheran Church":MAILTO:office@saintandrews.org
END:VEVENT
BEGIN:VEVENT
DTSTART;TZID=UTC:20240420T170000
DTEND;TZID=UTC:20240420T180000
DTSTAMP:20260425T091628
CREATED:20240406T070634Z
LAST-MODIFIED:20240502T211306Z
UID:10002717-1713632400-1713636000@saintandrews.org
SUMMARY:CONTEMPORARY WORSHIP SERVICE - IN PERSON & ONLINE
DESCRIPTION:Saturday at 5:00 p.m. in the Great Hall \n\n\n\nSaturday evening worship services are at 5pm in the Great Hall and also live streamed via ChurchOnline.
URL:https://saintandrews.org/event/contemporary-worship-service-in-person-online/2024-04-20/
ATTACH;FMTTYPE=image/jpeg:https://saintandrews.org/wp-content/uploads/Contemporary-Worship-2024-1920x1080-1.jpg
ORGANIZER;CN="St. Andrew's Lutheran Church":MAILTO:office@saintandrews.org
END:VEVENT
BEGIN:VEVENT
DTSTART;TZID=UTC:20240417T164500
DTEND;TZID=UTC:20240417T181500
DTSTAMP:20260425T091628
CREATED:20240405T193215Z
LAST-MODIFIED:20240405T193218Z
UID:10002102-1713372300-1713377700@saintandrews.org
SUMMARY:WEDNESDAY NIGHT DINNER
DESCRIPTION:Wednesday night is church night! We serve a delicious home-cooked meal for children\, adults\, and families participating in Wednesday programs (including kids and adult choirs\, Confirmation\, and LIFEU) and anyone looking for a break from cooking. Dinner is available 4:45-6:15 p.m. in the Sanctuary Fellowship Hall. Cost is $7 per person with a $25 family maximum. Kids 3 and under eat free. Cash\, check\, debit/credit cards\, and Apple Pay accepted. We could use your help! Join our volunteer teams that prepare the meal\, setup and serve\, or clean up. It’s a fun\, exciting way to be part of our church family together. All shifts occur in the Sanctuary Fellowship Hall. Click the VOLUNTEER button below for more details.
URL:https://saintandrews.org/event/wednesday-night-dinner/2024-04-17/
ATTACH;FMTTYPE=image/jpeg:https://saintandrews.org/wp-content/uploads/2024/04/image-2.jpg
ORGANIZER;CN="St. Andrew's Lutheran Church":MAILTO:office@saintandrews.org
END:VEVENT
BEGIN:VEVENT
DTSTART;TZID=UTC:20240413T170000
DTEND;TZID=UTC:20240413T180000
DTSTAMP:20260425T091628
CREATED:20240406T070634Z
LAST-MODIFIED:20240502T211306Z
UID:10002716-1713027600-1713031200@saintandrews.org
SUMMARY:CONTEMPORARY WORSHIP SERVICE - IN PERSON & ONLINE
DESCRIPTION:Saturday at 5:00 p.m. in the Great Hall \n\n\n\nSaturday evening worship services are at 5pm in the Great Hall and also live streamed via ChurchOnline.
URL:https://saintandrews.org/event/contemporary-worship-service-in-person-online/2024-04-13/
ATTACH;FMTTYPE=image/jpeg:https://saintandrews.org/wp-content/uploads/Contemporary-Worship-2024-1920x1080-1.jpg
ORGANIZER;CN="St. Andrew's Lutheran Church":MAILTO:office@saintandrews.org
END:VEVENT
BEGIN:VEVENT
DTSTART;TZID=UTC:20240410T164500
DTEND;TZID=UTC:20240410T181500
DTSTAMP:20260425T091628
CREATED:20240405T193215Z
LAST-MODIFIED:20240405T193218Z
UID:10002101-1712767500-1712772900@saintandrews.org
SUMMARY:WEDNESDAY NIGHT DINNER
DESCRIPTION:Wednesday night is church night! We serve a delicious home-cooked meal for children\, adults\, and families participating in Wednesday programs (including kids and adult choirs\, Confirmation\, and LIFEU) and anyone looking for a break from cooking. Dinner is available 4:45-6:15 p.m. in the Sanctuary Fellowship Hall. Cost is $7 per person with a $25 family maximum. Kids 3 and under eat free. Cash\, check\, debit/credit cards\, and Apple Pay accepted. We could use your help! Join our volunteer teams that prepare the meal\, setup and serve\, or clean up. It’s a fun\, exciting way to be part of our church family together. All shifts occur in the Sanctuary Fellowship Hall. Click the VOLUNTEER button below for more details.
URL:https://saintandrews.org/event/wednesday-night-dinner/2024-04-10/
ATTACH;FMTTYPE=image/jpeg:https://saintandrews.org/wp-content/uploads/2024/04/image-2.jpg
ORGANIZER;CN="St. Andrew's Lutheran Church":MAILTO:office@saintandrews.org
END:VEVENT
BEGIN:VEVENT
DTSTART;TZID=UTC:20240406T170000
DTEND;TZID=UTC:20240406T180000
DTSTAMP:20260425T091628
CREATED:20240406T070634Z
LAST-MODIFIED:20240502T211306Z
UID:10002715-1712422800-1712426400@saintandrews.org
SUMMARY:CONTEMPORARY WORSHIP SERVICE - IN PERSON & ONLINE
DESCRIPTION:Saturday at 5:00 p.m. in the Great Hall \n\n\n\nSaturday evening worship services are at 5pm in the Great Hall and also live streamed via ChurchOnline.
URL:https://saintandrews.org/event/contemporary-worship-service-in-person-online/2024-04-06/
ATTACH;FMTTYPE=image/jpeg:https://saintandrews.org/wp-content/uploads/Contemporary-Worship-2024-1920x1080-1.jpg
ORGANIZER;CN="St. Andrew's Lutheran Church":MAILTO:office@saintandrews.org
END:VEVENT
BEGIN:VEVENT
DTSTART;TZID=UTC:20240403T164500
DTEND;TZID=UTC:20240403T181500
DTSTAMP:20260425T091628
CREATED:20240405T193215Z
LAST-MODIFIED:20240405T193218Z
UID:10002100-1712162700-1712168100@saintandrews.org
SUMMARY:WEDNESDAY NIGHT DINNER
DESCRIPTION:Wednesday night is church night! We serve a delicious home-cooked meal for children\, adults\, and families participating in Wednesday programs (including kids and adult choirs\, Confirmation\, and LIFEU) and anyone looking for a break from cooking. Dinner is available 4:45-6:15 p.m. in the Sanctuary Fellowship Hall. Cost is $7 per person with a $25 family maximum. Kids 3 and under eat free. Cash\, check\, debit/credit cards\, and Apple Pay accepted. We could use your help! Join our volunteer teams that prepare the meal\, setup and serve\, or clean up. It’s a fun\, exciting way to be part of our church family together. All shifts occur in the Sanctuary Fellowship Hall. Click the VOLUNTEER button below for more details.
URL:https://saintandrews.org/event/wednesday-night-dinner/2024-04-03/
ATTACH;FMTTYPE=image/jpeg:https://saintandrews.org/wp-content/uploads/2024/04/image-2.jpg
ORGANIZER;CN="St. Andrew's Lutheran Church":MAILTO:office@saintandrews.org
END:VEVENT
BEGIN:VEVENT
DTSTART;TZID=UTC:20240330T170000
DTEND;TZID=UTC:20240330T180000
DTSTAMP:20260425T091628
CREATED:20240406T070634Z
LAST-MODIFIED:20240502T211306Z
UID:10002714-1711818000-1711821600@saintandrews.org
SUMMARY:CONTEMPORARY WORSHIP SERVICE - IN PERSON & ONLINE
DESCRIPTION:Saturday at 5:00 p.m. in the Great Hall \n\n\n\nSaturday evening worship services are at 5pm in the Great Hall and also live streamed via ChurchOnline.
URL:https://saintandrews.org/event/contemporary-worship-service-in-person-online/2024-03-30/
ATTACH;FMTTYPE=image/jpeg:https://saintandrews.org/wp-content/uploads/Contemporary-Worship-2024-1920x1080-1.jpg
ORGANIZER;CN="St. Andrew's Lutheran Church":MAILTO:office@saintandrews.org
END:VEVENT
BEGIN:VEVENT
DTSTART;TZID=UTC:20240327T164500
DTEND;TZID=UTC:20240327T181500
DTSTAMP:20260425T091628
CREATED:20240405T193215Z
LAST-MODIFIED:20240405T193218Z
UID:10002099-1711557900-1711563300@saintandrews.org
SUMMARY:WEDNESDAY NIGHT DINNER
DESCRIPTION:Wednesday night is church night! We serve a delicious home-cooked meal for children\, adults\, and families participating in Wednesday programs (including kids and adult choirs\, Confirmation\, and LIFEU) and anyone looking for a break from cooking. Dinner is available 4:45-6:15 p.m. in the Sanctuary Fellowship Hall. Cost is $7 per person with a $25 family maximum. Kids 3 and under eat free. Cash\, check\, debit/credit cards\, and Apple Pay accepted. We could use your help! Join our volunteer teams that prepare the meal\, setup and serve\, or clean up. It’s a fun\, exciting way to be part of our church family together. All shifts occur in the Sanctuary Fellowship Hall. Click the VOLUNTEER button below for more details.
URL:https://saintandrews.org/event/wednesday-night-dinner/2024-03-27/
ATTACH;FMTTYPE=image/jpeg:https://saintandrews.org/wp-content/uploads/2024/04/image-2.jpg
ORGANIZER;CN="St. Andrew's Lutheran Church":MAILTO:office@saintandrews.org
END:VEVENT
BEGIN:VEVENT
DTSTART;TZID=UTC:20240323T170000
DTEND;TZID=UTC:20240323T180000
DTSTAMP:20260425T091628
CREATED:20240406T070634Z
LAST-MODIFIED:20240502T211306Z
UID:10002713-1711213200-1711216800@saintandrews.org
SUMMARY:CONTEMPORARY WORSHIP SERVICE - IN PERSON & ONLINE
DESCRIPTION:Saturday at 5:00 p.m. in the Great Hall \n\n\n\nSaturday evening worship services are at 5pm in the Great Hall and also live streamed via ChurchOnline.
URL:https://saintandrews.org/event/contemporary-worship-service-in-person-online/2024-03-23/
ATTACH;FMTTYPE=image/jpeg:https://saintandrews.org/wp-content/uploads/Contemporary-Worship-2024-1920x1080-1.jpg
ORGANIZER;CN="St. Andrew's Lutheran Church":MAILTO:office@saintandrews.org
END:VEVENT
BEGIN:VEVENT
DTSTART;TZID=UTC:20240320T164500
DTEND;TZID=UTC:20240320T181500
DTSTAMP:20260425T091628
CREATED:20240405T193215Z
LAST-MODIFIED:20240405T193218Z
UID:10002098-1710953100-1710958500@saintandrews.org
SUMMARY:WEDNESDAY NIGHT DINNER
DESCRIPTION:Wednesday night is church night! We serve a delicious home-cooked meal for children\, adults\, and families participating in Wednesday programs (including kids and adult choirs\, Confirmation\, and LIFEU) and anyone looking for a break from cooking. Dinner is available 4:45-6:15 p.m. in the Sanctuary Fellowship Hall. Cost is $7 per person with a $25 family maximum. Kids 3 and under eat free. Cash\, check\, debit/credit cards\, and Apple Pay accepted. We could use your help! Join our volunteer teams that prepare the meal\, setup and serve\, or clean up. It’s a fun\, exciting way to be part of our church family together. All shifts occur in the Sanctuary Fellowship Hall. Click the VOLUNTEER button below for more details.
URL:https://saintandrews.org/event/wednesday-night-dinner/2024-03-20/
ATTACH;FMTTYPE=image/jpeg:https://saintandrews.org/wp-content/uploads/2024/04/image-2.jpg
ORGANIZER;CN="St. Andrew's Lutheran Church":MAILTO:office@saintandrews.org
END:VEVENT
BEGIN:VEVENT
DTSTART;TZID=UTC:20240316T170000
DTEND;TZID=UTC:20240316T180000
DTSTAMP:20260425T091628
CREATED:20240406T070634Z
LAST-MODIFIED:20240502T211306Z
UID:10002712-1710608400-1710612000@saintandrews.org
SUMMARY:CONTEMPORARY WORSHIP SERVICE - IN PERSON & ONLINE
DESCRIPTION:Saturday at 5:00 p.m. in the Great Hall \n\n\n\nSaturday evening worship services are at 5pm in the Great Hall and also live streamed via ChurchOnline.
URL:https://saintandrews.org/event/contemporary-worship-service-in-person-online/2024-03-16/
ATTACH;FMTTYPE=image/jpeg:https://saintandrews.org/wp-content/uploads/Contemporary-Worship-2024-1920x1080-1.jpg
ORGANIZER;CN="St. Andrew's Lutheran Church":MAILTO:office@saintandrews.org
END:VEVENT
BEGIN:VEVENT
DTSTART;TZID=UTC:20240313T164500
DTEND;TZID=UTC:20240313T181500
DTSTAMP:20260425T091628
CREATED:20240405T193215Z
LAST-MODIFIED:20240405T193218Z
UID:10002097-1710348300-1710353700@saintandrews.org
SUMMARY:WEDNESDAY NIGHT DINNER
DESCRIPTION:Wednesday night is church night! We serve a delicious home-cooked meal for children\, adults\, and families participating in Wednesday programs (including kids and adult choirs\, Confirmation\, and LIFEU) and anyone looking for a break from cooking. Dinner is available 4:45-6:15 p.m. in the Sanctuary Fellowship Hall. Cost is $7 per person with a $25 family maximum. Kids 3 and under eat free. Cash\, check\, debit/credit cards\, and Apple Pay accepted. We could use your help! Join our volunteer teams that prepare the meal\, setup and serve\, or clean up. It’s a fun\, exciting way to be part of our church family together. All shifts occur in the Sanctuary Fellowship Hall. Click the VOLUNTEER button below for more details.
URL:https://saintandrews.org/event/wednesday-night-dinner/2024-03-13/
ATTACH;FMTTYPE=image/jpeg:https://saintandrews.org/wp-content/uploads/2024/04/image-2.jpg
ORGANIZER;CN="St. Andrew's Lutheran Church":MAILTO:office@saintandrews.org
END:VEVENT
BEGIN:VEVENT
DTSTART;TZID=UTC:20240309T170000
DTEND;TZID=UTC:20240309T180000
DTSTAMP:20260425T091628
CREATED:20240406T070634Z
LAST-MODIFIED:20240502T211306Z
UID:10002711-1710003600-1710007200@saintandrews.org
SUMMARY:CONTEMPORARY WORSHIP SERVICE - IN PERSON & ONLINE
DESCRIPTION:Saturday at 5:00 p.m. in the Great Hall \n\n\n\nSaturday evening worship services are at 5pm in the Great Hall and also live streamed via ChurchOnline.
URL:https://saintandrews.org/event/contemporary-worship-service-in-person-online/2024-03-09/
ATTACH;FMTTYPE=image/jpeg:https://saintandrews.org/wp-content/uploads/Contemporary-Worship-2024-1920x1080-1.jpg
ORGANIZER;CN="St. Andrew's Lutheran Church":MAILTO:office@saintandrews.org
END:VEVENT
BEGIN:VEVENT
DTSTART;TZID=UTC:20240306T164500
DTEND;TZID=UTC:20240306T181500
DTSTAMP:20260425T091628
CREATED:20240405T193215Z
LAST-MODIFIED:20240405T193218Z
UID:10002096-1709743500-1709748900@saintandrews.org
SUMMARY:WEDNESDAY NIGHT DINNER
DESCRIPTION:Wednesday night is church night! We serve a delicious home-cooked meal for children\, adults\, and families participating in Wednesday programs (including kids and adult choirs\, Confirmation\, and LIFEU) and anyone looking for a break from cooking. Dinner is available 4:45-6:15 p.m. in the Sanctuary Fellowship Hall. Cost is $7 per person with a $25 family maximum. Kids 3 and under eat free. Cash\, check\, debit/credit cards\, and Apple Pay accepted. We could use your help! Join our volunteer teams that prepare the meal\, setup and serve\, or clean up. It’s a fun\, exciting way to be part of our church family together. All shifts occur in the Sanctuary Fellowship Hall. Click the VOLUNTEER button below for more details.
URL:https://saintandrews.org/event/wednesday-night-dinner/2024-03-06/
ATTACH;FMTTYPE=image/jpeg:https://saintandrews.org/wp-content/uploads/2024/04/image-2.jpg
ORGANIZER;CN="St. Andrew's Lutheran Church":MAILTO:office@saintandrews.org
END:VEVENT
BEGIN:VEVENT
DTSTART;TZID=UTC:20240306T000000
DTEND;TZID=UTC:20240425T235959
DTSTAMP:20260425T091628
CREATED:20240416T193155Z
LAST-MODIFIED:20240418T234207Z
UID:10005345-1709683200-1714089599@saintandrews.org
SUMMARY:ST. ANDREW'S WOMEN'S GOLF LEAGUE
DESCRIPTION:St. Andrew’s Women’s Golf League 9 holes – 10 weeks Wednesday mornings starting at 9:50 AM May 1st – July 3rd Gem Lake Hills Golf Course 4039 Scheuneman Rd White Bear Lake Cost: $155.70 adults Payment will be made directly to the golf course on the first day of league play. Gem Lake will accept either check or credit card payment. REGISTRATION is required and open from March 1\, 2024 to April 25\, 2024. Contact Lori Klimp for more information: 651-592-1009
URL:https://saintandrews.org/event/st-andrews-womens-golf-league/
LOCATION:Gem Lake Hills Golf Course\, 4039 Scheuneman Rd\, White Bear Lake\, Minnesota\, 55110\, United States
ATTACH;FMTTYPE=image/jpeg:https://saintandrews.org/wp-content/uploads/2024/04/image-19.jpg
ORGANIZER;CN="St. Andrew's Lutheran Church":MAILTO:office@saintandrews.org
END:VEVENT
BEGIN:VEVENT
DTSTART;TZID=UTC:20240302T170000
DTEND;TZID=UTC:20240302T180000
DTSTAMP:20260425T091628
CREATED:20240406T070634Z
LAST-MODIFIED:20240502T211306Z
UID:10002710-1709398800-1709402400@saintandrews.org
SUMMARY:CONTEMPORARY WORSHIP SERVICE - IN PERSON & ONLINE
DESCRIPTION:Saturday at 5:00 p.m. in the Great Hall \n\n\n\nSaturday evening worship services are at 5pm in the Great Hall and also live streamed via ChurchOnline.
URL:https://saintandrews.org/event/contemporary-worship-service-in-person-online/2024-03-02/
ATTACH;FMTTYPE=image/jpeg:https://saintandrews.org/wp-content/uploads/Contemporary-Worship-2024-1920x1080-1.jpg
ORGANIZER;CN="St. Andrew's Lutheran Church":MAILTO:office@saintandrews.org
END:VEVENT
BEGIN:VEVENT
DTSTART;TZID=UTC:20240228T164500
DTEND;TZID=UTC:20240228T181500
DTSTAMP:20260425T091628
CREATED:20240405T193215Z
LAST-MODIFIED:20240405T193218Z
UID:10002095-1709138700-1709144100@saintandrews.org
SUMMARY:WEDNESDAY NIGHT DINNER
DESCRIPTION:Wednesday night is church night! We serve a delicious home-cooked meal for children\, adults\, and families participating in Wednesday programs (including kids and adult choirs\, Confirmation\, and LIFEU) and anyone looking for a break from cooking. Dinner is available 4:45-6:15 p.m. in the Sanctuary Fellowship Hall. Cost is $7 per person with a $25 family maximum. Kids 3 and under eat free. Cash\, check\, debit/credit cards\, and Apple Pay accepted. We could use your help! Join our volunteer teams that prepare the meal\, setup and serve\, or clean up. It’s a fun\, exciting way to be part of our church family together. All shifts occur in the Sanctuary Fellowship Hall. Click the VOLUNTEER button below for more details.
URL:https://saintandrews.org/event/wednesday-night-dinner/2024-02-28/
ATTACH;FMTTYPE=image/jpeg:https://saintandrews.org/wp-content/uploads/2024/04/image-2.jpg
ORGANIZER;CN="St. Andrew's Lutheran Church":MAILTO:office@saintandrews.org
END:VEVENT
BEGIN:VEVENT
DTSTART;TZID=UTC:20240224T170000
DTEND;TZID=UTC:20240224T180000
DTSTAMP:20260425T091628
CREATED:20240406T070634Z
LAST-MODIFIED:20240502T211306Z
UID:10002709-1708794000-1708797600@saintandrews.org
SUMMARY:CONTEMPORARY WORSHIP SERVICE - IN PERSON & ONLINE
DESCRIPTION:Saturday at 5:00 p.m. in the Great Hall \n\n\n\nSaturday evening worship services are at 5pm in the Great Hall and also live streamed via ChurchOnline.
URL:https://saintandrews.org/event/contemporary-worship-service-in-person-online/2024-02-24/
ATTACH;FMTTYPE=image/jpeg:https://saintandrews.org/wp-content/uploads/Contemporary-Worship-2024-1920x1080-1.jpg
ORGANIZER;CN="St. Andrew's Lutheran Church":MAILTO:office@saintandrews.org
END:VEVENT
BEGIN:VEVENT
DTSTART;TZID=UTC:20240221T164500
DTEND;TZID=UTC:20240221T181500
DTSTAMP:20260425T091628
CREATED:20240405T193215Z
LAST-MODIFIED:20240405T193218Z
UID:10002094-1708533900-1708539300@saintandrews.org
SUMMARY:WEDNESDAY NIGHT DINNER
DESCRIPTION:Wednesday night is church night! We serve a delicious home-cooked meal for children\, adults\, and families participating in Wednesday programs (including kids and adult choirs\, Confirmation\, and LIFEU) and anyone looking for a break from cooking. Dinner is available 4:45-6:15 p.m. in the Sanctuary Fellowship Hall. Cost is $7 per person with a $25 family maximum. Kids 3 and under eat free. Cash\, check\, debit/credit cards\, and Apple Pay accepted. We could use your help! Join our volunteer teams that prepare the meal\, setup and serve\, or clean up. It’s a fun\, exciting way to be part of our church family together. All shifts occur in the Sanctuary Fellowship Hall. Click the VOLUNTEER button below for more details.
URL:https://saintandrews.org/event/wednesday-night-dinner/2024-02-21/
ATTACH;FMTTYPE=image/jpeg:https://saintandrews.org/wp-content/uploads/2024/04/image-2.jpg
ORGANIZER;CN="St. Andrew's Lutheran Church":MAILTO:office@saintandrews.org
END:VEVENT
BEGIN:VEVENT
DTSTART;TZID=UTC:20240217T170000
DTEND;TZID=UTC:20240217T180000
DTSTAMP:20260425T091628
CREATED:20240406T070634Z
LAST-MODIFIED:20240502T211306Z
UID:10002708-1708189200-1708192800@saintandrews.org
SUMMARY:CONTEMPORARY WORSHIP SERVICE - IN PERSON & ONLINE
DESCRIPTION:Saturday at 5:00 p.m. in the Great Hall \n\n\n\nSaturday evening worship services are at 5pm in the Great Hall and also live streamed via ChurchOnline.
URL:https://saintandrews.org/event/contemporary-worship-service-in-person-online/2024-02-17/
ATTACH;FMTTYPE=image/jpeg:https://saintandrews.org/wp-content/uploads/Contemporary-Worship-2024-1920x1080-1.jpg
ORGANIZER;CN="St. Andrew's Lutheran Church":MAILTO:office@saintandrews.org
END:VEVENT
BEGIN:VEVENT
DTSTART;TZID=UTC:20240214T164500
DTEND;TZID=UTC:20240214T181500
DTSTAMP:20260425T091628
CREATED:20240405T193215Z
LAST-MODIFIED:20240405T193218Z
UID:10002093-1707929100-1707934500@saintandrews.org
SUMMARY:WEDNESDAY NIGHT DINNER
DESCRIPTION:Wednesday night is church night! We serve a delicious home-cooked meal for children\, adults\, and families participating in Wednesday programs (including kids and adult choirs\, Confirmation\, and LIFEU) and anyone looking for a break from cooking. Dinner is available 4:45-6:15 p.m. in the Sanctuary Fellowship Hall. Cost is $7 per person with a $25 family maximum. Kids 3 and under eat free. Cash\, check\, debit/credit cards\, and Apple Pay accepted. We could use your help! Join our volunteer teams that prepare the meal\, setup and serve\, or clean up. It’s a fun\, exciting way to be part of our church family together. All shifts occur in the Sanctuary Fellowship Hall. Click the VOLUNTEER button below for more details.
URL:https://saintandrews.org/event/wednesday-night-dinner/2024-02-14/
ATTACH;FMTTYPE=image/jpeg:https://saintandrews.org/wp-content/uploads/2024/04/image-2.jpg
ORGANIZER;CN="St. Andrew's Lutheran Church":MAILTO:office@saintandrews.org
END:VEVENT
END:VCALENDAR