BEGIN:VCALENDAR
VERSION:2.0
PRODID:-//St. Andrew&#039;s Lutheran Church - ECPv6.15.20//NONSGML v1.0//EN
CALSCALE:GREGORIAN
METHOD:PUBLISH
X-WR-CALNAME:St. Andrew&#039;s Lutheran Church
X-ORIGINAL-URL:https://saintandrews.org
X-WR-CALDESC:Events for St. Andrew&#039;s Lutheran Church
REFRESH-INTERVAL;VALUE=DURATION:PT1H
X-Robots-Tag:noindex
X-PUBLISHED-TTL:PT1H
BEGIN:VTIMEZONE
TZID:America/Chicago
BEGIN:DAYLIGHT
TZOFFSETFROM:-0600
TZOFFSETTO:-0500
TZNAME:CDT
DTSTART:20260308T080000
END:DAYLIGHT
BEGIN:STANDARD
TZOFFSETFROM:-0500
TZOFFSETTO:-0600
TZNAME:CST
DTSTART:20261101T070000
END:STANDARD
BEGIN:DAYLIGHT
TZOFFSETFROM:-0600
TZOFFSETTO:-0500
TZNAME:CDT
DTSTART:20270314T080000
END:DAYLIGHT
BEGIN:STANDARD
TZOFFSETFROM:-0500
TZOFFSETTO:-0600
TZNAME:CST
DTSTART:20271107T070000
END:STANDARD
BEGIN:DAYLIGHT
TZOFFSETFROM:-0600
TZOFFSETTO:-0500
TZNAME:CDT
DTSTART:20280312T080000
END:DAYLIGHT
BEGIN:STANDARD
TZOFFSETFROM:-0500
TZOFFSETTO:-0600
TZNAME:CST
DTSTART:20281105T070000
END:STANDARD
END:VTIMEZONE
BEGIN:VTIMEZONE
TZID:UTC
BEGIN:STANDARD
TZOFFSETFROM:+0000
TZOFFSETTO:+0000
TZNAME:UTC
DTSTART:20260101T000000
END:STANDARD
END:VTIMEZONE
BEGIN:VEVENT
DTSTART;TZID=America/Chicago:20270606T093000
DTEND;TZID=America/Chicago:20270606T093000
DTSTAMP:20260425T064011
CREATED:20250902T203702Z
LAST-MODIFIED:20260115T195256Z
UID:10012149-1812274200-1812274200@saintandrews.org
SUMMARY:CONTEMPORARY WORSHIP SERVICE
DESCRIPTION:Sunday morning Contemporary worship services are at 9:30am in the Great Hall.
URL:https://saintandrews.org/event/contemporary-worship-service-3/2027-06-06/
LOCATION:St. Andrew’s Great Hall\, 900 Stillwater Road\, Mahtomedi\, MN\, 55115\, United States
CATEGORIES:Worship
ATTACH;FMTTYPE=image/jpeg:https://saintandrews.org/wp-content/uploads/Contemporary-Worship-2024-1920x1080-1.jpg
ORGANIZER;CN="St. Andrew's Lutheran Church":MAILTO:office@saintandrews.org
END:VEVENT
BEGIN:VEVENT
DTSTART;TZID=UTC:20270606T101500
DTEND;TZID=UTC:20270606T111500
DTSTAMP:20260425T064011
CREATED:20260115T194900Z
LAST-MODIFIED:20260115T194903Z
UID:10001140-1812276900-1812280500@saintandrews.org
SUMMARY:CONTEMPORARY WORSHIP SERVICE - ONLINE
DESCRIPTION:Enjoy online worship services every Sunday at 10:15am.
URL:https://saintandrews.org/event/contemporary-worship-service-online-5/2027-06-06/
ATTACH;FMTTYPE=image/jpeg:https://saintandrews.org/wp-content/uploads/Contemporary-Worship-2024-1920x1080-1.jpg
ORGANIZER;CN="St. Andrew's Lutheran Church":MAILTO:office@saintandrews.org
END:VEVENT
BEGIN:VEVENT
DTSTART;TZID=America/Chicago:20270606T103000
DTEND;TZID=America/Chicago:20270606T103000
DTSTAMP:20260425T064011
CREATED:20250712T185840Z
LAST-MODIFIED:20260115T195441Z
UID:10009595-1812277800-1812277800@saintandrews.org
SUMMARY:TRADITIONAL WORSHIP EXPERIENCE
DESCRIPTION:Traditional worship services typically include Holy Communion\, a sermon\, hymns\, liturgy\, and choral and instrumental music.
URL:https://saintandrews.org/event/traditional-worship-experience/2027-06-06/
LOCATION:St. Andrew’s Sanctuary Building\, 120 East Avenue - Door #1\, Mahtomedi\, MN\, 55115\, United States
ATTACH;FMTTYPE=image/jpeg:https://saintandrews.org/wp-content/uploads/Traditional-Worship-2024-1920x1080-1.jpg
ORGANIZER;CN="St. Andrew's Lutheran Church":MAILTO:office@saintandrews.org
END:VEVENT
BEGIN:VEVENT
DTSTART;TZID=America/Chicago:20270612T170000
DTEND;TZID=America/Chicago:20270612T170000
DTSTAMP:20260425T064011
CREATED:20250902T201110Z
LAST-MODIFIED:20260115T195101Z
UID:10011343-1812819600-1812819600@saintandrews.org
SUMMARY:CONTEMPORARY WORSHIP SERVICE - IN PERSON & ONLINE
DESCRIPTION:Saturday evening worship services are at 5pm in the Great Hall and also live streamed via ChurchOnline.
URL:https://saintandrews.org/event/contemporary-worship-service-in-person-online-6/2027-06-12/
LOCATION:St. Andrew’s Great Hall\, 900 Stillwater Road\, Mahtomedi\, MN\, 55115\, United States
CATEGORIES:Worship
ATTACH;FMTTYPE=image/jpeg:https://saintandrews.org/wp-content/uploads/Contemporary-Worship-2024-1920x1080-1.jpg
ORGANIZER;CN="St. Andrew's Lutheran Church":MAILTO:office@saintandrews.org
END:VEVENT
BEGIN:VEVENT
DTSTART;TZID=America/Chicago:20270613T090000
DTEND;TZID=America/Chicago:20270613T090000
DTSTAMP:20260425T064011
CREATED:20260115T193924Z
LAST-MODIFIED:20260115T194049Z
UID:10009074-1812877200-1812877200@saintandrews.org
SUMMARY:TRADITIONAL WORSHIP EXPERIENCE - IN PERSON & ONLINE
DESCRIPTION:Traditional worship services typically include Holy Communion\, a sermon\, hymns\, liturgy\, and choral and instrumental music.
URL:https://saintandrews.org/event/traditional-worship-experience-in-person-online-6/2027-06-13/
LOCATION:St. Andrew’s Sanctuary Building\, 120 East Avenue - Door #1\, Mahtomedi\, MN\, 55115\, United States
ATTACH;FMTTYPE=image/jpeg:https://saintandrews.org/wp-content/uploads/Traditional-Worship-2024-1920x1080-1.jpg
ORGANIZER;CN="St. Andrew's Lutheran Church":MAILTO:office@saintandrews.org
END:VEVENT
BEGIN:VEVENT
DTSTART;TZID=America/Chicago:20270613T093000
DTEND;TZID=America/Chicago:20270613T093000
DTSTAMP:20260425T064011
CREATED:20250902T203702Z
LAST-MODIFIED:20260115T195256Z
UID:10012150-1812879000-1812879000@saintandrews.org
SUMMARY:CONTEMPORARY WORSHIP SERVICE
DESCRIPTION:Sunday morning Contemporary worship services are at 9:30am in the Great Hall.
URL:https://saintandrews.org/event/contemporary-worship-service-3/2027-06-13/
LOCATION:St. Andrew’s Great Hall\, 900 Stillwater Road\, Mahtomedi\, MN\, 55115\, United States
CATEGORIES:Worship
ATTACH;FMTTYPE=image/jpeg:https://saintandrews.org/wp-content/uploads/Contemporary-Worship-2024-1920x1080-1.jpg
ORGANIZER;CN="St. Andrew's Lutheran Church":MAILTO:office@saintandrews.org
END:VEVENT
BEGIN:VEVENT
DTSTART;TZID=UTC:20270613T101500
DTEND;TZID=UTC:20270613T111500
DTSTAMP:20260425T064011
CREATED:20260115T194900Z
LAST-MODIFIED:20260115T194903Z
UID:10001141-1812881700-1812885300@saintandrews.org
SUMMARY:CONTEMPORARY WORSHIP SERVICE - ONLINE
DESCRIPTION:Enjoy online worship services every Sunday at 10:15am.
URL:https://saintandrews.org/event/contemporary-worship-service-online-5/2027-06-13/
ATTACH;FMTTYPE=image/jpeg:https://saintandrews.org/wp-content/uploads/Contemporary-Worship-2024-1920x1080-1.jpg
ORGANIZER;CN="St. Andrew's Lutheran Church":MAILTO:office@saintandrews.org
END:VEVENT
BEGIN:VEVENT
DTSTART;TZID=America/Chicago:20270613T103000
DTEND;TZID=America/Chicago:20270613T103000
DTSTAMP:20260425T064011
CREATED:20250712T185840Z
LAST-MODIFIED:20260115T195441Z
UID:10009596-1812882600-1812882600@saintandrews.org
SUMMARY:TRADITIONAL WORSHIP EXPERIENCE
DESCRIPTION:Traditional worship services typically include Holy Communion\, a sermon\, hymns\, liturgy\, and choral and instrumental music.
URL:https://saintandrews.org/event/traditional-worship-experience/2027-06-13/
LOCATION:St. Andrew’s Sanctuary Building\, 120 East Avenue - Door #1\, Mahtomedi\, MN\, 55115\, United States
ATTACH;FMTTYPE=image/jpeg:https://saintandrews.org/wp-content/uploads/Traditional-Worship-2024-1920x1080-1.jpg
ORGANIZER;CN="St. Andrew's Lutheran Church":MAILTO:office@saintandrews.org
END:VEVENT
BEGIN:VEVENT
DTSTART;TZID=America/Chicago:20270619T170000
DTEND;TZID=America/Chicago:20270619T170000
DTSTAMP:20260425T064011
CREATED:20250902T201110Z
LAST-MODIFIED:20260115T195101Z
UID:10011344-1813424400-1813424400@saintandrews.org
SUMMARY:CONTEMPORARY WORSHIP SERVICE - IN PERSON & ONLINE
DESCRIPTION:Saturday evening worship services are at 5pm in the Great Hall and also live streamed via ChurchOnline.
URL:https://saintandrews.org/event/contemporary-worship-service-in-person-online-6/2027-06-19/
LOCATION:St. Andrew’s Great Hall\, 900 Stillwater Road\, Mahtomedi\, MN\, 55115\, United States
CATEGORIES:Worship
ATTACH;FMTTYPE=image/jpeg:https://saintandrews.org/wp-content/uploads/Contemporary-Worship-2024-1920x1080-1.jpg
ORGANIZER;CN="St. Andrew's Lutheran Church":MAILTO:office@saintandrews.org
END:VEVENT
BEGIN:VEVENT
DTSTART;TZID=America/Chicago:20270620T090000
DTEND;TZID=America/Chicago:20270620T090000
DTSTAMP:20260425T064011
CREATED:20260115T193924Z
LAST-MODIFIED:20260115T194049Z
UID:10009075-1813482000-1813482000@saintandrews.org
SUMMARY:TRADITIONAL WORSHIP EXPERIENCE - IN PERSON & ONLINE
DESCRIPTION:Traditional worship services typically include Holy Communion\, a sermon\, hymns\, liturgy\, and choral and instrumental music.
URL:https://saintandrews.org/event/traditional-worship-experience-in-person-online-6/2027-06-20/
LOCATION:St. Andrew’s Sanctuary Building\, 120 East Avenue - Door #1\, Mahtomedi\, MN\, 55115\, United States
ATTACH;FMTTYPE=image/jpeg:https://saintandrews.org/wp-content/uploads/Traditional-Worship-2024-1920x1080-1.jpg
ORGANIZER;CN="St. Andrew's Lutheran Church":MAILTO:office@saintandrews.org
END:VEVENT
BEGIN:VEVENT
DTSTART;TZID=America/Chicago:20270620T093000
DTEND;TZID=America/Chicago:20270620T093000
DTSTAMP:20260425T064011
CREATED:20250902T203702Z
LAST-MODIFIED:20260115T195256Z
UID:10012151-1813483800-1813483800@saintandrews.org
SUMMARY:CONTEMPORARY WORSHIP SERVICE
DESCRIPTION:Sunday morning Contemporary worship services are at 9:30am in the Great Hall.
URL:https://saintandrews.org/event/contemporary-worship-service-3/2027-06-20/
LOCATION:St. Andrew’s Great Hall\, 900 Stillwater Road\, Mahtomedi\, MN\, 55115\, United States
CATEGORIES:Worship
ATTACH;FMTTYPE=image/jpeg:https://saintandrews.org/wp-content/uploads/Contemporary-Worship-2024-1920x1080-1.jpg
ORGANIZER;CN="St. Andrew's Lutheran Church":MAILTO:office@saintandrews.org
END:VEVENT
BEGIN:VEVENT
DTSTART;TZID=UTC:20270620T101500
DTEND;TZID=UTC:20270620T111500
DTSTAMP:20260425T064011
CREATED:20260115T194900Z
LAST-MODIFIED:20260115T194903Z
UID:10001142-1813486500-1813490100@saintandrews.org
SUMMARY:CONTEMPORARY WORSHIP SERVICE - ONLINE
DESCRIPTION:Enjoy online worship services every Sunday at 10:15am.
URL:https://saintandrews.org/event/contemporary-worship-service-online-5/2027-06-20/
ATTACH;FMTTYPE=image/jpeg:https://saintandrews.org/wp-content/uploads/Contemporary-Worship-2024-1920x1080-1.jpg
ORGANIZER;CN="St. Andrew's Lutheran Church":MAILTO:office@saintandrews.org
END:VEVENT
BEGIN:VEVENT
DTSTART;TZID=America/Chicago:20270620T103000
DTEND;TZID=America/Chicago:20270620T103000
DTSTAMP:20260425T064011
CREATED:20250712T185840Z
LAST-MODIFIED:20260115T195441Z
UID:10009597-1813487400-1813487400@saintandrews.org
SUMMARY:TRADITIONAL WORSHIP EXPERIENCE
DESCRIPTION:Traditional worship services typically include Holy Communion\, a sermon\, hymns\, liturgy\, and choral and instrumental music.
URL:https://saintandrews.org/event/traditional-worship-experience/2027-06-20/
LOCATION:St. Andrew’s Sanctuary Building\, 120 East Avenue - Door #1\, Mahtomedi\, MN\, 55115\, United States
ATTACH;FMTTYPE=image/jpeg:https://saintandrews.org/wp-content/uploads/Traditional-Worship-2024-1920x1080-1.jpg
ORGANIZER;CN="St. Andrew's Lutheran Church":MAILTO:office@saintandrews.org
END:VEVENT
BEGIN:VEVENT
DTSTART;TZID=America/Chicago:20270626T170000
DTEND;TZID=America/Chicago:20270626T170000
DTSTAMP:20260425T064011
CREATED:20250902T201110Z
LAST-MODIFIED:20260115T195101Z
UID:10011345-1814029200-1814029200@saintandrews.org
SUMMARY:CONTEMPORARY WORSHIP SERVICE - IN PERSON & ONLINE
DESCRIPTION:Saturday evening worship services are at 5pm in the Great Hall and also live streamed via ChurchOnline.
URL:https://saintandrews.org/event/contemporary-worship-service-in-person-online-6/2027-06-26/
LOCATION:St. Andrew’s Great Hall\, 900 Stillwater Road\, Mahtomedi\, MN\, 55115\, United States
CATEGORIES:Worship
ATTACH;FMTTYPE=image/jpeg:https://saintandrews.org/wp-content/uploads/Contemporary-Worship-2024-1920x1080-1.jpg
ORGANIZER;CN="St. Andrew's Lutheran Church":MAILTO:office@saintandrews.org
END:VEVENT
BEGIN:VEVENT
DTSTART;TZID=America/Chicago:20270627T090000
DTEND;TZID=America/Chicago:20270627T090000
DTSTAMP:20260425T064011
CREATED:20260115T193924Z
LAST-MODIFIED:20260115T194049Z
UID:10009076-1814086800-1814086800@saintandrews.org
SUMMARY:TRADITIONAL WORSHIP EXPERIENCE - IN PERSON & ONLINE
DESCRIPTION:Traditional worship services typically include Holy Communion\, a sermon\, hymns\, liturgy\, and choral and instrumental music.
URL:https://saintandrews.org/event/traditional-worship-experience-in-person-online-6/2027-06-27/
LOCATION:St. Andrew’s Sanctuary Building\, 120 East Avenue - Door #1\, Mahtomedi\, MN\, 55115\, United States
ATTACH;FMTTYPE=image/jpeg:https://saintandrews.org/wp-content/uploads/Traditional-Worship-2024-1920x1080-1.jpg
ORGANIZER;CN="St. Andrew's Lutheran Church":MAILTO:office@saintandrews.org
END:VEVENT
BEGIN:VEVENT
DTSTART;TZID=America/Chicago:20270627T093000
DTEND;TZID=America/Chicago:20270627T093000
DTSTAMP:20260425T064011
CREATED:20250902T203702Z
LAST-MODIFIED:20260115T195256Z
UID:10012152-1814088600-1814088600@saintandrews.org
SUMMARY:CONTEMPORARY WORSHIP SERVICE
DESCRIPTION:Sunday morning Contemporary worship services are at 9:30am in the Great Hall.
URL:https://saintandrews.org/event/contemporary-worship-service-3/2027-06-27/
LOCATION:St. Andrew’s Great Hall\, 900 Stillwater Road\, Mahtomedi\, MN\, 55115\, United States
CATEGORIES:Worship
ATTACH;FMTTYPE=image/jpeg:https://saintandrews.org/wp-content/uploads/Contemporary-Worship-2024-1920x1080-1.jpg
ORGANIZER;CN="St. Andrew's Lutheran Church":MAILTO:office@saintandrews.org
END:VEVENT
BEGIN:VEVENT
DTSTART;TZID=UTC:20270627T101500
DTEND;TZID=UTC:20270627T111500
DTSTAMP:20260425T064011
CREATED:20260115T194900Z
LAST-MODIFIED:20260115T194903Z
UID:10001143-1814091300-1814094900@saintandrews.org
SUMMARY:CONTEMPORARY WORSHIP SERVICE - ONLINE
DESCRIPTION:Enjoy online worship services every Sunday at 10:15am.
URL:https://saintandrews.org/event/contemporary-worship-service-online-5/2027-06-27/
ATTACH;FMTTYPE=image/jpeg:https://saintandrews.org/wp-content/uploads/Contemporary-Worship-2024-1920x1080-1.jpg
ORGANIZER;CN="St. Andrew's Lutheran Church":MAILTO:office@saintandrews.org
END:VEVENT
BEGIN:VEVENT
DTSTART;TZID=America/Chicago:20270627T103000
DTEND;TZID=America/Chicago:20270627T103000
DTSTAMP:20260425T064011
CREATED:20250712T185840Z
LAST-MODIFIED:20260115T195441Z
UID:10009598-1814092200-1814092200@saintandrews.org
SUMMARY:TRADITIONAL WORSHIP EXPERIENCE
DESCRIPTION:Traditional worship services typically include Holy Communion\, a sermon\, hymns\, liturgy\, and choral and instrumental music.
URL:https://saintandrews.org/event/traditional-worship-experience/2027-06-27/
LOCATION:St. Andrew’s Sanctuary Building\, 120 East Avenue - Door #1\, Mahtomedi\, MN\, 55115\, United States
ATTACH;FMTTYPE=image/jpeg:https://saintandrews.org/wp-content/uploads/Traditional-Worship-2024-1920x1080-1.jpg
ORGANIZER;CN="St. Andrew's Lutheran Church":MAILTO:office@saintandrews.org
END:VEVENT
BEGIN:VEVENT
DTSTART;TZID=America/Chicago:20270703T170000
DTEND;TZID=America/Chicago:20270703T170000
DTSTAMP:20260425T064011
CREATED:20250902T201110Z
LAST-MODIFIED:20260115T195101Z
UID:10011346-1814634000-1814634000@saintandrews.org
SUMMARY:CONTEMPORARY WORSHIP SERVICE - IN PERSON & ONLINE
DESCRIPTION:Saturday evening worship services are at 5pm in the Great Hall and also live streamed via ChurchOnline.
URL:https://saintandrews.org/event/contemporary-worship-service-in-person-online-6/2027-07-03/
LOCATION:St. Andrew’s Great Hall\, 900 Stillwater Road\, Mahtomedi\, MN\, 55115\, United States
CATEGORIES:Worship
ATTACH;FMTTYPE=image/jpeg:https://saintandrews.org/wp-content/uploads/Contemporary-Worship-2024-1920x1080-1.jpg
ORGANIZER;CN="St. Andrew's Lutheran Church":MAILTO:office@saintandrews.org
END:VEVENT
BEGIN:VEVENT
DTSTART;TZID=America/Chicago:20270704T090000
DTEND;TZID=America/Chicago:20270704T090000
DTSTAMP:20260425T064011
CREATED:20260115T193924Z
LAST-MODIFIED:20260115T194049Z
UID:10009077-1814691600-1814691600@saintandrews.org
SUMMARY:TRADITIONAL WORSHIP EXPERIENCE - IN PERSON & ONLINE
DESCRIPTION:Traditional worship services typically include Holy Communion\, a sermon\, hymns\, liturgy\, and choral and instrumental music.
URL:https://saintandrews.org/event/traditional-worship-experience-in-person-online-6/2027-07-04/
LOCATION:St. Andrew’s Sanctuary Building\, 120 East Avenue - Door #1\, Mahtomedi\, MN\, 55115\, United States
ATTACH;FMTTYPE=image/jpeg:https://saintandrews.org/wp-content/uploads/Traditional-Worship-2024-1920x1080-1.jpg
ORGANIZER;CN="St. Andrew's Lutheran Church":MAILTO:office@saintandrews.org
END:VEVENT
BEGIN:VEVENT
DTSTART;TZID=America/Chicago:20270704T093000
DTEND;TZID=America/Chicago:20270704T093000
DTSTAMP:20260425T064011
CREATED:20250902T203702Z
LAST-MODIFIED:20260115T195256Z
UID:10012153-1814693400-1814693400@saintandrews.org
SUMMARY:CONTEMPORARY WORSHIP SERVICE
DESCRIPTION:Sunday morning Contemporary worship services are at 9:30am in the Great Hall.
URL:https://saintandrews.org/event/contemporary-worship-service-3/2027-07-04/
LOCATION:St. Andrew’s Great Hall\, 900 Stillwater Road\, Mahtomedi\, MN\, 55115\, United States
CATEGORIES:Worship
ATTACH;FMTTYPE=image/jpeg:https://saintandrews.org/wp-content/uploads/Contemporary-Worship-2024-1920x1080-1.jpg
ORGANIZER;CN="St. Andrew's Lutheran Church":MAILTO:office@saintandrews.org
END:VEVENT
BEGIN:VEVENT
DTSTART;TZID=UTC:20270704T101500
DTEND;TZID=UTC:20270704T111500
DTSTAMP:20260425T064011
CREATED:20260115T194900Z
LAST-MODIFIED:20260115T194903Z
UID:10001144-1814696100-1814699700@saintandrews.org
SUMMARY:CONTEMPORARY WORSHIP SERVICE - ONLINE
DESCRIPTION:Enjoy online worship services every Sunday at 10:15am.
URL:https://saintandrews.org/event/contemporary-worship-service-online-5/2027-07-04/
ATTACH;FMTTYPE=image/jpeg:https://saintandrews.org/wp-content/uploads/Contemporary-Worship-2024-1920x1080-1.jpg
ORGANIZER;CN="St. Andrew's Lutheran Church":MAILTO:office@saintandrews.org
END:VEVENT
BEGIN:VEVENT
DTSTART;TZID=America/Chicago:20270704T103000
DTEND;TZID=America/Chicago:20270704T103000
DTSTAMP:20260425T064011
CREATED:20250712T185840Z
LAST-MODIFIED:20260115T195441Z
UID:10009599-1814697000-1814697000@saintandrews.org
SUMMARY:TRADITIONAL WORSHIP EXPERIENCE
DESCRIPTION:Traditional worship services typically include Holy Communion\, a sermon\, hymns\, liturgy\, and choral and instrumental music.
URL:https://saintandrews.org/event/traditional-worship-experience/2027-07-04/
LOCATION:St. Andrew’s Sanctuary Building\, 120 East Avenue - Door #1\, Mahtomedi\, MN\, 55115\, United States
ATTACH;FMTTYPE=image/jpeg:https://saintandrews.org/wp-content/uploads/Traditional-Worship-2024-1920x1080-1.jpg
ORGANIZER;CN="St. Andrew's Lutheran Church":MAILTO:office@saintandrews.org
END:VEVENT
BEGIN:VEVENT
DTSTART;TZID=America/Chicago:20270710T170000
DTEND;TZID=America/Chicago:20270710T170000
DTSTAMP:20260425T064011
CREATED:20250902T201110Z
LAST-MODIFIED:20260115T195101Z
UID:10011347-1815238800-1815238800@saintandrews.org
SUMMARY:CONTEMPORARY WORSHIP SERVICE - IN PERSON & ONLINE
DESCRIPTION:Saturday evening worship services are at 5pm in the Great Hall and also live streamed via ChurchOnline.
URL:https://saintandrews.org/event/contemporary-worship-service-in-person-online-6/2027-07-10/
LOCATION:St. Andrew’s Great Hall\, 900 Stillwater Road\, Mahtomedi\, MN\, 55115\, United States
CATEGORIES:Worship
ATTACH;FMTTYPE=image/jpeg:https://saintandrews.org/wp-content/uploads/Contemporary-Worship-2024-1920x1080-1.jpg
ORGANIZER;CN="St. Andrew's Lutheran Church":MAILTO:office@saintandrews.org
END:VEVENT
BEGIN:VEVENT
DTSTART;TZID=America/Chicago:20270711T090000
DTEND;TZID=America/Chicago:20270711T090000
DTSTAMP:20260425T064011
CREATED:20260115T193924Z
LAST-MODIFIED:20260115T194049Z
UID:10009078-1815296400-1815296400@saintandrews.org
SUMMARY:TRADITIONAL WORSHIP EXPERIENCE - IN PERSON & ONLINE
DESCRIPTION:Traditional worship services typically include Holy Communion\, a sermon\, hymns\, liturgy\, and choral and instrumental music.
URL:https://saintandrews.org/event/traditional-worship-experience-in-person-online-6/2027-07-11/
LOCATION:St. Andrew’s Sanctuary Building\, 120 East Avenue - Door #1\, Mahtomedi\, MN\, 55115\, United States
ATTACH;FMTTYPE=image/jpeg:https://saintandrews.org/wp-content/uploads/Traditional-Worship-2024-1920x1080-1.jpg
ORGANIZER;CN="St. Andrew's Lutheran Church":MAILTO:office@saintandrews.org
END:VEVENT
BEGIN:VEVENT
DTSTART;TZID=America/Chicago:20270711T093000
DTEND;TZID=America/Chicago:20270711T093000
DTSTAMP:20260425T064011
CREATED:20250902T203702Z
LAST-MODIFIED:20260115T195256Z
UID:10012154-1815298200-1815298200@saintandrews.org
SUMMARY:CONTEMPORARY WORSHIP SERVICE
DESCRIPTION:Sunday morning Contemporary worship services are at 9:30am in the Great Hall.
URL:https://saintandrews.org/event/contemporary-worship-service-3/2027-07-11/
LOCATION:St. Andrew’s Great Hall\, 900 Stillwater Road\, Mahtomedi\, MN\, 55115\, United States
CATEGORIES:Worship
ATTACH;FMTTYPE=image/jpeg:https://saintandrews.org/wp-content/uploads/Contemporary-Worship-2024-1920x1080-1.jpg
ORGANIZER;CN="St. Andrew's Lutheran Church":MAILTO:office@saintandrews.org
END:VEVENT
BEGIN:VEVENT
DTSTART;TZID=UTC:20270711T101500
DTEND;TZID=UTC:20270711T111500
DTSTAMP:20260425T064011
CREATED:20260115T194900Z
LAST-MODIFIED:20260115T194903Z
UID:10001145-1815300900-1815304500@saintandrews.org
SUMMARY:CONTEMPORARY WORSHIP SERVICE - ONLINE
DESCRIPTION:Enjoy online worship services every Sunday at 10:15am.
URL:https://saintandrews.org/event/contemporary-worship-service-online-5/2027-07-11/
ATTACH;FMTTYPE=image/jpeg:https://saintandrews.org/wp-content/uploads/Contemporary-Worship-2024-1920x1080-1.jpg
ORGANIZER;CN="St. Andrew's Lutheran Church":MAILTO:office@saintandrews.org
END:VEVENT
BEGIN:VEVENT
DTSTART;TZID=America/Chicago:20270711T103000
DTEND;TZID=America/Chicago:20270711T103000
DTSTAMP:20260425T064011
CREATED:20250712T185840Z
LAST-MODIFIED:20260115T195441Z
UID:10009600-1815301800-1815301800@saintandrews.org
SUMMARY:TRADITIONAL WORSHIP EXPERIENCE
DESCRIPTION:Traditional worship services typically include Holy Communion\, a sermon\, hymns\, liturgy\, and choral and instrumental music.
URL:https://saintandrews.org/event/traditional-worship-experience/2027-07-11/
LOCATION:St. Andrew’s Sanctuary Building\, 120 East Avenue - Door #1\, Mahtomedi\, MN\, 55115\, United States
ATTACH;FMTTYPE=image/jpeg:https://saintandrews.org/wp-content/uploads/Traditional-Worship-2024-1920x1080-1.jpg
ORGANIZER;CN="St. Andrew's Lutheran Church":MAILTO:office@saintandrews.org
END:VEVENT
BEGIN:VEVENT
DTSTART;TZID=America/Chicago:20270717T170000
DTEND;TZID=America/Chicago:20270717T170000
DTSTAMP:20260425T064011
CREATED:20250902T201110Z
LAST-MODIFIED:20260115T195101Z
UID:10011348-1815843600-1815843600@saintandrews.org
SUMMARY:CONTEMPORARY WORSHIP SERVICE - IN PERSON & ONLINE
DESCRIPTION:Saturday evening worship services are at 5pm in the Great Hall and also live streamed via ChurchOnline.
URL:https://saintandrews.org/event/contemporary-worship-service-in-person-online-6/2027-07-17/
LOCATION:St. Andrew’s Great Hall\, 900 Stillwater Road\, Mahtomedi\, MN\, 55115\, United States
CATEGORIES:Worship
ATTACH;FMTTYPE=image/jpeg:https://saintandrews.org/wp-content/uploads/Contemporary-Worship-2024-1920x1080-1.jpg
ORGANIZER;CN="St. Andrew's Lutheran Church":MAILTO:office@saintandrews.org
END:VEVENT
BEGIN:VEVENT
DTSTART;TZID=America/Chicago:20270718T090000
DTEND;TZID=America/Chicago:20270718T090000
DTSTAMP:20260425T064011
CREATED:20260115T193924Z
LAST-MODIFIED:20260115T194049Z
UID:10009079-1815901200-1815901200@saintandrews.org
SUMMARY:TRADITIONAL WORSHIP EXPERIENCE - IN PERSON & ONLINE
DESCRIPTION:Traditional worship services typically include Holy Communion\, a sermon\, hymns\, liturgy\, and choral and instrumental music.
URL:https://saintandrews.org/event/traditional-worship-experience-in-person-online-6/2027-07-18/
LOCATION:St. Andrew’s Sanctuary Building\, 120 East Avenue - Door #1\, Mahtomedi\, MN\, 55115\, United States
ATTACH;FMTTYPE=image/jpeg:https://saintandrews.org/wp-content/uploads/Traditional-Worship-2024-1920x1080-1.jpg
ORGANIZER;CN="St. Andrew's Lutheran Church":MAILTO:office@saintandrews.org
END:VEVENT
END:VCALENDAR