BEGIN:VCALENDAR
VERSION:2.0
PRODID:-//St. Andrew&#039;s Lutheran Church - ECPv6.15.20//NONSGML v1.0//EN
CALSCALE:GREGORIAN
METHOD:PUBLISH
X-ORIGINAL-URL:https://saintandrews.org
X-WR-CALDESC:Events for St. Andrew&#039;s Lutheran Church
REFRESH-INTERVAL;VALUE=DURATION:PT1H
X-Robots-Tag:noindex
X-PUBLISHED-TTL:PT1H
BEGIN:VTIMEZONE
TZID:America/Chicago
BEGIN:DAYLIGHT
TZOFFSETFROM:-0600
TZOFFSETTO:-0500
TZNAME:CDT
DTSTART:20240310T080000
END:DAYLIGHT
BEGIN:STANDARD
TZOFFSETFROM:-0500
TZOFFSETTO:-0600
TZNAME:CST
DTSTART:20241103T070000
END:STANDARD
BEGIN:DAYLIGHT
TZOFFSETFROM:-0600
TZOFFSETTO:-0500
TZNAME:CDT
DTSTART:20250309T080000
END:DAYLIGHT
BEGIN:STANDARD
TZOFFSETFROM:-0500
TZOFFSETTO:-0600
TZNAME:CST
DTSTART:20251102T070000
END:STANDARD
BEGIN:DAYLIGHT
TZOFFSETFROM:-0600
TZOFFSETTO:-0500
TZNAME:CDT
DTSTART:20260308T080000
END:DAYLIGHT
BEGIN:STANDARD
TZOFFSETFROM:-0500
TZOFFSETTO:-0600
TZNAME:CST
DTSTART:20261101T070000
END:STANDARD
END:VTIMEZONE
BEGIN:VTIMEZONE
TZID:UTC
BEGIN:STANDARD
TZOFFSETFROM:+0000
TZOFFSETTO:+0000
TZNAME:UTC
DTSTART:20240101T000000
END:STANDARD
END:VTIMEZONE
BEGIN:VEVENT
DTSTART;TZID=America/Chicago:20250831T090000
DTEND;TZID=America/Chicago:20250831T090000
DTSTAMP:20260422T064616
CREATED:20250712T185516Z
LAST-MODIFIED:20260115T195203Z
UID:10008981-1756630800-1756630800@saintandrews.org
SUMMARY:TRADITIONAL WORSHIP EXPERIENCE - IN PERSON & ONLINE
DESCRIPTION:Traditional worship services typically include Holy Communion\, a sermon\, hymns\, liturgy\, and choral and instrumental music.
URL:https://saintandrews.org/event/traditional-worship-experience-in-person-online/2025-08-31/
LOCATION:St. Andrew’s Sanctuary Building\, 120 East Avenue - Door #1\, Mahtomedi\, MN\, 55115\, United States
ATTACH;FMTTYPE=image/jpeg:https://saintandrews.org/wp-content/uploads/Traditional-Worship-2024-1920x1080-1.jpg
ORGANIZER;CN="St. Andrew's Lutheran Church":MAILTO:office@saintandrews.org
END:VEVENT
BEGIN:VEVENT
DTSTART;TZID=UTC:20250830T170000
DTEND;TZID=UTC:20250830T180000
DTSTAMP:20260422T064616
CREATED:20250712T183750Z
LAST-MODIFIED:20250712T183751Z
UID:10008720-1756573200-1756576800@saintandrews.org
SUMMARY:CONTEMPORARY WORSHIP SERVICE - IN PERSON & ONLINE
DESCRIPTION:Saturday at 5:00 p.m. in the Great Hall \n\n\n\nSaturday evening worship services are at 5pm in the Great Hall and also live streamed via ChurchOnline.
URL:https://saintandrews.org/event/contemporary-worship-service-in-person-online-4/2025-08-30/
LOCATION:St. Andrew’s Great Hall\, 900 Stillwater Road\, Mahtomedi\, MN\, 55115\, United States
ATTACH;FMTTYPE=image/jpeg:https://saintandrews.org/wp-content/uploads/Contemporary-Worship-2024-1920x1080-1.jpg
ORGANIZER;CN="St. Andrew's Lutheran Church":MAILTO:office@saintandrews.org
END:VEVENT
BEGIN:VEVENT
DTSTART;TZID=America/Chicago:20250824T103000
DTEND;TZID=America/Chicago:20250824T103000
DTSTAMP:20260422T064616
CREATED:20250712T185840Z
LAST-MODIFIED:20260115T195441Z
UID:10009502-1756031400-1756031400@saintandrews.org
SUMMARY:TRADITIONAL WORSHIP EXPERIENCE
DESCRIPTION:Traditional worship services typically include Holy Communion\, a sermon\, hymns\, liturgy\, and choral and instrumental music.
URL:https://saintandrews.org/event/traditional-worship-experience/2025-08-24/
LOCATION:St. Andrew’s Sanctuary Building\, 120 East Avenue - Door #1\, Mahtomedi\, MN\, 55115\, United States
ATTACH;FMTTYPE=image/jpeg:https://saintandrews.org/wp-content/uploads/Traditional-Worship-2024-1920x1080-1.jpg
ORGANIZER;CN="St. Andrew's Lutheran Church":MAILTO:office@saintandrews.org
END:VEVENT
BEGIN:VEVENT
DTSTART;TZID=UTC:20250824T101500
DTEND;TZID=UTC:20250824T111500
DTSTAMP:20260422T064616
CREATED:20250712T190540Z
LAST-MODIFIED:20260115T195348Z
UID:10001047-1756030500-1756034100@saintandrews.org
SUMMARY:CONTEMPORARY WORSHIP SERVICE - ONLINE
DESCRIPTION:Enjoy online worship services every Sunday at 10:15am.
URL:https://saintandrews.org/event/contemporary-worship-service-online-3/2025-08-24/
ATTACH;FMTTYPE=image/jpeg:https://saintandrews.org/wp-content/uploads/Contemporary-Worship-2024-1920x1080-1.jpg
ORGANIZER;CN="St. Andrew's Lutheran Church":MAILTO:office@saintandrews.org
END:VEVENT
BEGIN:VEVENT
DTSTART;TZID=America/Chicago:20250824T090000
DTEND;TZID=America/Chicago:20250824T090000
DTSTAMP:20260422T064616
CREATED:20250712T185516Z
LAST-MODIFIED:20260115T195203Z
UID:10008980-1756026000-1756026000@saintandrews.org
SUMMARY:TRADITIONAL WORSHIP EXPERIENCE - IN PERSON & ONLINE
DESCRIPTION:Traditional worship services typically include Holy Communion\, a sermon\, hymns\, liturgy\, and choral and instrumental music.
URL:https://saintandrews.org/event/traditional-worship-experience-in-person-online/2025-08-24/
LOCATION:St. Andrew’s Sanctuary Building\, 120 East Avenue - Door #1\, Mahtomedi\, MN\, 55115\, United States
ATTACH;FMTTYPE=image/jpeg:https://saintandrews.org/wp-content/uploads/Traditional-Worship-2024-1920x1080-1.jpg
ORGANIZER;CN="St. Andrew's Lutheran Church":MAILTO:office@saintandrews.org
END:VEVENT
BEGIN:VEVENT
DTSTART;TZID=UTC:20250823T170000
DTEND;TZID=UTC:20250823T180000
DTSTAMP:20260422T064616
CREATED:20250712T183750Z
LAST-MODIFIED:20250712T183751Z
UID:10008719-1755968400-1755972000@saintandrews.org
SUMMARY:CONTEMPORARY WORSHIP SERVICE - IN PERSON & ONLINE
DESCRIPTION:Saturday at 5:00 p.m. in the Great Hall \n\n\n\nSaturday evening worship services are at 5pm in the Great Hall and also live streamed via ChurchOnline.
URL:https://saintandrews.org/event/contemporary-worship-service-in-person-online-4/2025-08-23/
LOCATION:St. Andrew’s Great Hall\, 900 Stillwater Road\, Mahtomedi\, MN\, 55115\, United States
ATTACH;FMTTYPE=image/jpeg:https://saintandrews.org/wp-content/uploads/Contemporary-Worship-2024-1920x1080-1.jpg
ORGANIZER;CN="St. Andrew's Lutheran Church":MAILTO:office@saintandrews.org
END:VEVENT
BEGIN:VEVENT
DTSTART;TZID=America/Chicago:20250817T103000
DTEND;TZID=America/Chicago:20250817T103000
DTSTAMP:20260422T064616
CREATED:20250712T185840Z
LAST-MODIFIED:20260115T195441Z
UID:10009501-1755426600-1755426600@saintandrews.org
SUMMARY:TRADITIONAL WORSHIP EXPERIENCE
DESCRIPTION:Traditional worship services typically include Holy Communion\, a sermon\, hymns\, liturgy\, and choral and instrumental music.
URL:https://saintandrews.org/event/traditional-worship-experience/2025-08-17/
LOCATION:St. Andrew’s Sanctuary Building\, 120 East Avenue - Door #1\, Mahtomedi\, MN\, 55115\, United States
ATTACH;FMTTYPE=image/jpeg:https://saintandrews.org/wp-content/uploads/Traditional-Worship-2024-1920x1080-1.jpg
ORGANIZER;CN="St. Andrew's Lutheran Church":MAILTO:office@saintandrews.org
END:VEVENT
BEGIN:VEVENT
DTSTART;TZID=UTC:20250817T101500
DTEND;TZID=UTC:20250817T111500
DTSTAMP:20260422T064616
CREATED:20250712T190540Z
LAST-MODIFIED:20260115T195348Z
UID:10001046-1755425700-1755429300@saintandrews.org
SUMMARY:CONTEMPORARY WORSHIP SERVICE - ONLINE
DESCRIPTION:Enjoy online worship services every Sunday at 10:15am.
URL:https://saintandrews.org/event/contemporary-worship-service-online-3/2025-08-17/
ATTACH;FMTTYPE=image/jpeg:https://saintandrews.org/wp-content/uploads/Contemporary-Worship-2024-1920x1080-1.jpg
ORGANIZER;CN="St. Andrew's Lutheran Church":MAILTO:office@saintandrews.org
END:VEVENT
BEGIN:VEVENT
DTSTART;TZID=America/Chicago:20250817T090000
DTEND;TZID=America/Chicago:20250817T090000
DTSTAMP:20260422T064616
CREATED:20250712T185516Z
LAST-MODIFIED:20260115T195203Z
UID:10008979-1755421200-1755421200@saintandrews.org
SUMMARY:TRADITIONAL WORSHIP EXPERIENCE - IN PERSON & ONLINE
DESCRIPTION:Traditional worship services typically include Holy Communion\, a sermon\, hymns\, liturgy\, and choral and instrumental music.
URL:https://saintandrews.org/event/traditional-worship-experience-in-person-online/2025-08-17/
LOCATION:St. Andrew’s Sanctuary Building\, 120 East Avenue - Door #1\, Mahtomedi\, MN\, 55115\, United States
ATTACH;FMTTYPE=image/jpeg:https://saintandrews.org/wp-content/uploads/Traditional-Worship-2024-1920x1080-1.jpg
ORGANIZER;CN="St. Andrew's Lutheran Church":MAILTO:office@saintandrews.org
END:VEVENT
BEGIN:VEVENT
DTSTART;TZID=UTC:20250816T170000
DTEND;TZID=UTC:20250816T180000
DTSTAMP:20260422T064616
CREATED:20250712T183750Z
LAST-MODIFIED:20250712T183751Z
UID:10008718-1755363600-1755367200@saintandrews.org
SUMMARY:CONTEMPORARY WORSHIP SERVICE - IN PERSON & ONLINE
DESCRIPTION:Saturday at 5:00 p.m. in the Great Hall \n\n\n\nSaturday evening worship services are at 5pm in the Great Hall and also live streamed via ChurchOnline.
URL:https://saintandrews.org/event/contemporary-worship-service-in-person-online-4/2025-08-16/
LOCATION:St. Andrew’s Great Hall\, 900 Stillwater Road\, Mahtomedi\, MN\, 55115\, United States
ATTACH;FMTTYPE=image/jpeg:https://saintandrews.org/wp-content/uploads/Contemporary-Worship-2024-1920x1080-1.jpg
ORGANIZER;CN="St. Andrew's Lutheran Church":MAILTO:office@saintandrews.org
END:VEVENT
BEGIN:VEVENT
DTSTART;TZID=America/Chicago:20250810T103000
DTEND;TZID=America/Chicago:20250810T103000
DTSTAMP:20260422T064616
CREATED:20250712T185840Z
LAST-MODIFIED:20260115T195441Z
UID:10009500-1754821800-1754821800@saintandrews.org
SUMMARY:TRADITIONAL WORSHIP EXPERIENCE
DESCRIPTION:Traditional worship services typically include Holy Communion\, a sermon\, hymns\, liturgy\, and choral and instrumental music.
URL:https://saintandrews.org/event/traditional-worship-experience/2025-08-10/
LOCATION:St. Andrew’s Sanctuary Building\, 120 East Avenue - Door #1\, Mahtomedi\, MN\, 55115\, United States
ATTACH;FMTTYPE=image/jpeg:https://saintandrews.org/wp-content/uploads/Traditional-Worship-2024-1920x1080-1.jpg
ORGANIZER;CN="St. Andrew's Lutheran Church":MAILTO:office@saintandrews.org
END:VEVENT
BEGIN:VEVENT
DTSTART;TZID=UTC:20250810T101500
DTEND;TZID=UTC:20250810T111500
DTSTAMP:20260422T064616
CREATED:20250712T190540Z
LAST-MODIFIED:20260115T195348Z
UID:10001045-1754820900-1754824500@saintandrews.org
SUMMARY:CONTEMPORARY WORSHIP SERVICE - ONLINE
DESCRIPTION:Enjoy online worship services every Sunday at 10:15am.
URL:https://saintandrews.org/event/contemporary-worship-service-online-3/2025-08-10/
ATTACH;FMTTYPE=image/jpeg:https://saintandrews.org/wp-content/uploads/Contemporary-Worship-2024-1920x1080-1.jpg
ORGANIZER;CN="St. Andrew's Lutheran Church":MAILTO:office@saintandrews.org
END:VEVENT
BEGIN:VEVENT
DTSTART;TZID=America/Chicago:20250810T090000
DTEND;TZID=America/Chicago:20250810T090000
DTSTAMP:20260422T064616
CREATED:20250712T185516Z
LAST-MODIFIED:20260115T195203Z
UID:10008978-1754816400-1754816400@saintandrews.org
SUMMARY:TRADITIONAL WORSHIP EXPERIENCE - IN PERSON & ONLINE
DESCRIPTION:Traditional worship services typically include Holy Communion\, a sermon\, hymns\, liturgy\, and choral and instrumental music.
URL:https://saintandrews.org/event/traditional-worship-experience-in-person-online/2025-08-10/
LOCATION:St. Andrew’s Sanctuary Building\, 120 East Avenue - Door #1\, Mahtomedi\, MN\, 55115\, United States
ATTACH;FMTTYPE=image/jpeg:https://saintandrews.org/wp-content/uploads/Traditional-Worship-2024-1920x1080-1.jpg
ORGANIZER;CN="St. Andrew's Lutheran Church":MAILTO:office@saintandrews.org
END:VEVENT
BEGIN:VEVENT
DTSTART;TZID=UTC:20250809T170000
DTEND;TZID=UTC:20250809T180000
DTSTAMP:20260422T064616
CREATED:20250712T183750Z
LAST-MODIFIED:20250712T183751Z
UID:10008717-1754758800-1754762400@saintandrews.org
SUMMARY:CONTEMPORARY WORSHIP SERVICE - IN PERSON & ONLINE
DESCRIPTION:Saturday at 5:00 p.m. in the Great Hall \n\n\n\nSaturday evening worship services are at 5pm in the Great Hall and also live streamed via ChurchOnline.
URL:https://saintandrews.org/event/contemporary-worship-service-in-person-online-4/2025-08-09/
LOCATION:St. Andrew’s Great Hall\, 900 Stillwater Road\, Mahtomedi\, MN\, 55115\, United States
ATTACH;FMTTYPE=image/jpeg:https://saintandrews.org/wp-content/uploads/Contemporary-Worship-2024-1920x1080-1.jpg
ORGANIZER;CN="St. Andrew's Lutheran Church":MAILTO:office@saintandrews.org
END:VEVENT
BEGIN:VEVENT
DTSTART;TZID=America/Chicago:20250803T103000
DTEND;TZID=America/Chicago:20250803T103000
DTSTAMP:20260422T064616
CREATED:20250712T185840Z
LAST-MODIFIED:20260115T195441Z
UID:10009499-1754217000-1754217000@saintandrews.org
SUMMARY:TRADITIONAL WORSHIP EXPERIENCE
DESCRIPTION:Traditional worship services typically include Holy Communion\, a sermon\, hymns\, liturgy\, and choral and instrumental music.
URL:https://saintandrews.org/event/traditional-worship-experience/2025-08-03/
LOCATION:St. Andrew’s Sanctuary Building\, 120 East Avenue - Door #1\, Mahtomedi\, MN\, 55115\, United States
ATTACH;FMTTYPE=image/jpeg:https://saintandrews.org/wp-content/uploads/Traditional-Worship-2024-1920x1080-1.jpg
ORGANIZER;CN="St. Andrew's Lutheran Church":MAILTO:office@saintandrews.org
END:VEVENT
BEGIN:VEVENT
DTSTART;TZID=UTC:20250803T101500
DTEND;TZID=UTC:20250803T111500
DTSTAMP:20260422T064616
CREATED:20250712T190540Z
LAST-MODIFIED:20260115T195348Z
UID:10001044-1754216100-1754219700@saintandrews.org
SUMMARY:CONTEMPORARY WORSHIP SERVICE - ONLINE
DESCRIPTION:Enjoy online worship services every Sunday at 10:15am.
URL:https://saintandrews.org/event/contemporary-worship-service-online-3/2025-08-03/
ATTACH;FMTTYPE=image/jpeg:https://saintandrews.org/wp-content/uploads/Contemporary-Worship-2024-1920x1080-1.jpg
ORGANIZER;CN="St. Andrew's Lutheran Church":MAILTO:office@saintandrews.org
END:VEVENT
BEGIN:VEVENT
DTSTART;TZID=America/Chicago:20250803T090000
DTEND;TZID=America/Chicago:20250803T090000
DTSTAMP:20260422T064616
CREATED:20250712T185516Z
LAST-MODIFIED:20260115T195203Z
UID:10008977-1754211600-1754211600@saintandrews.org
SUMMARY:TRADITIONAL WORSHIP EXPERIENCE - IN PERSON & ONLINE
DESCRIPTION:Traditional worship services typically include Holy Communion\, a sermon\, hymns\, liturgy\, and choral and instrumental music.
URL:https://saintandrews.org/event/traditional-worship-experience-in-person-online/2025-08-03/
LOCATION:St. Andrew’s Sanctuary Building\, 120 East Avenue - Door #1\, Mahtomedi\, MN\, 55115\, United States
ATTACH;FMTTYPE=image/jpeg:https://saintandrews.org/wp-content/uploads/Traditional-Worship-2024-1920x1080-1.jpg
ORGANIZER;CN="St. Andrew's Lutheran Church":MAILTO:office@saintandrews.org
END:VEVENT
BEGIN:VEVENT
DTSTART;TZID=UTC:20250802T170000
DTEND;TZID=UTC:20250802T180000
DTSTAMP:20260422T064616
CREATED:20250712T183750Z
LAST-MODIFIED:20250712T183751Z
UID:10008716-1754154000-1754157600@saintandrews.org
SUMMARY:CONTEMPORARY WORSHIP SERVICE - IN PERSON & ONLINE
DESCRIPTION:Saturday at 5:00 p.m. in the Great Hall \n\n\n\nSaturday evening worship services are at 5pm in the Great Hall and also live streamed via ChurchOnline.
URL:https://saintandrews.org/event/contemporary-worship-service-in-person-online-4/2025-08-02/
LOCATION:St. Andrew’s Great Hall\, 900 Stillwater Road\, Mahtomedi\, MN\, 55115\, United States
ATTACH;FMTTYPE=image/jpeg:https://saintandrews.org/wp-content/uploads/Contemporary-Worship-2024-1920x1080-1.jpg
ORGANIZER;CN="St. Andrew's Lutheran Church":MAILTO:office@saintandrews.org
END:VEVENT
BEGIN:VEVENT
DTSTART;TZID=America/Chicago:20250727T103000
DTEND;TZID=America/Chicago:20250727T103000
DTSTAMP:20260422T064616
CREATED:20250712T185840Z
LAST-MODIFIED:20260115T195441Z
UID:10009498-1753612200-1753612200@saintandrews.org
SUMMARY:TRADITIONAL WORSHIP EXPERIENCE
DESCRIPTION:Traditional worship services typically include Holy Communion\, a sermon\, hymns\, liturgy\, and choral and instrumental music.
URL:https://saintandrews.org/event/traditional-worship-experience/2025-07-27/
LOCATION:St. Andrew’s Sanctuary Building\, 120 East Avenue - Door #1\, Mahtomedi\, MN\, 55115\, United States
ATTACH;FMTTYPE=image/jpeg:https://saintandrews.org/wp-content/uploads/Traditional-Worship-2024-1920x1080-1.jpg
ORGANIZER;CN="St. Andrew's Lutheran Church":MAILTO:office@saintandrews.org
END:VEVENT
BEGIN:VEVENT
DTSTART;TZID=UTC:20250727T101500
DTEND;TZID=UTC:20250727T111500
DTSTAMP:20260422T064616
CREATED:20250712T190540Z
LAST-MODIFIED:20260115T195348Z
UID:10001043-1753611300-1753614900@saintandrews.org
SUMMARY:CONTEMPORARY WORSHIP SERVICE - ONLINE
DESCRIPTION:Enjoy online worship services every Sunday at 10:15am.
URL:https://saintandrews.org/event/contemporary-worship-service-online-3/2025-07-27/
ATTACH;FMTTYPE=image/jpeg:https://saintandrews.org/wp-content/uploads/Contemporary-Worship-2024-1920x1080-1.jpg
ORGANIZER;CN="St. Andrew's Lutheran Church":MAILTO:office@saintandrews.org
END:VEVENT
BEGIN:VEVENT
DTSTART;TZID=America/Chicago:20250727T090000
DTEND;TZID=America/Chicago:20250727T090000
DTSTAMP:20260422T064616
CREATED:20250712T185516Z
LAST-MODIFIED:20260115T195203Z
UID:10008976-1753606800-1753606800@saintandrews.org
SUMMARY:TRADITIONAL WORSHIP EXPERIENCE - IN PERSON & ONLINE
DESCRIPTION:Traditional worship services typically include Holy Communion\, a sermon\, hymns\, liturgy\, and choral and instrumental music.
URL:https://saintandrews.org/event/traditional-worship-experience-in-person-online/2025-07-27/
LOCATION:St. Andrew’s Sanctuary Building\, 120 East Avenue - Door #1\, Mahtomedi\, MN\, 55115\, United States
ATTACH;FMTTYPE=image/jpeg:https://saintandrews.org/wp-content/uploads/Traditional-Worship-2024-1920x1080-1.jpg
ORGANIZER;CN="St. Andrew's Lutheran Church":MAILTO:office@saintandrews.org
END:VEVENT
BEGIN:VEVENT
DTSTART;TZID=UTC:20250726T170000
DTEND;TZID=UTC:20250726T180000
DTSTAMP:20260422T064616
CREATED:20250712T183750Z
LAST-MODIFIED:20250712T183751Z
UID:10008715-1753549200-1753552800@saintandrews.org
SUMMARY:CONTEMPORARY WORSHIP SERVICE - IN PERSON & ONLINE
DESCRIPTION:Saturday at 5:00 p.m. in the Great Hall \n\n\n\nSaturday evening worship services are at 5pm in the Great Hall and also live streamed via ChurchOnline.
URL:https://saintandrews.org/event/contemporary-worship-service-in-person-online-4/2025-07-26/
LOCATION:St. Andrew’s Great Hall\, 900 Stillwater Road\, Mahtomedi\, MN\, 55115\, United States
ATTACH;FMTTYPE=image/jpeg:https://saintandrews.org/wp-content/uploads/Contemporary-Worship-2024-1920x1080-1.jpg
ORGANIZER;CN="St. Andrew's Lutheran Church":MAILTO:office@saintandrews.org
END:VEVENT
BEGIN:VEVENT
DTSTART;TZID=America/Chicago:20250720T103000
DTEND;TZID=America/Chicago:20250720T103000
DTSTAMP:20260422T064616
CREATED:20250712T185840Z
LAST-MODIFIED:20260115T195441Z
UID:10009497-1753007400-1753007400@saintandrews.org
SUMMARY:TRADITIONAL WORSHIP EXPERIENCE
DESCRIPTION:Traditional worship services typically include Holy Communion\, a sermon\, hymns\, liturgy\, and choral and instrumental music.
URL:https://saintandrews.org/event/traditional-worship-experience/2025-07-20/
LOCATION:St. Andrew’s Sanctuary Building\, 120 East Avenue - Door #1\, Mahtomedi\, MN\, 55115\, United States
ATTACH;FMTTYPE=image/jpeg:https://saintandrews.org/wp-content/uploads/Traditional-Worship-2024-1920x1080-1.jpg
ORGANIZER;CN="St. Andrew's Lutheran Church":MAILTO:office@saintandrews.org
END:VEVENT
BEGIN:VEVENT
DTSTART;TZID=UTC:20250720T101500
DTEND;TZID=UTC:20250720T111500
DTSTAMP:20260422T064616
CREATED:20250712T190540Z
LAST-MODIFIED:20260115T195348Z
UID:10001042-1753006500-1753010100@saintandrews.org
SUMMARY:CONTEMPORARY WORSHIP SERVICE - ONLINE
DESCRIPTION:Enjoy online worship services every Sunday at 10:15am.
URL:https://saintandrews.org/event/contemporary-worship-service-online-3/2025-07-20/
ATTACH;FMTTYPE=image/jpeg:https://saintandrews.org/wp-content/uploads/Contemporary-Worship-2024-1920x1080-1.jpg
ORGANIZER;CN="St. Andrew's Lutheran Church":MAILTO:office@saintandrews.org
END:VEVENT
BEGIN:VEVENT
DTSTART;TZID=America/Chicago:20250720T090000
DTEND;TZID=America/Chicago:20250720T090000
DTSTAMP:20260422T064616
CREATED:20250712T185516Z
LAST-MODIFIED:20260115T195203Z
UID:10008975-1753002000-1753002000@saintandrews.org
SUMMARY:TRADITIONAL WORSHIP EXPERIENCE - IN PERSON & ONLINE
DESCRIPTION:Traditional worship services typically include Holy Communion\, a sermon\, hymns\, liturgy\, and choral and instrumental music.
URL:https://saintandrews.org/event/traditional-worship-experience-in-person-online/2025-07-20/
LOCATION:St. Andrew’s Sanctuary Building\, 120 East Avenue - Door #1\, Mahtomedi\, MN\, 55115\, United States
ATTACH;FMTTYPE=image/jpeg:https://saintandrews.org/wp-content/uploads/Traditional-Worship-2024-1920x1080-1.jpg
ORGANIZER;CN="St. Andrew's Lutheran Church":MAILTO:office@saintandrews.org
END:VEVENT
BEGIN:VEVENT
DTSTART;TZID=UTC:20250719T170000
DTEND;TZID=UTC:20250719T180000
DTSTAMP:20260422T064616
CREATED:20250712T183750Z
LAST-MODIFIED:20250712T183751Z
UID:10008714-1752944400-1752948000@saintandrews.org
SUMMARY:CONTEMPORARY WORSHIP SERVICE - IN PERSON & ONLINE
DESCRIPTION:Saturday at 5:00 p.m. in the Great Hall \n\n\n\nSaturday evening worship services are at 5pm in the Great Hall and also live streamed via ChurchOnline.
URL:https://saintandrews.org/event/contemporary-worship-service-in-person-online-4/2025-07-19/
LOCATION:St. Andrew’s Great Hall\, 900 Stillwater Road\, Mahtomedi\, MN\, 55115\, United States
ATTACH;FMTTYPE=image/jpeg:https://saintandrews.org/wp-content/uploads/Contemporary-Worship-2024-1920x1080-1.jpg
ORGANIZER;CN="St. Andrew's Lutheran Church":MAILTO:office@saintandrews.org
END:VEVENT
BEGIN:VEVENT
DTSTART;TZID=America/Chicago:20250715T083000
DTEND;TZID=America/Chicago:20250715T093000
DTSTAMP:20260422T064616
CREATED:20250612T165100Z
LAST-MODIFIED:20250612T165207Z
UID:10008127-1752568200-1752571800@saintandrews.org
SUMMARY:MEET & GREET WITH KIPANGA PASTORS!
DESCRIPTION:Meet Pastor Lunyiliko Matagi and other leaders from the Kipanga Parish! This is an opportunity for us to exchange greetings\, ask questions\, share about St. Andrew’s\, and learn about our partners in Kipanga.
URL:https://saintandrews.org/event/meet-greet-with-kipanga-pastors/
CATEGORIES:Adult Education,Adult Ministries,Bega Kwa Bega,Missions
ATTACH;FMTTYPE=image/jpeg:https://saintandrews.org/wp-content/uploads/Meet-Greet-Kipanga-Pastors-1920x1080-1.jpg
ORGANIZER;CN="St. Andrew's Lutheran Church":MAILTO:office@saintandrews.org
END:VEVENT
BEGIN:VEVENT
DTSTART;TZID=America/Chicago:20250713T103000
DTEND;TZID=America/Chicago:20250713T103000
DTSTAMP:20260422T064616
CREATED:20250712T185840Z
LAST-MODIFIED:20260115T195441Z
UID:10009496-1752402600-1752402600@saintandrews.org
SUMMARY:TRADITIONAL WORSHIP EXPERIENCE
DESCRIPTION:Traditional worship services typically include Holy Communion\, a sermon\, hymns\, liturgy\, and choral and instrumental music.
URL:https://saintandrews.org/event/traditional-worship-experience/2025-07-13/
LOCATION:St. Andrew’s Sanctuary Building\, 120 East Avenue - Door #1\, Mahtomedi\, MN\, 55115\, United States
ATTACH;FMTTYPE=image/jpeg:https://saintandrews.org/wp-content/uploads/Traditional-Worship-2024-1920x1080-1.jpg
ORGANIZER;CN="St. Andrew's Lutheran Church":MAILTO:office@saintandrews.org
END:VEVENT
BEGIN:VEVENT
DTSTART;TZID=UTC:20250713T101500
DTEND;TZID=UTC:20250713T111500
DTSTAMP:20260422T064616
CREATED:20250712T190540Z
LAST-MODIFIED:20260115T195348Z
UID:10001041-1752401700-1752405300@saintandrews.org
SUMMARY:CONTEMPORARY WORSHIP SERVICE - ONLINE
DESCRIPTION:Enjoy online worship services every Sunday at 10:15am.
URL:https://saintandrews.org/event/contemporary-worship-service-online-3/2025-07-13/
ATTACH;FMTTYPE=image/jpeg:https://saintandrews.org/wp-content/uploads/Contemporary-Worship-2024-1920x1080-1.jpg
ORGANIZER;CN="St. Andrew's Lutheran Church":MAILTO:office@saintandrews.org
END:VEVENT
BEGIN:VEVENT
DTSTART;TZID=America/Chicago:20250713T090000
DTEND;TZID=America/Chicago:20250713T090000
DTSTAMP:20260422T064616
CREATED:20250712T185516Z
LAST-MODIFIED:20260115T195203Z
UID:10008974-1752397200-1752397200@saintandrews.org
SUMMARY:TRADITIONAL WORSHIP EXPERIENCE - IN PERSON & ONLINE
DESCRIPTION:Traditional worship services typically include Holy Communion\, a sermon\, hymns\, liturgy\, and choral and instrumental music.
URL:https://saintandrews.org/event/traditional-worship-experience-in-person-online/2025-07-13/
LOCATION:St. Andrew’s Sanctuary Building\, 120 East Avenue - Door #1\, Mahtomedi\, MN\, 55115\, United States
ATTACH;FMTTYPE=image/jpeg:https://saintandrews.org/wp-content/uploads/Traditional-Worship-2024-1920x1080-1.jpg
ORGANIZER;CN="St. Andrew's Lutheran Church":MAILTO:office@saintandrews.org
END:VEVENT
END:VCALENDAR