BEGIN:VCALENDAR
VERSION:2.0
PRODID:-//St. Andrew&#039;s Lutheran Church - ECPv6.15.20//NONSGML v1.0//EN
CALSCALE:GREGORIAN
METHOD:PUBLISH
X-WR-CALNAME:St. Andrew&#039;s Lutheran Church
X-ORIGINAL-URL:https://saintandrews.org
X-WR-CALDESC:Events for St. Andrew&#039;s Lutheran Church
REFRESH-INTERVAL;VALUE=DURATION:PT1H
X-Robots-Tag:noindex
X-PUBLISHED-TTL:PT1H
BEGIN:VTIMEZONE
TZID:America/Chicago
BEGIN:DAYLIGHT
TZOFFSETFROM:-0600
TZOFFSETTO:-0500
TZNAME:CDT
DTSTART:20240310T080000
END:DAYLIGHT
BEGIN:STANDARD
TZOFFSETFROM:-0500
TZOFFSETTO:-0600
TZNAME:CST
DTSTART:20241103T070000
END:STANDARD
BEGIN:DAYLIGHT
TZOFFSETFROM:-0600
TZOFFSETTO:-0500
TZNAME:CDT
DTSTART:20250309T080000
END:DAYLIGHT
BEGIN:STANDARD
TZOFFSETFROM:-0500
TZOFFSETTO:-0600
TZNAME:CST
DTSTART:20251102T070000
END:STANDARD
BEGIN:DAYLIGHT
TZOFFSETFROM:-0600
TZOFFSETTO:-0500
TZNAME:CDT
DTSTART:20260308T080000
END:DAYLIGHT
BEGIN:STANDARD
TZOFFSETFROM:-0500
TZOFFSETTO:-0600
TZNAME:CST
DTSTART:20261101T070000
END:STANDARD
END:VTIMEZONE
BEGIN:VTIMEZONE
TZID:UTC
BEGIN:STANDARD
TZOFFSETFROM:+0000
TZOFFSETTO:+0000
TZNAME:UTC
DTSTART:20240101T000000
END:STANDARD
END:VTIMEZONE
BEGIN:VEVENT
DTSTART;TZID=America/Chicago:20250921T083000
DTEND;TZID=America/Chicago:20250921T120000
DTSTAMP:20260422T042057
CREATED:20250903T193718Z
LAST-MODIFIED:20250903T193719Z
UID:10012696-1758443400-1758456000@saintandrews.org
SUMMARY:CUB SCOUTS POPCORN SALE
DESCRIPTION:St. Andrew’s Cub Scouts Pack will sell popcorn and snacks after worship services on Sunday\, September 21. Proceeds support scout activities and camps throughout the year. Stop by and purchase snacks to take home!
URL:https://saintandrews.org/event/cub-scouts-popcorn-sale/
LOCATION:St. Andrew’s Sanctuary Building\, 120 East Avenue - Door #1\, Mahtomedi\, MN\, 55115\, United States
CATEGORIES:Elementary,High School,Middle School
ATTACH;FMTTYPE=image/jpeg:https://saintandrews.org/wp-content/uploads/Boy-Scout-Popcorn-Sales-2-1920x1080-1.jpg
ORGANIZER;CN="St. Andrew's Lutheran Church":MAILTO:office@saintandrews.org
END:VEVENT
BEGIN:VEVENT
DTSTART;TZID=America/Chicago:20250920T170000
DTEND;TZID=America/Chicago:20250920T170000
DTSTAMP:20260422T042057
CREATED:20250902T201110Z
LAST-MODIFIED:20260115T195101Z
UID:10011253-1758387600-1758387600@saintandrews.org
SUMMARY:CONTEMPORARY WORSHIP SERVICE - IN PERSON & ONLINE
DESCRIPTION:Saturday evening worship services are at 5pm in the Great Hall and also live streamed via ChurchOnline.
URL:https://saintandrews.org/event/contemporary-worship-service-in-person-online-6/2025-09-20/
LOCATION:St. Andrew’s Great Hall\, 900 Stillwater Road\, Mahtomedi\, MN\, 55115\, United States
CATEGORIES:Worship
ATTACH;FMTTYPE=image/jpeg:https://saintandrews.org/wp-content/uploads/Contemporary-Worship-2024-1920x1080-1.jpg
ORGANIZER;CN="St. Andrew's Lutheran Church":MAILTO:office@saintandrews.org
END:VEVENT
BEGIN:VEVENT
DTSTART;TZID=America/Chicago:20250918T100000
DTEND;TZID=America/Chicago:20250918T140000
DTSTAMP:20260422T042057
CREATED:20250807T122636Z
LAST-MODIFIED:20250908T160824Z
UID:10010834-1758189600-1758204000@saintandrews.org
SUMMARY:SENIOR COMMUNITY CENTER
DESCRIPTION:The Senior Community Center is open to all senior adults\, every Monday—Thursday\, 10am–2pm. Drop-ins welcome. But\, RSVP is required for lunch. Enjoy fellowship\, games\, lunch (donations accepted) and periodic services such as tech help\, Medicare tutelage\, foot care\, and more. Check out the lunch menu below and register for lunch HERE or by calling 651.426.3261. \n\n\n\nVolunteers welcome! Help at the registration table\, greet\, serve lunch\, play games\, or just be a friendly face. Sign up to serve HERE.
URL:https://saintandrews.org/event/senior-community-center/2025-09-18/
LOCATION:Great Hall Narthex\, 900 Stillwater Road\, Mahtomedi\, Minnesota\, 55115
CATEGORIES:Adult Ministries,Senior Community Center
ATTACH;FMTTYPE=image/jpeg:https://saintandrews.org/wp-content/uploads/Senior-Community-Center-scaled.jpg
ORGANIZER;CN="St. Andrew's Lutheran Church":MAILTO:office@saintandrews.org
END:VEVENT
BEGIN:VEVENT
DTSTART;TZID=UTC:20250917T183000
DTEND;TZID=UTC:20250917T191500
DTSTAMP:20260422T042057
CREATED:20250811T174824Z
LAST-MODIFIED:20250811T174850Z
UID:10011035-1758133800-1758136500@saintandrews.org
SUMMARY:VOLUNTEER TRAINING\, INVESTMENT & INVITE
DESCRIPTION:Wednesdays\, September 10\, 17 & 24 – Sanctuary Fellowship Hall \n\n\n\nGrow in Serving! If you serve or are interested in serving at St. Andrew’s\, come be encouraged and inspired. These three Wednesday night sessions are for people of all ages\, in all ministry areas. There are so many opportunities to serve! Focus will be on growing our understanding\, passion\, and leadership as we serve. Sessions facilitated by Lead Pastor Mike Carlson and St. Andrew’s member Matt Langer\, Director of Global Policing with the International Association of Chiefs of Police.COME EARLY FOR DINNER! Wednesday Night Dinner is available in the Fellowship Hall immediately prior\, served 4:45-6:15pm. Cost of dinner is “pay-as-you’re able\,” with a suggested donation of $4-6 for children (ages 3 and up) and $6-8 for adults. Cash\, check\, debit/credit cards\, and Apple Pay are accepted.
URL:https://saintandrews.org/event/volunteer-training-investment-invite/2025-09-17/
LOCATION:Sanctuary Fellowship Hall\, 900 Stillwater Rd\, Mahtomedi\, MN\, 55115\, United States
CATEGORIES:Adult Education,Adult Ministries,Children, Youth & Family,Membership & Volunteers
ATTACH;FMTTYPE=image/jpeg:https://saintandrews.org/wp-content/uploads/Volunteer-Training-1920x1080-1.jpg
ORGANIZER;CN="St. Andrew's Lutheran Church":MAILTO:office@saintandrews.org
END:VEVENT
BEGIN:VEVENT
DTSTART;TZID=UTC:20250917T164500
DTEND;TZID=UTC:20250917T181500
DTSTAMP:20260422T042057
CREATED:20250611T193838Z
LAST-MODIFIED:20250611T193939Z
UID:10008095-1758127500-1758132900@saintandrews.org
SUMMARY:WEDNESDAY NIGHT DINNER
DESCRIPTION:Wednesday Night Dinner runs September 10\, 2025 – May 6\, 2026  \n\n\n\nWednesday night is church night! We serve a delicious meal (made in house!) for children\, adults\, and families participating in Wednesday programs (including kids and adult choirs\, Confirmation\, and LIFEU) and anyone looking for a break from cooking. Dinner is available 4:45-6:15pm in the Sanctuary Fellowship Hall. All are welcome!   \n\n\n\nSuggested donation is $4-6 for children (ages 3 and up) and $6-8 for adults. Cash\, check\, debit/credit cards\, and Apple Pay are accepted. “Pay-as-you’re able!” VOLUNTEER! We can use your help! Join our volunteer teams that prepare the meals on Tuesdays and set up\, serve\, and clean up on Wednesdays. It’s a fun way to be part of our church family while giving back. Details at saintandrews.org/volunteer.
URL:https://saintandrews.org/event/wednesday-night-dinner-4/2025-09-17/
LOCATION:Sanctuary Fellowship Hall\, 900 Stillwater Rd\, Mahtomedi\, MN\, 55115\, United States
ATTACH;FMTTYPE=image/jpeg:https://saintandrews.org/wp-content/uploads/Wednesday-Night-Dinner-2-1920x1080-1.jpg
ORGANIZER;CN="St. Andrew's Lutheran Church":MAILTO:office@saintandrews.org
END:VEVENT
BEGIN:VEVENT
DTSTART;TZID=America/Chicago:20250917T100000
DTEND;TZID=America/Chicago:20250917T140000
DTSTAMP:20260422T042057
CREATED:20250807T122636Z
LAST-MODIFIED:20250908T160824Z
UID:10010833-1758103200-1758117600@saintandrews.org
SUMMARY:SENIOR COMMUNITY CENTER
DESCRIPTION:The Senior Community Center is open to all senior adults\, every Monday—Thursday\, 10am–2pm. Drop-ins welcome. But\, RSVP is required for lunch. Enjoy fellowship\, games\, lunch (donations accepted) and periodic services such as tech help\, Medicare tutelage\, foot care\, and more. Check out the lunch menu below and register for lunch HERE or by calling 651.426.3261. \n\n\n\nVolunteers welcome! Help at the registration table\, greet\, serve lunch\, play games\, or just be a friendly face. Sign up to serve HERE.
URL:https://saintandrews.org/event/senior-community-center/2025-09-17/
LOCATION:Great Hall Narthex\, 900 Stillwater Road\, Mahtomedi\, Minnesota\, 55115
CATEGORIES:Adult Ministries,Senior Community Center
ATTACH;FMTTYPE=image/jpeg:https://saintandrews.org/wp-content/uploads/Senior-Community-Center-scaled.jpg
ORGANIZER;CN="St. Andrew's Lutheran Church":MAILTO:office@saintandrews.org
END:VEVENT
BEGIN:VEVENT
DTSTART;TZID=America/Chicago:20250915T100000
DTEND;TZID=America/Chicago:20250915T140000
DTSTAMP:20260422T042057
CREATED:20250807T122636Z
LAST-MODIFIED:20250908T160824Z
UID:10010831-1757930400-1757944800@saintandrews.org
SUMMARY:SENIOR COMMUNITY CENTER
DESCRIPTION:The Senior Community Center is open to all senior adults\, every Monday—Thursday\, 10am–2pm. Drop-ins welcome. But\, RSVP is required for lunch. Enjoy fellowship\, games\, lunch (donations accepted) and periodic services such as tech help\, Medicare tutelage\, foot care\, and more. Check out the lunch menu below and register for lunch HERE or by calling 651.426.3261. \n\n\n\nVolunteers welcome! Help at the registration table\, greet\, serve lunch\, play games\, or just be a friendly face. Sign up to serve HERE.
URL:https://saintandrews.org/event/senior-community-center/2025-09-15/
LOCATION:Great Hall Narthex\, 900 Stillwater Road\, Mahtomedi\, Minnesota\, 55115
CATEGORIES:Adult Ministries,Senior Community Center
ATTACH;FMTTYPE=image/jpeg:https://saintandrews.org/wp-content/uploads/Senior-Community-Center-scaled.jpg
ORGANIZER;CN="St. Andrew's Lutheran Church":MAILTO:office@saintandrews.org
END:VEVENT
BEGIN:VEVENT
DTSTART;TZID=America/Chicago:20250914T103000
DTEND;TZID=America/Chicago:20250914T103000
DTSTAMP:20260422T042057
CREATED:20250712T185840Z
LAST-MODIFIED:20260115T195441Z
UID:10009505-1757845800-1757845800@saintandrews.org
SUMMARY:TRADITIONAL WORSHIP EXPERIENCE
DESCRIPTION:Traditional worship services typically include Holy Communion\, a sermon\, hymns\, liturgy\, and choral and instrumental music.
URL:https://saintandrews.org/event/traditional-worship-experience/2025-09-14/
LOCATION:St. Andrew’s Sanctuary Building\, 120 East Avenue - Door #1\, Mahtomedi\, MN\, 55115\, United States
ATTACH;FMTTYPE=image/jpeg:https://saintandrews.org/wp-content/uploads/Traditional-Worship-2024-1920x1080-1.jpg
ORGANIZER;CN="St. Andrew's Lutheran Church":MAILTO:office@saintandrews.org
END:VEVENT
BEGIN:VEVENT
DTSTART;TZID=UTC:20250914T101500
DTEND;TZID=UTC:20250914T111500
DTSTAMP:20260422T042057
CREATED:20250712T190540Z
LAST-MODIFIED:20260115T195348Z
UID:10001050-1757844900-1757848500@saintandrews.org
SUMMARY:CONTEMPORARY WORSHIP SERVICE - ONLINE
DESCRIPTION:Enjoy online worship services every Sunday at 10:15am.
URL:https://saintandrews.org/event/contemporary-worship-service-online-3/2025-09-14/
ATTACH;FMTTYPE=image/jpeg:https://saintandrews.org/wp-content/uploads/Contemporary-Worship-2024-1920x1080-1.jpg
ORGANIZER;CN="St. Andrew's Lutheran Church":MAILTO:office@saintandrews.org
END:VEVENT
BEGIN:VEVENT
DTSTART;TZID=America/Chicago:20250914T093000
DTEND;TZID=America/Chicago:20250914T093000
DTSTAMP:20260422T042057
CREATED:20250902T203702Z
LAST-MODIFIED:20260115T195256Z
UID:10012059-1757842200-1757842200@saintandrews.org
SUMMARY:CONTEMPORARY WORSHIP SERVICE
DESCRIPTION:Sunday morning Contemporary worship services are at 9:30am in the Great Hall.
URL:https://saintandrews.org/event/contemporary-worship-service-3/2025-09-14/
LOCATION:St. Andrew’s Great Hall\, 900 Stillwater Road\, Mahtomedi\, MN\, 55115\, United States
CATEGORIES:Worship
ATTACH;FMTTYPE=image/jpeg:https://saintandrews.org/wp-content/uploads/Contemporary-Worship-2024-1920x1080-1.jpg
ORGANIZER;CN="St. Andrew's Lutheran Church":MAILTO:office@saintandrews.org
END:VEVENT
BEGIN:VEVENT
DTSTART;TZID=America/Chicago:20250914T090000
DTEND;TZID=America/Chicago:20250914T090000
DTSTAMP:20260422T042057
CREATED:20250712T185516Z
LAST-MODIFIED:20260115T195203Z
UID:10008983-1757840400-1757840400@saintandrews.org
SUMMARY:TRADITIONAL WORSHIP EXPERIENCE - IN PERSON & ONLINE
DESCRIPTION:Traditional worship services typically include Holy Communion\, a sermon\, hymns\, liturgy\, and choral and instrumental music.
URL:https://saintandrews.org/event/traditional-worship-experience-in-person-online/2025-09-14/
LOCATION:St. Andrew’s Sanctuary Building\, 120 East Avenue - Door #1\, Mahtomedi\, MN\, 55115\, United States
ATTACH;FMTTYPE=image/jpeg:https://saintandrews.org/wp-content/uploads/Traditional-Worship-2024-1920x1080-1.jpg
ORGANIZER;CN="St. Andrew's Lutheran Church":MAILTO:office@saintandrews.org
END:VEVENT
BEGIN:VEVENT
DTSTART;TZID=America/Chicago:20250913T170000
DTEND;TZID=America/Chicago:20250913T170000
DTSTAMP:20260422T042057
CREATED:20250902T201110Z
LAST-MODIFIED:20260115T195101Z
UID:10011252-1757782800-1757782800@saintandrews.org
SUMMARY:CONTEMPORARY WORSHIP SERVICE - IN PERSON & ONLINE
DESCRIPTION:Saturday evening worship services are at 5pm in the Great Hall and also live streamed via ChurchOnline.
URL:https://saintandrews.org/event/contemporary-worship-service-in-person-online-6/2025-09-13/
LOCATION:St. Andrew’s Great Hall\, 900 Stillwater Road\, Mahtomedi\, MN\, 55115\, United States
CATEGORIES:Worship
ATTACH;FMTTYPE=image/jpeg:https://saintandrews.org/wp-content/uploads/Contemporary-Worship-2024-1920x1080-1.jpg
ORGANIZER;CN="St. Andrew's Lutheran Church":MAILTO:office@saintandrews.org
END:VEVENT
BEGIN:VEVENT
DTSTART;TZID=UTC:20250910T183000
DTEND;TZID=UTC:20250910T191500
DTSTAMP:20260422T042057
CREATED:20250811T174824Z
LAST-MODIFIED:20250811T174850Z
UID:10011034-1757529000-1757531700@saintandrews.org
SUMMARY:VOLUNTEER TRAINING\, INVESTMENT & INVITE
DESCRIPTION:Wednesdays\, September 10\, 17 & 24 – Sanctuary Fellowship Hall \n\n\n\nGrow in Serving! If you serve or are interested in serving at St. Andrew’s\, come be encouraged and inspired. These three Wednesday night sessions are for people of all ages\, in all ministry areas. There are so many opportunities to serve! Focus will be on growing our understanding\, passion\, and leadership as we serve. Sessions facilitated by Lead Pastor Mike Carlson and St. Andrew’s member Matt Langer\, Director of Global Policing with the International Association of Chiefs of Police.COME EARLY FOR DINNER! Wednesday Night Dinner is available in the Fellowship Hall immediately prior\, served 4:45-6:15pm. Cost of dinner is “pay-as-you’re able\,” with a suggested donation of $4-6 for children (ages 3 and up) and $6-8 for adults. Cash\, check\, debit/credit cards\, and Apple Pay are accepted.
URL:https://saintandrews.org/event/volunteer-training-investment-invite/2025-09-10/
LOCATION:Sanctuary Fellowship Hall\, 900 Stillwater Rd\, Mahtomedi\, MN\, 55115\, United States
CATEGORIES:Adult Education,Adult Ministries,Children, Youth & Family,Membership & Volunteers
ATTACH;FMTTYPE=image/jpeg:https://saintandrews.org/wp-content/uploads/Volunteer-Training-1920x1080-1.jpg
ORGANIZER;CN="St. Andrew's Lutheran Church":MAILTO:office@saintandrews.org
END:VEVENT
BEGIN:VEVENT
DTSTART;TZID=UTC:20250910T164500
DTEND;TZID=UTC:20250910T181500
DTSTAMP:20260422T042057
CREATED:20250611T193838Z
LAST-MODIFIED:20250611T193939Z
UID:10008094-1757522700-1757528100@saintandrews.org
SUMMARY:WEDNESDAY NIGHT DINNER
DESCRIPTION:Wednesday Night Dinner runs September 10\, 2025 – May 6\, 2026  \n\n\n\nWednesday night is church night! We serve a delicious meal (made in house!) for children\, adults\, and families participating in Wednesday programs (including kids and adult choirs\, Confirmation\, and LIFEU) and anyone looking for a break from cooking. Dinner is available 4:45-6:15pm in the Sanctuary Fellowship Hall. All are welcome!   \n\n\n\nSuggested donation is $4-6 for children (ages 3 and up) and $6-8 for adults. Cash\, check\, debit/credit cards\, and Apple Pay are accepted. “Pay-as-you’re able!” VOLUNTEER! We can use your help! Join our volunteer teams that prepare the meals on Tuesdays and set up\, serve\, and clean up on Wednesdays. It’s a fun way to be part of our church family while giving back. Details at saintandrews.org/volunteer.
URL:https://saintandrews.org/event/wednesday-night-dinner-4/2025-09-10/
LOCATION:Sanctuary Fellowship Hall\, 900 Stillwater Rd\, Mahtomedi\, MN\, 55115\, United States
ATTACH;FMTTYPE=image/jpeg:https://saintandrews.org/wp-content/uploads/Wednesday-Night-Dinner-2-1920x1080-1.jpg
ORGANIZER;CN="St. Andrew's Lutheran Church":MAILTO:office@saintandrews.org
END:VEVENT
BEGIN:VEVENT
DTSTART;TZID=America/Chicago:20250907T103000
DTEND;TZID=America/Chicago:20250907T103000
DTSTAMP:20260422T042057
CREATED:20250712T185840Z
LAST-MODIFIED:20260115T195441Z
UID:10009504-1757241000-1757241000@saintandrews.org
SUMMARY:TRADITIONAL WORSHIP EXPERIENCE
DESCRIPTION:Traditional worship services typically include Holy Communion\, a sermon\, hymns\, liturgy\, and choral and instrumental music.
URL:https://saintandrews.org/event/traditional-worship-experience/2025-09-07/
LOCATION:St. Andrew’s Sanctuary Building\, 120 East Avenue - Door #1\, Mahtomedi\, MN\, 55115\, United States
ATTACH;FMTTYPE=image/jpeg:https://saintandrews.org/wp-content/uploads/Traditional-Worship-2024-1920x1080-1.jpg
ORGANIZER;CN="St. Andrew's Lutheran Church":MAILTO:office@saintandrews.org
END:VEVENT
BEGIN:VEVENT
DTSTART;TZID=UTC:20250907T101500
DTEND;TZID=UTC:20250907T111500
DTSTAMP:20260422T042057
CREATED:20250712T190540Z
LAST-MODIFIED:20260115T195348Z
UID:10001049-1757240100-1757243700@saintandrews.org
SUMMARY:CONTEMPORARY WORSHIP SERVICE - ONLINE
DESCRIPTION:Enjoy online worship services every Sunday at 10:15am.
URL:https://saintandrews.org/event/contemporary-worship-service-online-3/2025-09-07/
ATTACH;FMTTYPE=image/jpeg:https://saintandrews.org/wp-content/uploads/Contemporary-Worship-2024-1920x1080-1.jpg
ORGANIZER;CN="St. Andrew's Lutheran Church":MAILTO:office@saintandrews.org
END:VEVENT
BEGIN:VEVENT
DTSTART;TZID=America/Chicago:20250907T093000
DTEND;TZID=America/Chicago:20250907T093000
DTSTAMP:20260422T042057
CREATED:20250902T203702Z
LAST-MODIFIED:20260115T195256Z
UID:10012058-1757237400-1757237400@saintandrews.org
SUMMARY:CONTEMPORARY WORSHIP SERVICE
DESCRIPTION:Sunday morning Contemporary worship services are at 9:30am in the Great Hall.
URL:https://saintandrews.org/event/contemporary-worship-service-3/2025-09-07/
LOCATION:St. Andrew’s Great Hall\, 900 Stillwater Road\, Mahtomedi\, MN\, 55115\, United States
CATEGORIES:Worship
ATTACH;FMTTYPE=image/jpeg:https://saintandrews.org/wp-content/uploads/Contemporary-Worship-2024-1920x1080-1.jpg
ORGANIZER;CN="St. Andrew's Lutheran Church":MAILTO:office@saintandrews.org
END:VEVENT
BEGIN:VEVENT
DTSTART;TZID=UTC:20250907T090000
DTEND;TZID=UTC:20250907T120000
DTSTAMP:20260422T042057
CREATED:20250827T170241Z
LAST-MODIFIED:20250827T170345Z
UID:10011182-1757235600-1757246400@saintandrews.org
SUMMARY:FALL KICKOFF - 2025
DESCRIPTION:During Fall Kickoff weekend (September 6-7)\, come discover ways you can grow at St. Andrew’s. Enjoy contemporary and traditional worship services\, festive music\, fall foods\, and kids’ games and activities! Fall Kickoff is for those looking for a church family\, as well as those who already call St. Andrew’s home. Pick up a postcard at the Welcome Desk to invite someone new!
URL:https://saintandrews.org/event/fall-kickoff-2025-duplicate/
LOCATION:St. Andrew’s Sanctuary Building\, 120 East Avenue - Door #1\, Mahtomedi\, MN\, 55115\, United States
CATEGORIES:Adult Education,Adult Ministries,Bible Studies,Care Ministry,Children, Youth & Family,LifeU,Membership & Volunteers,Missions,Music,Special Interest Groups,Worship
ATTACH;FMTTYPE=image/jpeg:https://saintandrews.org/wp-content/uploads/Grow-Graphic-Phrases-20253-scaled.jpg
ORGANIZER;CN="St. Andrew's Lutheran Church":MAILTO:office@saintandrews.org
END:VEVENT
BEGIN:VEVENT
DTSTART;TZID=America/Chicago:20250907T090000
DTEND;TZID=America/Chicago:20250907T090000
DTSTAMP:20260422T042057
CREATED:20250712T185516Z
LAST-MODIFIED:20260115T195203Z
UID:10008982-1757235600-1757235600@saintandrews.org
SUMMARY:TRADITIONAL WORSHIP EXPERIENCE - IN PERSON & ONLINE
DESCRIPTION:Traditional worship services typically include Holy Communion\, a sermon\, hymns\, liturgy\, and choral and instrumental music.
URL:https://saintandrews.org/event/traditional-worship-experience-in-person-online/2025-09-07/
LOCATION:St. Andrew’s Sanctuary Building\, 120 East Avenue - Door #1\, Mahtomedi\, MN\, 55115\, United States
ATTACH;FMTTYPE=image/jpeg:https://saintandrews.org/wp-content/uploads/Traditional-Worship-2024-1920x1080-1.jpg
ORGANIZER;CN="St. Andrew's Lutheran Church":MAILTO:office@saintandrews.org
END:VEVENT
BEGIN:VEVENT
DTSTART;TZID=UTC:20250906T170000
DTEND;TZID=UTC:20250906T183000
DTSTAMP:20260422T042057
CREATED:20250812T205635Z
LAST-MODIFIED:20250827T170727Z
UID:10011180-1757178000-1757183400@saintandrews.org
SUMMARY:FALL KICKOFF - 2025
DESCRIPTION:During Fall Kickoff weekend (September 6-7)\, come discover ways you can grow at St. Andrew’s. Enjoy contemporary and traditional worship services\, festive music\, fall foods\, and kids’ games and activities! Fall Kickoff is for those looking for a church family\, as well as those who already call St. Andrew’s home. Pick up a postcard at the Welcome Desk to invite someone new!
URL:https://saintandrews.org/event/fall-kickoff-2025-6/
LOCATION:St. Andrew’s Great Hall\, 900 Stillwater Road\, Mahtomedi\, MN\, 55115\, United States
CATEGORIES:Adult Education,Adult Ministries,Bible Studies,Care Ministry,Children, Youth & Family,LifeU,Membership & Volunteers,Missions,Music,Special Interest Groups,Worship
ATTACH;FMTTYPE=image/jpeg:https://saintandrews.org/wp-content/uploads/Grow-Graphic-Phrases-20253-scaled.jpg
ORGANIZER;CN="St. Andrew's Lutheran Church":MAILTO:office@saintandrews.org
END:VEVENT
BEGIN:VEVENT
DTSTART;TZID=America/Chicago:20250906T170000
DTEND;TZID=America/Chicago:20250906T170000
DTSTAMP:20260422T042057
CREATED:20250902T201110Z
LAST-MODIFIED:20260115T195101Z
UID:10011251-1757178000-1757178000@saintandrews.org
SUMMARY:CONTEMPORARY WORSHIP SERVICE - IN PERSON & ONLINE
DESCRIPTION:Saturday evening worship services are at 5pm in the Great Hall and also live streamed via ChurchOnline.
URL:https://saintandrews.org/event/contemporary-worship-service-in-person-online-6/2025-09-06/
LOCATION:St. Andrew’s Great Hall\, 900 Stillwater Road\, Mahtomedi\, MN\, 55115\, United States
CATEGORIES:Worship
ATTACH;FMTTYPE=image/jpeg:https://saintandrews.org/wp-content/uploads/Contemporary-Worship-2024-1920x1080-1.jpg
ORGANIZER;CN="St. Andrew's Lutheran Church":MAILTO:office@saintandrews.org
END:VEVENT
BEGIN:VEVENT
DTSTART;TZID=America/Chicago:20250901T000000
DTEND;TZID=America/Chicago:20250901T235959
DTSTAMP:20260422T042057
CREATED:20241008T201244Z
LAST-MODIFIED:20241107T193820Z
UID:10007158-1756684800-1756771199@saintandrews.org
SUMMARY:CAMPUS CLOSED
DESCRIPTION:If you need immediate assistance from a pastor\, prayers for urgent circumstances\, or you have a pastoral emergency on a Campus Closed Day\, please call the Welcome Desk at 651.426.3261 and press 3 to leave a message for the Pastor on Call.
URL:https://saintandrews.org/event/campus-closed/2025-09-01/
ATTACH;FMTTYPE=image/jpeg:https://saintandrews.org/wp-content/uploads/Campus-Closed-1920x1080-1.jpg
ORGANIZER;CN="St. Andrew's Lutheran Church":MAILTO:office@saintandrews.org
END:VEVENT
BEGIN:VEVENT
DTSTART;TZID=America/Chicago:20250831T103000
DTEND;TZID=America/Chicago:20250831T103000
DTSTAMP:20260422T042057
CREATED:20250712T185840Z
LAST-MODIFIED:20260115T195441Z
UID:10009503-1756636200-1756636200@saintandrews.org
SUMMARY:TRADITIONAL WORSHIP EXPERIENCE
DESCRIPTION:Traditional worship services typically include Holy Communion\, a sermon\, hymns\, liturgy\, and choral and instrumental music.
URL:https://saintandrews.org/event/traditional-worship-experience/2025-08-31/
LOCATION:St. Andrew’s Sanctuary Building\, 120 East Avenue - Door #1\, Mahtomedi\, MN\, 55115\, United States
ATTACH;FMTTYPE=image/jpeg:https://saintandrews.org/wp-content/uploads/Traditional-Worship-2024-1920x1080-1.jpg
ORGANIZER;CN="St. Andrew's Lutheran Church":MAILTO:office@saintandrews.org
END:VEVENT
BEGIN:VEVENT
DTSTART;TZID=UTC:20250831T101500
DTEND;TZID=UTC:20250831T111500
DTSTAMP:20260422T042057
CREATED:20250712T190540Z
LAST-MODIFIED:20260115T195348Z
UID:10001048-1756635300-1756638900@saintandrews.org
SUMMARY:CONTEMPORARY WORSHIP SERVICE - ONLINE
DESCRIPTION:Enjoy online worship services every Sunday at 10:15am.
URL:https://saintandrews.org/event/contemporary-worship-service-online-3/2025-08-31/
ATTACH;FMTTYPE=image/jpeg:https://saintandrews.org/wp-content/uploads/Contemporary-Worship-2024-1920x1080-1.jpg
ORGANIZER;CN="St. Andrew's Lutheran Church":MAILTO:office@saintandrews.org
END:VEVENT
BEGIN:VEVENT
DTSTART;TZID=America/Chicago:20250831T090000
DTEND;TZID=America/Chicago:20250831T090000
DTSTAMP:20260422T042057
CREATED:20250712T185516Z
LAST-MODIFIED:20260115T195203Z
UID:10008981-1756630800-1756630800@saintandrews.org
SUMMARY:TRADITIONAL WORSHIP EXPERIENCE - IN PERSON & ONLINE
DESCRIPTION:Traditional worship services typically include Holy Communion\, a sermon\, hymns\, liturgy\, and choral and instrumental music.
URL:https://saintandrews.org/event/traditional-worship-experience-in-person-online/2025-08-31/
LOCATION:St. Andrew’s Sanctuary Building\, 120 East Avenue - Door #1\, Mahtomedi\, MN\, 55115\, United States
ATTACH;FMTTYPE=image/jpeg:https://saintandrews.org/wp-content/uploads/Traditional-Worship-2024-1920x1080-1.jpg
ORGANIZER;CN="St. Andrew's Lutheran Church":MAILTO:office@saintandrews.org
END:VEVENT
BEGIN:VEVENT
DTSTART;TZID=UTC:20250830T170000
DTEND;TZID=UTC:20250830T180000
DTSTAMP:20260422T042057
CREATED:20250712T183750Z
LAST-MODIFIED:20250712T183751Z
UID:10008720-1756573200-1756576800@saintandrews.org
SUMMARY:CONTEMPORARY WORSHIP SERVICE - IN PERSON & ONLINE
DESCRIPTION:Saturday at 5:00 p.m. in the Great Hall \n\n\n\nSaturday evening worship services are at 5pm in the Great Hall and also live streamed via ChurchOnline.
URL:https://saintandrews.org/event/contemporary-worship-service-in-person-online-4/2025-08-30/
LOCATION:St. Andrew’s Great Hall\, 900 Stillwater Road\, Mahtomedi\, MN\, 55115\, United States
ATTACH;FMTTYPE=image/jpeg:https://saintandrews.org/wp-content/uploads/Contemporary-Worship-2024-1920x1080-1.jpg
ORGANIZER;CN="St. Andrew's Lutheran Church":MAILTO:office@saintandrews.org
END:VEVENT
BEGIN:VEVENT
DTSTART;TZID=America/Chicago:20250824T103000
DTEND;TZID=America/Chicago:20250824T103000
DTSTAMP:20260422T042057
CREATED:20250712T185840Z
LAST-MODIFIED:20260115T195441Z
UID:10009502-1756031400-1756031400@saintandrews.org
SUMMARY:TRADITIONAL WORSHIP EXPERIENCE
DESCRIPTION:Traditional worship services typically include Holy Communion\, a sermon\, hymns\, liturgy\, and choral and instrumental music.
URL:https://saintandrews.org/event/traditional-worship-experience/2025-08-24/
LOCATION:St. Andrew’s Sanctuary Building\, 120 East Avenue - Door #1\, Mahtomedi\, MN\, 55115\, United States
ATTACH;FMTTYPE=image/jpeg:https://saintandrews.org/wp-content/uploads/Traditional-Worship-2024-1920x1080-1.jpg
ORGANIZER;CN="St. Andrew's Lutheran Church":MAILTO:office@saintandrews.org
END:VEVENT
BEGIN:VEVENT
DTSTART;TZID=UTC:20250824T101500
DTEND;TZID=UTC:20250824T111500
DTSTAMP:20260422T042057
CREATED:20250712T190540Z
LAST-MODIFIED:20260115T195348Z
UID:10001047-1756030500-1756034100@saintandrews.org
SUMMARY:CONTEMPORARY WORSHIP SERVICE - ONLINE
DESCRIPTION:Enjoy online worship services every Sunday at 10:15am.
URL:https://saintandrews.org/event/contemporary-worship-service-online-3/2025-08-24/
ATTACH;FMTTYPE=image/jpeg:https://saintandrews.org/wp-content/uploads/Contemporary-Worship-2024-1920x1080-1.jpg
ORGANIZER;CN="St. Andrew's Lutheran Church":MAILTO:office@saintandrews.org
END:VEVENT
BEGIN:VEVENT
DTSTART;TZID=America/Chicago:20250824T090000
DTEND;TZID=America/Chicago:20250824T090000
DTSTAMP:20260422T042057
CREATED:20250712T185516Z
LAST-MODIFIED:20260115T195203Z
UID:10008980-1756026000-1756026000@saintandrews.org
SUMMARY:TRADITIONAL WORSHIP EXPERIENCE - IN PERSON & ONLINE
DESCRIPTION:Traditional worship services typically include Holy Communion\, a sermon\, hymns\, liturgy\, and choral and instrumental music.
URL:https://saintandrews.org/event/traditional-worship-experience-in-person-online/2025-08-24/
LOCATION:St. Andrew’s Sanctuary Building\, 120 East Avenue - Door #1\, Mahtomedi\, MN\, 55115\, United States
ATTACH;FMTTYPE=image/jpeg:https://saintandrews.org/wp-content/uploads/Traditional-Worship-2024-1920x1080-1.jpg
ORGANIZER;CN="St. Andrew's Lutheran Church":MAILTO:office@saintandrews.org
END:VEVENT
BEGIN:VEVENT
DTSTART;TZID=UTC:20250823T170000
DTEND;TZID=UTC:20250823T180000
DTSTAMP:20260422T042057
CREATED:20250712T183750Z
LAST-MODIFIED:20250712T183751Z
UID:10008719-1755968400-1755972000@saintandrews.org
SUMMARY:CONTEMPORARY WORSHIP SERVICE - IN PERSON & ONLINE
DESCRIPTION:Saturday at 5:00 p.m. in the Great Hall \n\n\n\nSaturday evening worship services are at 5pm in the Great Hall and also live streamed via ChurchOnline.
URL:https://saintandrews.org/event/contemporary-worship-service-in-person-online-4/2025-08-23/
LOCATION:St. Andrew’s Great Hall\, 900 Stillwater Road\, Mahtomedi\, MN\, 55115\, United States
ATTACH;FMTTYPE=image/jpeg:https://saintandrews.org/wp-content/uploads/Contemporary-Worship-2024-1920x1080-1.jpg
ORGANIZER;CN="St. Andrew's Lutheran Church":MAILTO:office@saintandrews.org
END:VEVENT
END:VCALENDAR