BEGIN:VCALENDAR
VERSION:2.0
PRODID:-//St. Andrew&#039;s Lutheran Church - ECPv6.15.20//NONSGML v1.0//EN
CALSCALE:GREGORIAN
METHOD:PUBLISH
X-ORIGINAL-URL:https://saintandrews.org
X-WR-CALDESC:Events for St. Andrew&#039;s Lutheran Church
REFRESH-INTERVAL;VALUE=DURATION:PT1H
X-Robots-Tag:noindex
X-PUBLISHED-TTL:PT1H
BEGIN:VTIMEZONE
TZID:America/Chicago
BEGIN:DAYLIGHT
TZOFFSETFROM:-0600
TZOFFSETTO:-0500
TZNAME:CDT
DTSTART:20240310T080000
END:DAYLIGHT
BEGIN:STANDARD
TZOFFSETFROM:-0500
TZOFFSETTO:-0600
TZNAME:CST
DTSTART:20241103T070000
END:STANDARD
BEGIN:DAYLIGHT
TZOFFSETFROM:-0600
TZOFFSETTO:-0500
TZNAME:CDT
DTSTART:20250309T080000
END:DAYLIGHT
BEGIN:STANDARD
TZOFFSETFROM:-0500
TZOFFSETTO:-0600
TZNAME:CST
DTSTART:20251102T070000
END:STANDARD
BEGIN:DAYLIGHT
TZOFFSETFROM:-0600
TZOFFSETTO:-0500
TZNAME:CDT
DTSTART:20260308T080000
END:DAYLIGHT
BEGIN:STANDARD
TZOFFSETFROM:-0500
TZOFFSETTO:-0600
TZNAME:CST
DTSTART:20261101T070000
END:STANDARD
BEGIN:DAYLIGHT
TZOFFSETFROM:-0600
TZOFFSETTO:-0500
TZNAME:CDT
DTSTART:20270314T080000
END:DAYLIGHT
BEGIN:STANDARD
TZOFFSETFROM:-0500
TZOFFSETTO:-0600
TZNAME:CST
DTSTART:20271107T070000
END:STANDARD
END:VTIMEZONE
BEGIN:VTIMEZONE
TZID:UTC
BEGIN:STANDARD
TZOFFSETFROM:+0000
TZOFFSETTO:+0000
TZNAME:UTC
DTSTART:20240101T000000
END:STANDARD
END:VTIMEZONE
BEGIN:VEVENT
DTSTART;TZID=America/Chicago:20260104T090000
DTEND;TZID=America/Chicago:20260104T090000
DTSTAMP:20260421T111830
CREATED:20250712T185516Z
LAST-MODIFIED:20260115T195203Z
UID:10008999-1767517200-1767517200@saintandrews.org
SUMMARY:TRADITIONAL WORSHIP EXPERIENCE - IN PERSON & ONLINE
DESCRIPTION:Traditional worship services typically include Holy Communion\, a sermon\, hymns\, liturgy\, and choral and instrumental music.
URL:https://saintandrews.org/event/traditional-worship-experience-in-person-online/2026-01-04/
LOCATION:St. Andrew’s Sanctuary Building\, 120 East Avenue - Door #1\, Mahtomedi\, MN\, 55115\, United States
ATTACH;FMTTYPE=image/jpeg:https://saintandrews.org/wp-content/uploads/Traditional-Worship-2024-1920x1080-1.jpg
ORGANIZER;CN="St. Andrew's Lutheran Church":MAILTO:office@saintandrews.org
END:VEVENT
BEGIN:VEVENT
DTSTART;TZID=America/Chicago:20260103T170000
DTEND;TZID=America/Chicago:20260103T170000
DTSTAMP:20260421T111830
CREATED:20250902T201110Z
LAST-MODIFIED:20260115T195101Z
UID:10011268-1767459600-1767459600@saintandrews.org
SUMMARY:CONTEMPORARY WORSHIP SERVICE - IN PERSON & ONLINE
DESCRIPTION:Saturday evening worship services are at 5pm in the Great Hall and also live streamed via ChurchOnline.
URL:https://saintandrews.org/event/contemporary-worship-service-in-person-online-6/2026-01-03/
LOCATION:St. Andrew’s Great Hall\, 900 Stillwater Road\, Mahtomedi\, MN\, 55115\, United States
CATEGORIES:Worship
ATTACH;FMTTYPE=image/jpeg:https://saintandrews.org/wp-content/uploads/Contemporary-Worship-2024-1920x1080-1.jpg
ORGANIZER;CN="St. Andrew's Lutheran Church":MAILTO:office@saintandrews.org
END:VEVENT
BEGIN:VEVENT
DTSTART;TZID=America/Chicago:20251228T103000
DTEND;TZID=America/Chicago:20251228T103000
DTSTAMP:20260421T111830
CREATED:20250712T185840Z
LAST-MODIFIED:20260115T195441Z
UID:10009520-1766917800-1766917800@saintandrews.org
SUMMARY:TRADITIONAL WORSHIP EXPERIENCE
DESCRIPTION:Traditional worship services typically include Holy Communion\, a sermon\, hymns\, liturgy\, and choral and instrumental music.
URL:https://saintandrews.org/event/traditional-worship-experience/2025-12-28/
LOCATION:St. Andrew’s Sanctuary Building\, 120 East Avenue - Door #1\, Mahtomedi\, MN\, 55115\, United States
ATTACH;FMTTYPE=image/jpeg:https://saintandrews.org/wp-content/uploads/Traditional-Worship-2024-1920x1080-1.jpg
ORGANIZER;CN="St. Andrew's Lutheran Church":MAILTO:office@saintandrews.org
END:VEVENT
BEGIN:VEVENT
DTSTART;TZID=UTC:20251228T101500
DTEND;TZID=UTC:20251228T111500
DTSTAMP:20260421T111830
CREATED:20250712T190540Z
LAST-MODIFIED:20260115T195348Z
UID:10001065-1766916900-1766920500@saintandrews.org
SUMMARY:CONTEMPORARY WORSHIP SERVICE - ONLINE
DESCRIPTION:Enjoy online worship services every Sunday at 10:15am.
URL:https://saintandrews.org/event/contemporary-worship-service-online-3/2025-12-28/
ATTACH;FMTTYPE=image/jpeg:https://saintandrews.org/wp-content/uploads/Contemporary-Worship-2024-1920x1080-1.jpg
ORGANIZER;CN="St. Andrew's Lutheran Church":MAILTO:office@saintandrews.org
END:VEVENT
BEGIN:VEVENT
DTSTART;TZID=America/Chicago:20251228T093000
DTEND;TZID=America/Chicago:20251228T093000
DTSTAMP:20260421T111830
CREATED:20250902T203702Z
LAST-MODIFIED:20260115T195256Z
UID:10012074-1766914200-1766914200@saintandrews.org
SUMMARY:CONTEMPORARY WORSHIP SERVICE
DESCRIPTION:Sunday morning Contemporary worship services are at 9:30am in the Great Hall.
URL:https://saintandrews.org/event/contemporary-worship-service-3/2025-12-28/
LOCATION:St. Andrew’s Great Hall\, 900 Stillwater Road\, Mahtomedi\, MN\, 55115\, United States
CATEGORIES:Worship
ATTACH;FMTTYPE=image/jpeg:https://saintandrews.org/wp-content/uploads/Contemporary-Worship-2024-1920x1080-1.jpg
ORGANIZER;CN="St. Andrew's Lutheran Church":MAILTO:office@saintandrews.org
END:VEVENT
BEGIN:VEVENT
DTSTART;TZID=America/Chicago:20251228T090000
DTEND;TZID=America/Chicago:20251228T090000
DTSTAMP:20260421T111830
CREATED:20250712T185516Z
LAST-MODIFIED:20260115T195203Z
UID:10008998-1766912400-1766912400@saintandrews.org
SUMMARY:TRADITIONAL WORSHIP EXPERIENCE - IN PERSON & ONLINE
DESCRIPTION:Traditional worship services typically include Holy Communion\, a sermon\, hymns\, liturgy\, and choral and instrumental music.
URL:https://saintandrews.org/event/traditional-worship-experience-in-person-online/2025-12-28/
LOCATION:St. Andrew’s Sanctuary Building\, 120 East Avenue - Door #1\, Mahtomedi\, MN\, 55115\, United States
ATTACH;FMTTYPE=image/jpeg:https://saintandrews.org/wp-content/uploads/Traditional-Worship-2024-1920x1080-1.jpg
ORGANIZER;CN="St. Andrew's Lutheran Church":MAILTO:office@saintandrews.org
END:VEVENT
BEGIN:VEVENT
DTSTART;TZID=America/Chicago:20251227T170000
DTEND;TZID=America/Chicago:20251227T170000
DTSTAMP:20260421T111830
CREATED:20250902T201110Z
LAST-MODIFIED:20260115T195101Z
UID:10011267-1766854800-1766854800@saintandrews.org
SUMMARY:CONTEMPORARY WORSHIP SERVICE - IN PERSON & ONLINE
DESCRIPTION:Saturday evening worship services are at 5pm in the Great Hall and also live streamed via ChurchOnline.
URL:https://saintandrews.org/event/contemporary-worship-service-in-person-online-6/2025-12-27/
LOCATION:St. Andrew’s Great Hall\, 900 Stillwater Road\, Mahtomedi\, MN\, 55115\, United States
CATEGORIES:Worship
ATTACH;FMTTYPE=image/jpeg:https://saintandrews.org/wp-content/uploads/Contemporary-Worship-2024-1920x1080-1.jpg
ORGANIZER;CN="St. Andrew's Lutheran Church":MAILTO:office@saintandrews.org
END:VEVENT
BEGIN:VEVENT
DTSTART;TZID=UTC:20251225T150000
DTEND;TZID=UTC:20251225T163000
DTSTAMP:20260421T111830
CREATED:20251117T190506Z
LAST-MODIFIED:20251117T191927Z
UID:10013202-1766674800-1766680200@saintandrews.org
SUMMARY:CHRISTMAS FESTIVAL 2025 - ONLINE REPLAY
DESCRIPTION:Watch the replay of the annual Christmas Festival\, featuring the musicians of St. Andrew’s Choir and Orchestra\, handbells\, and all of our youth choirs. Come celebrate the birth of Jesus Christ with familiar carols and other songs of the season.
URL:https://saintandrews.org/event/christmas-festival-2025-online-replay/
LOCATION:St. Andrew’s Sanctuary Building\, 120 East Avenue - Door #1\, Mahtomedi\, MN\, 55115\, United States
CATEGORIES:Christmas,Music
ATTACH;FMTTYPE=image/jpeg:https://saintandrews.org/wp-content/uploads/Christmas-Festival-2024-1920x1080-1.jpg
ORGANIZER;CN="St. Andrew's Lutheran Church":MAILTO:office@saintandrews.org
END:VEVENT
BEGIN:VEVENT
DTSTART;TZID=America/Chicago:20251225T110000
DTEND;TZID=America/Chicago:20251225T120000
DTSTAMP:20260421T111830
CREATED:20251114T200128Z
LAST-MODIFIED:20251117T185032Z
UID:10013200-1766660400-1766664000@saintandrews.org
SUMMARY:CHRISTMAS DAY WORSHIP - TRADITIONAL
DESCRIPTION:MAIN SANCTUARY\n\n\n\n\n\n\n11am • Organ & Brass
URL:https://saintandrews.org/event/christmas-day-worship-traditional/
LOCATION:St. Andrew’s Sanctuary Building\, 120 East Avenue - Door #1\, Mahtomedi\, MN\, 55115\, United States
CATEGORIES:Christmas,Worship
ATTACH;FMTTYPE=image/jpeg:https://saintandrews.org/wp-content/uploads/Traditional-Service-Event-Header.jpg
ORGANIZER;CN="St. Andrew's Lutheran Church":MAILTO:office@saintandrews.org
END:VEVENT
BEGIN:VEVENT
DTSTART;TZID=America/Chicago:20251225T000000
DTEND;TZID=America/Chicago:20260101T235959
DTSTAMP:20260421T111830
CREATED:20251121T174130Z
LAST-MODIFIED:20251121T180432Z
UID:10013214-1766620800-1767311999@saintandrews.org
SUMMARY:CAMPUS CLOSED
DESCRIPTION:St. Andrew’s is CLOSED for a “Christmas Pause” Dec. 25-26 and Dec. 29-Jan. 1. Church buildings and offices will be closed. \n\n\n\nWe are OPEN for all Worship Services on December 27 & 28. \n\n\n\nFor urgent pastoral care concerns\, contact the Pastor on Call at 651.762.9137. \n\n\n\nTo reach the Finance Office\, contact Patricia Ingberg at 651.762.9174 \n\n\n\nGeneral messages can be left at 651.426.3261 or office@saintandrews.org and will be reviewed January 2.
URL:https://saintandrews.org/event/campus-closed-9/
ATTACH;FMTTYPE=image/jpeg:https://saintandrews.org/wp-content/uploads/Campus-Closed-1920x1080-1.jpg
ORGANIZER;CN="St. Andrew's Lutheran Church":MAILTO:office@saintandrews.org
END:VEVENT
BEGIN:VEVENT
DTSTART;TZID=America/Chicago:20251224T000000
DTEND;TZID=America/Chicago:20251224T235900
DTSTAMP:20260421T111830
CREATED:20251114T195729Z
LAST-MODIFIED:20251126T171028Z
UID:10013199-1766534400-1766620740@saintandrews.org
SUMMARY:CHRISTMAS EVE WORSHIP - TRADITIONAL
DESCRIPTION:MAIN SANCTUARY\n\n\n\n\n\n\n1pm • Brass\, Vocal Ensemble\n\n\n\n2:30pm • Brass\, Vocal Ensemble\, Choristers**\n\n\n\n4pm • Orchestra\, St. Andrew’s Choir\, Celebration Singers\n\n\n\n5:30pm • Orchestra\, St. Andrew’s Choir\n\n\n\n7pm • Orchestra\, St. Andrew’s Choir**\n\n\n\n8:30pm • Orchestra\, St. Andrew’s Choir\n\n\n\n10pm • Orchestra\, St. Andrew’s Choir\n\n\n\n\n**Livestreamed \n\n\n\nNursery is available at the 2:30pm\, 4pm\, & 5:30pm services.
URL:https://saintandrews.org/event/christmas-eve-worship-traditional-sanctuary-duplicate/
LOCATION:St. Andrew’s Sanctuary Building\, 120 East Avenue - Door #1\, Mahtomedi\, MN\, 55115\, United States
CATEGORIES:Christmas,Worship
ATTACH;FMTTYPE=image/jpeg:https://saintandrews.org/wp-content/uploads/Traditional-Service-Event-Header.jpg
ORGANIZER;CN="St. Andrew's Lutheran Church":MAILTO:office@saintandrews.org
END:VEVENT
BEGIN:VEVENT
DTSTART;TZID=America/Chicago:20251224T000000
DTEND;TZID=America/Chicago:20251224T235900
DTSTAMP:20260421T111830
CREATED:20251114T195239Z
LAST-MODIFIED:20251126T164412Z
UID:10013198-1766534400-1766620740@saintandrews.org
SUMMARY:CHRISTMAS EVE WORSHIP - CONTEMPORARY
DESCRIPTION:GREAT HALL\n\n\n\n\n\nAll Contemporary Christmas worship services are held in the Great Hall featuring the Gathering Band with Communion\, Candlelight\, and Nursery. \n\n\n\n\n2pm\n\n\n\n3:30pm\n\n\n\n5pm**\n\n\n\n\n**Livestreamed
URL:https://saintandrews.org/event/christmas-eve-worship-contemporary-great-hall-2/
LOCATION:St. Andrew’s Great Hall\, 900 Stillwater Road\, Mahtomedi\, MN\, 55115\, United States
CATEGORIES:Christmas,Worship
ATTACH;FMTTYPE=image/jpeg:https://saintandrews.org/wp-content/uploads/Contemporary-Service-Event-Header.jpg
ORGANIZER;CN="St. Andrew's Lutheran Church":MAILTO:office@saintandrews.org
END:VEVENT
BEGIN:VEVENT
DTSTART;TZID=America/Chicago:20251221T103000
DTEND;TZID=America/Chicago:20251221T103000
DTSTAMP:20260421T111830
CREATED:20250712T185840Z
LAST-MODIFIED:20260115T195441Z
UID:10009519-1766313000-1766313000@saintandrews.org
SUMMARY:TRADITIONAL WORSHIP EXPERIENCE
DESCRIPTION:Traditional worship services typically include Holy Communion\, a sermon\, hymns\, liturgy\, and choral and instrumental music.
URL:https://saintandrews.org/event/traditional-worship-experience/2025-12-21/
LOCATION:St. Andrew’s Sanctuary Building\, 120 East Avenue - Door #1\, Mahtomedi\, MN\, 55115\, United States
ATTACH;FMTTYPE=image/jpeg:https://saintandrews.org/wp-content/uploads/Traditional-Worship-2024-1920x1080-1.jpg
ORGANIZER;CN="St. Andrew's Lutheran Church":MAILTO:office@saintandrews.org
END:VEVENT
BEGIN:VEVENT
DTSTART;TZID=UTC:20251221T101500
DTEND;TZID=UTC:20251221T111500
DTSTAMP:20260421T111830
CREATED:20250712T190540Z
LAST-MODIFIED:20260115T195348Z
UID:10001064-1766312100-1766315700@saintandrews.org
SUMMARY:CONTEMPORARY WORSHIP SERVICE - ONLINE
DESCRIPTION:Enjoy online worship services every Sunday at 10:15am.
URL:https://saintandrews.org/event/contemporary-worship-service-online-3/2025-12-21/
ATTACH;FMTTYPE=image/jpeg:https://saintandrews.org/wp-content/uploads/Contemporary-Worship-2024-1920x1080-1.jpg
ORGANIZER;CN="St. Andrew's Lutheran Church":MAILTO:office@saintandrews.org
END:VEVENT
BEGIN:VEVENT
DTSTART;TZID=America/Chicago:20251221T093000
DTEND;TZID=America/Chicago:20251221T093000
DTSTAMP:20260421T111830
CREATED:20250902T203702Z
LAST-MODIFIED:20260115T195256Z
UID:10012073-1766309400-1766309400@saintandrews.org
SUMMARY:CONTEMPORARY WORSHIP SERVICE
DESCRIPTION:Sunday morning Contemporary worship services are at 9:30am in the Great Hall.
URL:https://saintandrews.org/event/contemporary-worship-service-3/2025-12-21/
LOCATION:St. Andrew’s Great Hall\, 900 Stillwater Road\, Mahtomedi\, MN\, 55115\, United States
CATEGORIES:Worship
ATTACH;FMTTYPE=image/jpeg:https://saintandrews.org/wp-content/uploads/Contemporary-Worship-2024-1920x1080-1.jpg
ORGANIZER;CN="St. Andrew's Lutheran Church":MAILTO:office@saintandrews.org
END:VEVENT
BEGIN:VEVENT
DTSTART;TZID=America/Chicago:20251221T090000
DTEND;TZID=America/Chicago:20251221T090000
DTSTAMP:20260421T111830
CREATED:20250712T185516Z
LAST-MODIFIED:20260115T195203Z
UID:10008997-1766307600-1766307600@saintandrews.org
SUMMARY:TRADITIONAL WORSHIP EXPERIENCE - IN PERSON & ONLINE
DESCRIPTION:Traditional worship services typically include Holy Communion\, a sermon\, hymns\, liturgy\, and choral and instrumental music.
URL:https://saintandrews.org/event/traditional-worship-experience-in-person-online/2025-12-21/
LOCATION:St. Andrew’s Sanctuary Building\, 120 East Avenue - Door #1\, Mahtomedi\, MN\, 55115\, United States
ATTACH;FMTTYPE=image/jpeg:https://saintandrews.org/wp-content/uploads/Traditional-Worship-2024-1920x1080-1.jpg
ORGANIZER;CN="St. Andrew's Lutheran Church":MAILTO:office@saintandrews.org
END:VEVENT
BEGIN:VEVENT
DTSTART;TZID=America/Chicago:20251220T170000
DTEND;TZID=America/Chicago:20251220T170000
DTSTAMP:20260421T111830
CREATED:20250902T201110Z
LAST-MODIFIED:20260115T195101Z
UID:10011266-1766250000-1766250000@saintandrews.org
SUMMARY:CONTEMPORARY WORSHIP SERVICE - IN PERSON & ONLINE
DESCRIPTION:Saturday evening worship services are at 5pm in the Great Hall and also live streamed via ChurchOnline.
URL:https://saintandrews.org/event/contemporary-worship-service-in-person-online-6/2025-12-20/
LOCATION:St. Andrew’s Great Hall\, 900 Stillwater Road\, Mahtomedi\, MN\, 55115\, United States
CATEGORIES:Worship
ATTACH;FMTTYPE=image/jpeg:https://saintandrews.org/wp-content/uploads/Contemporary-Worship-2024-1920x1080-1.jpg
ORGANIZER;CN="St. Andrew's Lutheran Church":MAILTO:office@saintandrews.org
END:VEVENT
BEGIN:VEVENT
DTSTART;TZID=UTC:20251217T164500
DTEND;TZID=UTC:20251217T181500
DTSTAMP:20260421T111830
CREATED:20250611T193838Z
LAST-MODIFIED:20250611T193939Z
UID:10008108-1765989900-1765995300@saintandrews.org
SUMMARY:WEDNESDAY NIGHT DINNER
DESCRIPTION:Wednesday Night Dinner runs September 10\, 2025 – May 6\, 2026  \n\n\n\nWednesday night is church night! We serve a delicious meal (made in house!) for children\, adults\, and families participating in Wednesday programs (including kids and adult choirs\, Confirmation\, and LIFEU) and anyone looking for a break from cooking. Dinner is available 4:45-6:15pm in the Sanctuary Fellowship Hall. All are welcome!   \n\n\n\nSuggested donation is $4-6 for children (ages 3 and up) and $6-8 for adults. Cash\, check\, debit/credit cards\, and Apple Pay are accepted. “Pay-as-you’re able!” VOLUNTEER! We can use your help! Join our volunteer teams that prepare the meals on Tuesdays and set up\, serve\, and clean up on Wednesdays. It’s a fun way to be part of our church family while giving back. Details at saintandrews.org/volunteer.
URL:https://saintandrews.org/event/wednesday-night-dinner-4/2025-12-17/
LOCATION:Sanctuary Fellowship Hall\, 900 Stillwater Rd\, Mahtomedi\, MN\, 55115\, United States
ATTACH;FMTTYPE=image/jpeg:https://saintandrews.org/wp-content/uploads/Wednesday-Night-Dinner-2-1920x1080-1.jpg
ORGANIZER;CN="St. Andrew's Lutheran Church":MAILTO:office@saintandrews.org
END:VEVENT
BEGIN:VEVENT
DTSTART;TZID=America/Chicago:20251215T140000
DTEND;TZID=America/Chicago:20251215T150000
DTSTAMP:20260421T111830
CREATED:20250717T180030Z
LAST-MODIFIED:20260205T171839Z
UID:10010332-1765807200-1765810800@saintandrews.org
SUMMARY:ROOTED IN SCRIPTURE
DESCRIPTION:Deepen Your Faith with Pastor Mike Carlson \n\n\n\nRooted in Scripture\, this engaging 5-session Bible study invites you to grow in faith and deepen your understanding of the Bible. Led by Mike Carlson\, lead pastor of St. Andrew’s\, each session explores upcoming preaching texts\, fosters open and thoughtful conversation\, and creates space to wrestle with life’s big questions—together. \n\n\n\nJoin us Mondays at 2 p.m. in the Fellowship Hall and expand your biblical insight in a welcoming\, discussion-based setting. \n\n\n\nSchedule:Session #1: Sept. 29\, Oct. 6\, Oct. 13\, Oct. 20 (4-week)Session #2: Nov. 10\, Nov. 17\, Nov. 24\, Dec. 1\, Dec. 8\, Dec. 15 (6-week)Session #3: Jan. 26\, Feb. 2\, Feb. 9\, Feb. 16\, (4-week)Session #4: Mar. 2\, Mar. 9\, Mar. 16\, Mar. 23\, Mar. 30 (5-week)Session #5: Apr. 13\, Apr. 20\, Apr. 27\, May 4\, May 11\, May 18 (6-week)
URL:https://saintandrews.org/event/rooted-in-scripture/2025-12-15/
LOCATION:Sanctuary Fellowship Hall\, 900 Stillwater Rd\, Mahtomedi\, MN\, 55115\, United States
CATEGORIES:Adult Education,Bible Studies,Seniors Page Extra
ATTACH;FMTTYPE=image/jpeg:https://saintandrews.org/wp-content/uploads/Rooted-in-Faith-Bible-Study-1920x1080-1.jpg
ORGANIZER;CN="St. Andrew's Lutheran Church":MAILTO:office@saintandrews.org
END:VEVENT
BEGIN:VEVENT
DTSTART;TZID=America/Chicago:20251214T103000
DTEND;TZID=America/Chicago:20251214T103000
DTSTAMP:20260421T111830
CREATED:20250712T185840Z
LAST-MODIFIED:20260115T195441Z
UID:10009518-1765708200-1765708200@saintandrews.org
SUMMARY:TRADITIONAL WORSHIP EXPERIENCE
DESCRIPTION:Traditional worship services typically include Holy Communion\, a sermon\, hymns\, liturgy\, and choral and instrumental music.
URL:https://saintandrews.org/event/traditional-worship-experience/2025-12-14/
LOCATION:St. Andrew’s Sanctuary Building\, 120 East Avenue - Door #1\, Mahtomedi\, MN\, 55115\, United States
ATTACH;FMTTYPE=image/jpeg:https://saintandrews.org/wp-content/uploads/Traditional-Worship-2024-1920x1080-1.jpg
ORGANIZER;CN="St. Andrew's Lutheran Church":MAILTO:office@saintandrews.org
END:VEVENT
BEGIN:VEVENT
DTSTART;TZID=UTC:20251214T101500
DTEND;TZID=UTC:20251214T111500
DTSTAMP:20260421T111830
CREATED:20250712T190540Z
LAST-MODIFIED:20260115T195348Z
UID:10001063-1765707300-1765710900@saintandrews.org
SUMMARY:CONTEMPORARY WORSHIP SERVICE - ONLINE
DESCRIPTION:Enjoy online worship services every Sunday at 10:15am.
URL:https://saintandrews.org/event/contemporary-worship-service-online-3/2025-12-14/
ATTACH;FMTTYPE=image/jpeg:https://saintandrews.org/wp-content/uploads/Contemporary-Worship-2024-1920x1080-1.jpg
ORGANIZER;CN="St. Andrew's Lutheran Church":MAILTO:office@saintandrews.org
END:VEVENT
BEGIN:VEVENT
DTSTART;TZID=America/Chicago:20251214T093000
DTEND;TZID=America/Chicago:20251214T093000
DTSTAMP:20260421T111830
CREATED:20250902T203702Z
LAST-MODIFIED:20260115T195256Z
UID:10012072-1765704600-1765704600@saintandrews.org
SUMMARY:CONTEMPORARY WORSHIP SERVICE
DESCRIPTION:Sunday morning Contemporary worship services are at 9:30am in the Great Hall.
URL:https://saintandrews.org/event/contemporary-worship-service-3/2025-12-14/
LOCATION:St. Andrew’s Great Hall\, 900 Stillwater Road\, Mahtomedi\, MN\, 55115\, United States
CATEGORIES:Worship
ATTACH;FMTTYPE=image/jpeg:https://saintandrews.org/wp-content/uploads/Contemporary-Worship-2024-1920x1080-1.jpg
ORGANIZER;CN="St. Andrew's Lutheran Church":MAILTO:office@saintandrews.org
END:VEVENT
BEGIN:VEVENT
DTSTART;TZID=America/Chicago:20251214T090000
DTEND;TZID=America/Chicago:20251214T090000
DTSTAMP:20260421T111830
CREATED:20250712T185516Z
LAST-MODIFIED:20260115T195203Z
UID:10008996-1765702800-1765702800@saintandrews.org
SUMMARY:TRADITIONAL WORSHIP EXPERIENCE - IN PERSON & ONLINE
DESCRIPTION:Traditional worship services typically include Holy Communion\, a sermon\, hymns\, liturgy\, and choral and instrumental music.
URL:https://saintandrews.org/event/traditional-worship-experience-in-person-online/2025-12-14/
LOCATION:St. Andrew’s Sanctuary Building\, 120 East Avenue - Door #1\, Mahtomedi\, MN\, 55115\, United States
ATTACH;FMTTYPE=image/jpeg:https://saintandrews.org/wp-content/uploads/Traditional-Worship-2024-1920x1080-1.jpg
ORGANIZER;CN="St. Andrew's Lutheran Church":MAILTO:office@saintandrews.org
END:VEVENT
BEGIN:VEVENT
DTSTART;TZID=America/Chicago:20251213T170000
DTEND;TZID=America/Chicago:20251213T170000
DTSTAMP:20260421T111830
CREATED:20250902T201110Z
LAST-MODIFIED:20260115T195101Z
UID:10011265-1765645200-1765645200@saintandrews.org
SUMMARY:CONTEMPORARY WORSHIP SERVICE - IN PERSON & ONLINE
DESCRIPTION:Saturday evening worship services are at 5pm in the Great Hall and also live streamed via ChurchOnline.
URL:https://saintandrews.org/event/contemporary-worship-service-in-person-online-6/2025-12-13/
LOCATION:St. Andrew’s Great Hall\, 900 Stillwater Road\, Mahtomedi\, MN\, 55115\, United States
CATEGORIES:Worship
ATTACH;FMTTYPE=image/jpeg:https://saintandrews.org/wp-content/uploads/Contemporary-Worship-2024-1920x1080-1.jpg
ORGANIZER;CN="St. Andrew's Lutheran Church":MAILTO:office@saintandrews.org
END:VEVENT
BEGIN:VEVENT
DTSTART;TZID=UTC:20251210T164500
DTEND;TZID=UTC:20251210T181500
DTSTAMP:20260421T111830
CREATED:20250611T193838Z
LAST-MODIFIED:20250611T193939Z
UID:10008107-1765385100-1765390500@saintandrews.org
SUMMARY:WEDNESDAY NIGHT DINNER
DESCRIPTION:Wednesday Night Dinner runs September 10\, 2025 – May 6\, 2026  \n\n\n\nWednesday night is church night! We serve a delicious meal (made in house!) for children\, adults\, and families participating in Wednesday programs (including kids and adult choirs\, Confirmation\, and LIFEU) and anyone looking for a break from cooking. Dinner is available 4:45-6:15pm in the Sanctuary Fellowship Hall. All are welcome!   \n\n\n\nSuggested donation is $4-6 for children (ages 3 and up) and $6-8 for adults. Cash\, check\, debit/credit cards\, and Apple Pay are accepted. “Pay-as-you’re able!” VOLUNTEER! We can use your help! Join our volunteer teams that prepare the meals on Tuesdays and set up\, serve\, and clean up on Wednesdays. It’s a fun way to be part of our church family while giving back. Details at saintandrews.org/volunteer.
URL:https://saintandrews.org/event/wednesday-night-dinner-4/2025-12-10/
LOCATION:Sanctuary Fellowship Hall\, 900 Stillwater Rd\, Mahtomedi\, MN\, 55115\, United States
ATTACH;FMTTYPE=image/jpeg:https://saintandrews.org/wp-content/uploads/Wednesday-Night-Dinner-2-1920x1080-1.jpg
ORGANIZER;CN="St. Andrew's Lutheran Church":MAILTO:office@saintandrews.org
END:VEVENT
BEGIN:VEVENT
DTSTART;TZID=UTC:20251208T190000
DTEND;TZID=UTC:20251208T210000
DTSTAMP:20260421T111830
CREATED:20251126T230607Z
LAST-MODIFIED:20251126T230608Z
UID:10013222-1765220400-1765227600@saintandrews.org
SUMMARY:BEER & HYMNS
DESCRIPTION:Please join us for Beer & Hymns: Christmas Edition at The Dugout in Willernie! Experience the joy of singing your favorite Christmas carols with family and friends. A fun and festive way to kick off the Christmas season! Gratuities and donations will be accepted at the door to support the event\, including an honorarium for our musicians.
URL:https://saintandrews.org/event/beer-hymns-4/
LOCATION:The Dugout Bar\, 96 Mahtomedi Ave\, Mahtomedi\, Minnesota\, 55115
CATEGORIES:Adult Ministries,Christmas,Music
ATTACH;FMTTYPE=image/jpeg:https://saintandrews.org/wp-content/uploads/Beer-and-Hymns-2-1920x1080-1.jpg
ORGANIZER;CN="St. Andrew's Lutheran Church":MAILTO:office@saintandrews.org
END:VEVENT
BEGIN:VEVENT
DTSTART;TZID=America/Chicago:20251208T140000
DTEND;TZID=America/Chicago:20251208T150000
DTSTAMP:20260421T111830
CREATED:20250717T180030Z
LAST-MODIFIED:20260205T171839Z
UID:10010331-1765202400-1765206000@saintandrews.org
SUMMARY:ROOTED IN SCRIPTURE
DESCRIPTION:Deepen Your Faith with Pastor Mike Carlson \n\n\n\nRooted in Scripture\, this engaging 5-session Bible study invites you to grow in faith and deepen your understanding of the Bible. Led by Mike Carlson\, lead pastor of St. Andrew’s\, each session explores upcoming preaching texts\, fosters open and thoughtful conversation\, and creates space to wrestle with life’s big questions—together. \n\n\n\nJoin us Mondays at 2 p.m. in the Fellowship Hall and expand your biblical insight in a welcoming\, discussion-based setting. \n\n\n\nSchedule:Session #1: Sept. 29\, Oct. 6\, Oct. 13\, Oct. 20 (4-week)Session #2: Nov. 10\, Nov. 17\, Nov. 24\, Dec. 1\, Dec. 8\, Dec. 15 (6-week)Session #3: Jan. 26\, Feb. 2\, Feb. 9\, Feb. 16\, (4-week)Session #4: Mar. 2\, Mar. 9\, Mar. 16\, Mar. 23\, Mar. 30 (5-week)Session #5: Apr. 13\, Apr. 20\, Apr. 27\, May 4\, May 11\, May 18 (6-week)
URL:https://saintandrews.org/event/rooted-in-scripture/2025-12-08/
LOCATION:Sanctuary Fellowship Hall\, 900 Stillwater Rd\, Mahtomedi\, MN\, 55115\, United States
CATEGORIES:Adult Education,Bible Studies,Seniors Page Extra
ATTACH;FMTTYPE=image/jpeg:https://saintandrews.org/wp-content/uploads/Rooted-in-Faith-Bible-Study-1920x1080-1.jpg
ORGANIZER;CN="St. Andrew's Lutheran Church":MAILTO:office@saintandrews.org
END:VEVENT
BEGIN:VEVENT
DTSTART;TZID=America/Chicago:20251207T103000
DTEND;TZID=America/Chicago:20251207T103000
DTSTAMP:20260421T111830
CREATED:20250712T185840Z
LAST-MODIFIED:20260115T195441Z
UID:10009517-1765103400-1765103400@saintandrews.org
SUMMARY:TRADITIONAL WORSHIP EXPERIENCE
DESCRIPTION:Traditional worship services typically include Holy Communion\, a sermon\, hymns\, liturgy\, and choral and instrumental music.
URL:https://saintandrews.org/event/traditional-worship-experience/2025-12-07/
LOCATION:St. Andrew’s Sanctuary Building\, 120 East Avenue - Door #1\, Mahtomedi\, MN\, 55115\, United States
ATTACH;FMTTYPE=image/jpeg:https://saintandrews.org/wp-content/uploads/Traditional-Worship-2024-1920x1080-1.jpg
ORGANIZER;CN="St. Andrew's Lutheran Church":MAILTO:office@saintandrews.org
END:VEVENT
BEGIN:VEVENT
DTSTART;TZID=UTC:20251207T101500
DTEND;TZID=UTC:20251207T111500
DTSTAMP:20260421T111830
CREATED:20250712T190540Z
LAST-MODIFIED:20260115T195348Z
UID:10001062-1765102500-1765106100@saintandrews.org
SUMMARY:CONTEMPORARY WORSHIP SERVICE - ONLINE
DESCRIPTION:Enjoy online worship services every Sunday at 10:15am.
URL:https://saintandrews.org/event/contemporary-worship-service-online-3/2025-12-07/
ATTACH;FMTTYPE=image/jpeg:https://saintandrews.org/wp-content/uploads/Contemporary-Worship-2024-1920x1080-1.jpg
ORGANIZER;CN="St. Andrew's Lutheran Church":MAILTO:office@saintandrews.org
END:VEVENT
BEGIN:VEVENT
DTSTART;TZID=America/Chicago:20251207T093000
DTEND;TZID=America/Chicago:20251207T093000
DTSTAMP:20260421T111830
CREATED:20250902T203702Z
LAST-MODIFIED:20260115T195256Z
UID:10012071-1765099800-1765099800@saintandrews.org
SUMMARY:CONTEMPORARY WORSHIP SERVICE
DESCRIPTION:Sunday morning Contemporary worship services are at 9:30am in the Great Hall.
URL:https://saintandrews.org/event/contemporary-worship-service-3/2025-12-07/
LOCATION:St. Andrew’s Great Hall\, 900 Stillwater Road\, Mahtomedi\, MN\, 55115\, United States
CATEGORIES:Worship
ATTACH;FMTTYPE=image/jpeg:https://saintandrews.org/wp-content/uploads/Contemporary-Worship-2024-1920x1080-1.jpg
ORGANIZER;CN="St. Andrew's Lutheran Church":MAILTO:office@saintandrews.org
END:VEVENT
END:VCALENDAR