BEGIN:VCALENDAR
VERSION:2.0
PRODID:-//St. Andrew&#039;s Lutheran Church - ECPv6.15.20//NONSGML v1.0//EN
CALSCALE:GREGORIAN
METHOD:PUBLISH
X-WR-CALNAME:St. Andrew&#039;s Lutheran Church
X-ORIGINAL-URL:https://saintandrews.org
X-WR-CALDESC:Events for St. Andrew&#039;s Lutheran Church
REFRESH-INTERVAL;VALUE=DURATION:PT1H
X-Robots-Tag:noindex
X-PUBLISHED-TTL:PT1H
BEGIN:VTIMEZONE
TZID:America/Chicago
BEGIN:DAYLIGHT
TZOFFSETFROM:-0600
TZOFFSETTO:-0500
TZNAME:CDT
DTSTART:20240310T080000
END:DAYLIGHT
BEGIN:STANDARD
TZOFFSETFROM:-0500
TZOFFSETTO:-0600
TZNAME:CST
DTSTART:20241103T070000
END:STANDARD
BEGIN:DAYLIGHT
TZOFFSETFROM:-0600
TZOFFSETTO:-0500
TZNAME:CDT
DTSTART:20250309T080000
END:DAYLIGHT
BEGIN:STANDARD
TZOFFSETFROM:-0500
TZOFFSETTO:-0600
TZNAME:CST
DTSTART:20251102T070000
END:STANDARD
BEGIN:DAYLIGHT
TZOFFSETFROM:-0600
TZOFFSETTO:-0500
TZNAME:CDT
DTSTART:20260308T080000
END:DAYLIGHT
BEGIN:STANDARD
TZOFFSETFROM:-0500
TZOFFSETTO:-0600
TZNAME:CST
DTSTART:20261101T070000
END:STANDARD
BEGIN:DAYLIGHT
TZOFFSETFROM:-0600
TZOFFSETTO:-0500
TZNAME:CDT
DTSTART:20270314T080000
END:DAYLIGHT
BEGIN:STANDARD
TZOFFSETFROM:-0500
TZOFFSETTO:-0600
TZNAME:CST
DTSTART:20271107T070000
END:STANDARD
END:VTIMEZONE
BEGIN:VEVENT
DTSTART;TZID=America/Chicago:20260418T090000
DTEND;TZID=America/Chicago:20260418T110000
DTSTAMP:20260419T102523
CREATED:20260210T210633Z
LAST-MODIFIED:20260210T210634Z
UID:10013765-1776502800-1776510000@saintandrews.org
SUMMARY:MONTHLY SATURDAY PLAYTIME
DESCRIPTION:Meet other families with little ones and give kids an opportunity to socialize and burn off energy during parent/guardian supervised open gym time. No registration required. Older siblings welcome!
URL:https://saintandrews.org/event/monthly-saturday-playtime/2026-04-18/
LOCATION:Youth & Sports Center\, 110 East Ave\, Mahtomedi\, MN\, 55115\, United States
CATEGORIES:Children, Youth & Family,Elementary,Preschool
ATTACH;FMTTYPE=image/jpeg:https://saintandrews.org/wp-content/uploads/Saturday-Playtime.jpg
ORGANIZER;CN="Kristian Gagne":MAILTO:kgagne@saintandrews.org
END:VEVENT
BEGIN:VEVENT
DTSTART;TZID=America/Chicago:20260321T090000
DTEND;TZID=America/Chicago:20260321T110000
DTSTAMP:20260419T102523
CREATED:20260210T210633Z
LAST-MODIFIED:20260210T210634Z
UID:10013764-1774083600-1774090800@saintandrews.org
SUMMARY:MONTHLY SATURDAY PLAYTIME
DESCRIPTION:Meet other families with little ones and give kids an opportunity to socialize and burn off energy during parent/guardian supervised open gym time. No registration required. Older siblings welcome!
URL:https://saintandrews.org/event/monthly-saturday-playtime/2026-03-21/
LOCATION:Youth & Sports Center\, 110 East Ave\, Mahtomedi\, MN\, 55115\, United States
CATEGORIES:Children, Youth & Family,Elementary,Preschool
ATTACH;FMTTYPE=image/jpeg:https://saintandrews.org/wp-content/uploads/Saturday-Playtime.jpg
ORGANIZER;CN="Kristian Gagne":MAILTO:kgagne@saintandrews.org
END:VEVENT
BEGIN:VEVENT
DTSTART;TZID=America/Chicago:20260221T090000
DTEND;TZID=America/Chicago:20260221T110000
DTSTAMP:20260419T102523
CREATED:20260210T210633Z
LAST-MODIFIED:20260210T210634Z
UID:10013763-1771664400-1771671600@saintandrews.org
SUMMARY:MONTHLY SATURDAY PLAYTIME
DESCRIPTION:Meet other families with little ones and give kids an opportunity to socialize and burn off energy during parent/guardian supervised open gym time. No registration required. Older siblings welcome!
URL:https://saintandrews.org/event/monthly-saturday-playtime/2026-02-21/
LOCATION:Youth & Sports Center\, 110 East Ave\, Mahtomedi\, MN\, 55115\, United States
CATEGORIES:Children, Youth & Family,Elementary,Preschool
ATTACH;FMTTYPE=image/jpeg:https://saintandrews.org/wp-content/uploads/Saturday-Playtime.jpg
ORGANIZER;CN="Kristian Gagne":MAILTO:kgagne@saintandrews.org
END:VEVENT
BEGIN:VEVENT
DTSTART;TZID=America/Chicago:20251213T130000
DTEND;TZID=America/Chicago:20251213T170000
DTSTAMP:20260419T102523
CREATED:20251022T203245Z
LAST-MODIFIED:20251113T152941Z
UID:10013083-1765630800-1765645200@saintandrews.org
SUMMARY:PARENTS' TIME OUT
DESCRIPTION:Parents\, take time to pause in the business of the Advent season. Drop off your kids to enjoy crafts\, stories\, games\, and snacks\, while you go shopping\, to the gym\, or clean… Anything you want!For infants through Grade 5\, cost $30\, with a $75 family max. \n\n\n\nTo receive the discount for the family max\, please do the following: \n\n\n\n\n If registering 3 kids\, enter code “3KIDS”\n\n\n\n If registering 4 kids\, enter code “4KIDS”\n\n\n\n If registering 5 kids\, enter code “5KIDS”\n\n\n\n If registering 6 kids\, enter code “6KIDS”
URL:https://saintandrews.org/event/parents-time-out/
LOCATION:Youth & Sports Center\, 110 East Ave\, Mahtomedi\, MN\, 55115\, United States
CATEGORIES:Children, Youth & Family,Christmas,Elementary,Middle School,Preschool
ATTACH;FMTTYPE=image/jpeg:https://saintandrews.org/wp-content/uploads/Parents-Time-Out.jpg
ORGANIZER;CN="Kristian Gagne":MAILTO:kgagne@saintandrews.org
END:VEVENT
BEGIN:VEVENT
DTSTART;TZID=America/Chicago:20251122T140000
DTEND;TZID=America/Chicago:20251122T153000
DTSTAMP:20260419T102523
CREATED:20251103T203805Z
LAST-MODIFIED:20251103T203912Z
UID:10012833-1763820000-1763825400@saintandrews.org
SUMMARY:FAMILY DAYS
DESCRIPTION:These events scattered over the next three months will help your family discover God’s beautiful creation together! Build community with other families at St. Andrew’s during these kid-friendly events. No cost for these low-stress experiences! COMO ZOO Saturday\, September 20 • 2–3:30pm Come explore God’s creatures at Como Zoo! Enjoy a scavenger hunt as a family while learning about all the animals. TAMARACK NATURE CENTER Saturday\, October 18 • 2–3:30pm Experience the wonder of Fall while walking the trails of Tamarack Nature Center. Let’s explore God’s ever-changing planet with each other. DRIVE-IN MOVIE & SERVICE PROJECT (Fellowship Hall) Saturday\, November 22 • 2–3:30pm This service project night encourages your family to care for God’s people together. Watch a movie while making fleece tie blankets to give to those in need of a warm blanket! \n\n\n\n\nRSVP HERE
URL:https://saintandrews.org/event/family-days-2/
LOCATION:Sanctuary Fellowship Hall\, 900 Stillwater Rd\, Mahtomedi\, MN\, 55115\, United States
ATTACH;FMTTYPE=image/jpeg:https://saintandrews.org/wp-content/uploads/Family-Days-1920x1080-1.jpg
ORGANIZER;CN="Kristian Gagne":MAILTO:kgagne@saintandrews.org
END:VEVENT
BEGIN:VEVENT
DTSTART;TZID=America/Chicago:20251018T140000
DTEND;TZID=America/Chicago:20251018T153000
DTSTAMP:20260419T102523
CREATED:20250915T215640Z
LAST-MODIFIED:20250915T215641Z
UID:10012832-1760796000-1760801400@saintandrews.org
SUMMARY:FAMILY DAYS
DESCRIPTION:These events scattered over the next three months will help your family discover God’s beautiful creation together! Build community with other families at St. Andrew’s during these kid-friendly events. No cost for these low-stress experiences! COMO ZOO Saturday\, September 20 • 2–3:30pm Come explore God’s creatures at Como Zoo! Enjoy a scavenger hunt as a family while learning about all the animals. TAMARACK NATURE CENTER Saturday\, October 18 • 2–3:30pm Experience the wonder of Fall while walking the trails of Tamarack Nature Center. Let’s explore God’s ever-changing planet with each other. DRIVE-IN MOVIE & SERVICE PROJECT (Fellowship Hall) Saturday\, November 22 • 2–3:30pm This service project night encourages your family to care for God’s people together. Watch a movie while making fleece tie blankets to give to those in need of a warm blanket!
URL:https://saintandrews.org/event/family-days/2025-10-18/
LOCATION:Sanctuary Fellowship Hall\, 900 Stillwater Rd\, Mahtomedi\, MN\, 55115\, United States
ATTACH;FMTTYPE=image/jpeg:https://saintandrews.org/wp-content/uploads/Family-Days-1920x1080-1.jpg
ORGANIZER;CN="Kristian Gagne":MAILTO:kgagne@saintandrews.org
END:VEVENT
BEGIN:VEVENT
DTSTART;TZID=America/Chicago:20250920T140000
DTEND;TZID=America/Chicago:20250920T153000
DTSTAMP:20260419T102523
CREATED:20250915T215640Z
LAST-MODIFIED:20250915T215641Z
UID:10012831-1758376800-1758382200@saintandrews.org
SUMMARY:FAMILY DAYS
DESCRIPTION:These events scattered over the next three months will help your family discover God’s beautiful creation together! Build community with other families at St. Andrew’s during these kid-friendly events. No cost for these low-stress experiences! COMO ZOO Saturday\, September 20 • 2–3:30pm Come explore God’s creatures at Como Zoo! Enjoy a scavenger hunt as a family while learning about all the animals. TAMARACK NATURE CENTER Saturday\, October 18 • 2–3:30pm Experience the wonder of Fall while walking the trails of Tamarack Nature Center. Let’s explore God’s ever-changing planet with each other. DRIVE-IN MOVIE & SERVICE PROJECT (Fellowship Hall) Saturday\, November 22 • 2–3:30pm This service project night encourages your family to care for God’s people together. Watch a movie while making fleece tie blankets to give to those in need of a warm blanket!
URL:https://saintandrews.org/event/family-days/2025-09-20/
LOCATION:Sanctuary Fellowship Hall\, 900 Stillwater Rd\, Mahtomedi\, MN\, 55115\, United States
ATTACH;FMTTYPE=image/jpeg:https://saintandrews.org/wp-content/uploads/Family-Days-1920x1080-1.jpg
ORGANIZER;CN="Kristian Gagne":MAILTO:kgagne@saintandrews.org
END:VEVENT
BEGIN:VEVENT
DTSTART;TZID=America/Chicago:20250717T163000
DTEND;TZID=America/Chicago:20250717T183000
DTSTAMP:20260419T102523
CREATED:20250702T121959Z
LAST-MODIFIED:20250708T190952Z
UID:10008656-1752769800-1752777000@saintandrews.org
SUMMARY:POSTPONED!  FAMILY NIGHT AT COMO ZOO
DESCRIPTION:Postponed to a later date to be determined \n\n\n\nEnjoy an evening outdoors with other families at Como Zoo. Tour the zoo with Mr. Kristian and then enjoy a brief devotion and light supper in the park (the meal provided is weather permitting—if we can grill outside). Please feel welcome to bring friends who have not attended events at St. Andrew’s before. Please RSVP below so we can plan for food!
URL:https://saintandrews.org/event/family-night-at-como-zoo/
LOCATION:Como Zoo\, 1225 Estabrook Dr\, St. Paul\, Minnesota\, 55103\, United States
CATEGORIES:Children, Youth & Family,Young Adults - 20's & 30's
ATTACH;FMTTYPE=image/jpeg:https://saintandrews.org/wp-content/uploads/Family-Summer-Meet-Up-1920x1080-1.jpg
ORGANIZER;CN="Kristian Gagne":MAILTO:kgagne@saintandrews.org
END:VEVENT
END:VCALENDAR