BEGIN:VCALENDAR
VERSION:2.0
PRODID:-//St. Andrew&#039;s Lutheran Church - ECPv6.15.20//NONSGML v1.0//EN
CALSCALE:GREGORIAN
METHOD:PUBLISH
X-WR-CALNAME:St. Andrew&#039;s Lutheran Church
X-ORIGINAL-URL:https://saintandrews.org
X-WR-CALDESC:Events for St. Andrew&#039;s Lutheran Church
REFRESH-INTERVAL;VALUE=DURATION:PT1H
X-Robots-Tag:noindex
X-PUBLISHED-TTL:PT1H
BEGIN:VTIMEZONE
TZID:UTC
BEGIN:STANDARD
TZOFFSETFROM:+0000
TZOFFSETTO:+0000
TZNAME:UTC
DTSTART:20230101T000000
END:STANDARD
END:VTIMEZONE
BEGIN:VEVENT
DTSTART;TZID=UTC:20241218T181500
DTEND;TZID=UTC:20241218T191500
DTSTAMP:20260420T101029
CREATED:20240723T233204Z
LAST-MODIFIED:20240806T224630Z
UID:10005875-1734545700-1734549300@saintandrews.org
SUMMARY:HANDBELLS REHEARSAL
DESCRIPTION:Open to adults\, the handbell choir rings once-a-month during the 9 and 10:30am worship services\, as well as for Christmas events. Rehearsals are Wednesday evenings from 6:15–7:15pm. In addition to regular handbell ringers\, experienced ringers are needed as substitutes. Contact Andrew Haase\, Music Director 651.762.9123. No handbell rehearsals on 12/15/14 and 1/1/25.
URL:https://saintandrews.org/event/handbells-rehearsal-2/2024-12-18/
LOCATION:St. Andrew’s Sanctuary Building\, 120 East Avenue - Door #1\, Mahtomedi\, MN\, 55115\, United States
CATEGORIES:Music
ATTACH;FMTTYPE=image/jpeg:https://saintandrews.org/wp-content/uploads/Handbells-2024-1920x1080-1.jpg
ORGANIZER;CN="Dianne Nash":MAILTO:dnash@saintandrews.org
END:VEVENT
BEGIN:VEVENT
DTSTART;TZID=UTC:20241218T173000
DTEND;TZID=UTC:20241218T181500
DTSTAMP:20260420T101029
CREATED:20240724T005357Z
LAST-MODIFIED:20241023T163619Z
UID:10006087-1734543000-1734545700@saintandrews.org
SUMMARY:YOUTH CHOIR (6-12)
DESCRIPTION:Youth Choirs meet Wednesday evenings from 5:30pm to 6:15pm – September 11\, 2024 – May 14\, 2025 \n\n\n\nSt. Andrew’s Youth Choir (6-12)Director:  Andy HaaseMeeting in Room B02This group is designed for the active student  who loves to sing a variety of exciting music from contemporary to traditional. This group typically sings once per month and at various festival Sundays including Christmas and Easter.  Small groups from this choir will also sing at various church services. 
URL:https://saintandrews.org/event/st-andrews-youth-choir-6-12/2024-12-18/
LOCATION:St. Andrew’s Sanctuary Building\, 120 East Avenue - Door #1\, Mahtomedi\, MN\, 55115\, United States
CATEGORIES:Music,Youth Music
ATTACH;FMTTYPE=image/jpeg:https://saintandrews.org/wp-content/uploads/Youth-Choir.jpg
ORGANIZER;CN="Dianne Nash":MAILTO:dnash@saintandrews.org
END:VEVENT
BEGIN:VEVENT
DTSTART;TZID=UTC:20241218T173000
DTEND;TZID=UTC:20241218T181500
DTSTAMP:20260420T101029
CREATED:20240724T005332Z
LAST-MODIFIED:20240806T224715Z
UID:10006153-1734543000-1734545700@saintandrews.org
SUMMARY:CHORISTERS (K\,1\,2)
DESCRIPTION:Youth Choirs meet Wednesday evenings from 5:30pm to 6:15pm – September 11\, 2024 – May 14\, 2025Director: Miriam SikoraMeeting in Room B01Typically singing in worship one Sunday a month
URL:https://saintandrews.org/event/choisters-k12/2024-12-18/
LOCATION:St. Andrew’s Sanctuary Building\, 120 East Avenue - Door #1\, Mahtomedi\, MN\, 55115\, United States
CATEGORIES:Music,Youth Music
ATTACH;FMTTYPE=image/jpeg:https://saintandrews.org/wp-content/uploads/Children-Youth-Families-Volunteer-1920x1080-1.jpg
ORGANIZER;CN="Dianne Nash":MAILTO:dnash@saintandrews.org
END:VEVENT
BEGIN:VEVENT
DTSTART;TZID=UTC:20241218T173000
DTEND;TZID=UTC:20241218T181500
DTSTAMP:20260420T101029
CREATED:20240724T004651Z
LAST-MODIFIED:20240806T224707Z
UID:10006120-1734543000-1734545700@saintandrews.org
SUMMARY:CELEBRATION SINGERS (3\,4\,5)
DESCRIPTION:Youth Choirs meet Wednesday evenings from 5:30pm to 6:15pm – September 11\, 2024 – May 14\, 2025 \n\n\n\nCelebration Singers (3\,4\,5)Director: Victoria SundbergMeeting in Room 203Typically singing in worship one Sunday a month
URL:https://saintandrews.org/event/celebration-singers-345/2024-12-18/
LOCATION:St. Andrew’s Sanctuary Building\, 120 East Avenue - Door #1\, Mahtomedi\, MN\, 55115\, United States
CATEGORIES:Music,Youth Music
ATTACH;FMTTYPE=image/jpeg:https://saintandrews.org/wp-content/uploads/Celebration-Singers.jpg
ORGANIZER;CN="Dianne Nash":MAILTO:dnash@saintandrews.org
END:VEVENT
BEGIN:VEVENT
DTSTART;TZID=UTC:20241215T180000
DTEND;TZID=UTC:20241215T193000
DTSTAMP:20260420T101029
CREATED:20240904T203023Z
LAST-MODIFIED:20241028T223242Z
UID:10006621-1734285600-1734291000@saintandrews.org
SUMMARY:CHRISTMAS FESTIVAL
DESCRIPTION:The Christmas Festival is a highlight of the Advent season\, featuring the musicians of St. Andrew’s Choir and Orchestra\, handbells\, and all of our youth choirs. Come celebrate the birth of Jesus Christ with familiar carols and other songs of the season.
URL:https://saintandrews.org/event/st-andrews-christmas-festival-2/
LOCATION:St. Andrew’s Sanctuary Building\, 120 East Avenue - Door #1\, Mahtomedi\, MN\, 55115\, United States
CATEGORIES:Christmas,Music
ATTACH;FMTTYPE=image/jpeg:https://saintandrews.org/wp-content/uploads/Christmas-Festival-2024-1920x1080-1.jpg
ORGANIZER;CN="Dianne Nash":MAILTO:dnash@saintandrews.org
END:VEVENT
BEGIN:VEVENT
DTSTART;TZID=UTC:20241215T153000
DTEND;TZID=UTC:20241215T170000
DTSTAMP:20260420T101029
CREATED:20240904T202904Z
LAST-MODIFIED:20241028T223254Z
UID:10006620-1734276600-1734282000@saintandrews.org
SUMMARY:CHRISTMAS FESTIVAL
DESCRIPTION:The Christmas Festival is a highlight of the Advent season\, featuring the musicians of St. Andrew’s Choir and Orchestra\, handbells\, and all of our youth choirs. Come celebrate the birth of Jesus Christ with familiar carols and other songs of the season.
URL:https://saintandrews.org/event/st-andrews-christmas-festival/
LOCATION:St. Andrew’s Sanctuary Building\, 120 East Avenue - Door #1\, Mahtomedi\, MN\, 55115\, United States
CATEGORIES:Christmas,Music
ATTACH;FMTTYPE=image/jpeg:https://saintandrews.org/wp-content/uploads/Christmas-Festival-2024-1920x1080-1.jpg
ORGANIZER;CN="Dianne Nash":MAILTO:dnash@saintandrews.org
END:VEVENT
BEGIN:VEVENT
DTSTART;TZID=UTC:20241211T193000
DTEND;TZID=UTC:20241211T210000
DTSTAMP:20260420T101029
CREATED:20240724T000719Z
LAST-MODIFIED:20240806T224623Z
UID:10005947-1733945400-1733950800@saintandrews.org
SUMMARY:ST. ANDREW'S ADULT CHOIR REHEARSAL
DESCRIPTION:Be a part of the amazing music ministry by joining the St. Andrew’s Choir! Adults rehearse weekly on Wednesdays in Sanctuary Room B02\, from August 28\, 2024 through May 21\, 2025. St. Andrew’s Choir is open to all singers. Contact Andy Haase via mail or call 651.762.9123 if you’re interested!
URL:https://saintandrews.org/event/st-andrews-adult-choir-rehearsal/2024-12-11/
LOCATION:St. Andrew’s Sanctuary Building\, 120 East Avenue - Door #1\, Mahtomedi\, MN\, 55115\, United States
CATEGORIES:Adult Ministries,Music
ATTACH;FMTTYPE=image/jpeg:https://saintandrews.org/wp-content/uploads/St-Andrews-Choir-2024-1920x1080-1.jpg
ORGANIZER;CN="Dianne Nash":MAILTO:dnash@saintandrews.org
END:VEVENT
BEGIN:VEVENT
DTSTART;TZID=UTC:20241211T181500
DTEND;TZID=UTC:20241211T191500
DTSTAMP:20260420T101029
CREATED:20240723T233204Z
LAST-MODIFIED:20240806T224630Z
UID:10005874-1733940900-1733944500@saintandrews.org
SUMMARY:HANDBELLS REHEARSAL
DESCRIPTION:Open to adults\, the handbell choir rings once-a-month during the 9 and 10:30am worship services\, as well as for Christmas events. Rehearsals are Wednesday evenings from 6:15–7:15pm. In addition to regular handbell ringers\, experienced ringers are needed as substitutes. Contact Andrew Haase\, Music Director 651.762.9123. No handbell rehearsals on 12/15/14 and 1/1/25.
URL:https://saintandrews.org/event/handbells-rehearsal-2/2024-12-11/
LOCATION:St. Andrew’s Sanctuary Building\, 120 East Avenue - Door #1\, Mahtomedi\, MN\, 55115\, United States
CATEGORIES:Music
ATTACH;FMTTYPE=image/jpeg:https://saintandrews.org/wp-content/uploads/Handbells-2024-1920x1080-1.jpg
ORGANIZER;CN="Dianne Nash":MAILTO:dnash@saintandrews.org
END:VEVENT
BEGIN:VEVENT
DTSTART;TZID=UTC:20241211T173000
DTEND;TZID=UTC:20241211T181500
DTSTAMP:20260420T101029
CREATED:20240724T005357Z
LAST-MODIFIED:20241023T163619Z
UID:10006086-1733938200-1733940900@saintandrews.org
SUMMARY:YOUTH CHOIR (6-12)
DESCRIPTION:Youth Choirs meet Wednesday evenings from 5:30pm to 6:15pm – September 11\, 2024 – May 14\, 2025 \n\n\n\nSt. Andrew’s Youth Choir (6-12)Director:  Andy HaaseMeeting in Room B02This group is designed for the active student  who loves to sing a variety of exciting music from contemporary to traditional. This group typically sings once per month and at various festival Sundays including Christmas and Easter.  Small groups from this choir will also sing at various church services. 
URL:https://saintandrews.org/event/st-andrews-youth-choir-6-12/2024-12-11/
LOCATION:St. Andrew’s Sanctuary Building\, 120 East Avenue - Door #1\, Mahtomedi\, MN\, 55115\, United States
CATEGORIES:Music,Youth Music
ATTACH;FMTTYPE=image/jpeg:https://saintandrews.org/wp-content/uploads/Youth-Choir.jpg
ORGANIZER;CN="Dianne Nash":MAILTO:dnash@saintandrews.org
END:VEVENT
BEGIN:VEVENT
DTSTART;TZID=UTC:20241211T173000
DTEND;TZID=UTC:20241211T181500
DTSTAMP:20260420T101029
CREATED:20240724T005332Z
LAST-MODIFIED:20240806T224715Z
UID:10006152-1733938200-1733940900@saintandrews.org
SUMMARY:CHORISTERS (K\,1\,2)
DESCRIPTION:Youth Choirs meet Wednesday evenings from 5:30pm to 6:15pm – September 11\, 2024 – May 14\, 2025Director: Miriam SikoraMeeting in Room B01Typically singing in worship one Sunday a month
URL:https://saintandrews.org/event/choisters-k12/2024-12-11/
LOCATION:St. Andrew’s Sanctuary Building\, 120 East Avenue - Door #1\, Mahtomedi\, MN\, 55115\, United States
CATEGORIES:Music,Youth Music
ATTACH;FMTTYPE=image/jpeg:https://saintandrews.org/wp-content/uploads/Children-Youth-Families-Volunteer-1920x1080-1.jpg
ORGANIZER;CN="Dianne Nash":MAILTO:dnash@saintandrews.org
END:VEVENT
BEGIN:VEVENT
DTSTART;TZID=UTC:20241211T173000
DTEND;TZID=UTC:20241211T181500
DTSTAMP:20260420T101029
CREATED:20240724T004651Z
LAST-MODIFIED:20240806T224707Z
UID:10006119-1733938200-1733940900@saintandrews.org
SUMMARY:CELEBRATION SINGERS (3\,4\,5)
DESCRIPTION:Youth Choirs meet Wednesday evenings from 5:30pm to 6:15pm – September 11\, 2024 – May 14\, 2025 \n\n\n\nCelebration Singers (3\,4\,5)Director: Victoria SundbergMeeting in Room 203Typically singing in worship one Sunday a month
URL:https://saintandrews.org/event/celebration-singers-345/2024-12-11/
LOCATION:St. Andrew’s Sanctuary Building\, 120 East Avenue - Door #1\, Mahtomedi\, MN\, 55115\, United States
CATEGORIES:Music,Youth Music
ATTACH;FMTTYPE=image/jpeg:https://saintandrews.org/wp-content/uploads/Celebration-Singers.jpg
ORGANIZER;CN="Dianne Nash":MAILTO:dnash@saintandrews.org
END:VEVENT
BEGIN:VEVENT
DTSTART;TZID=UTC:20241204T193000
DTEND;TZID=UTC:20241204T210000
DTSTAMP:20260420T101029
CREATED:20240724T000719Z
LAST-MODIFIED:20240806T224623Z
UID:10005946-1733340600-1733346000@saintandrews.org
SUMMARY:ST. ANDREW'S ADULT CHOIR REHEARSAL
DESCRIPTION:Be a part of the amazing music ministry by joining the St. Andrew’s Choir! Adults rehearse weekly on Wednesdays in Sanctuary Room B02\, from August 28\, 2024 through May 21\, 2025. St. Andrew’s Choir is open to all singers. Contact Andy Haase via mail or call 651.762.9123 if you’re interested!
URL:https://saintandrews.org/event/st-andrews-adult-choir-rehearsal/2024-12-04/
LOCATION:St. Andrew’s Sanctuary Building\, 120 East Avenue - Door #1\, Mahtomedi\, MN\, 55115\, United States
CATEGORIES:Adult Ministries,Music
ATTACH;FMTTYPE=image/jpeg:https://saintandrews.org/wp-content/uploads/St-Andrews-Choir-2024-1920x1080-1.jpg
ORGANIZER;CN="Dianne Nash":MAILTO:dnash@saintandrews.org
END:VEVENT
BEGIN:VEVENT
DTSTART;TZID=UTC:20241204T181500
DTEND;TZID=UTC:20241204T191500
DTSTAMP:20260420T101029
CREATED:20240723T233204Z
LAST-MODIFIED:20240806T224630Z
UID:10005873-1733336100-1733339700@saintandrews.org
SUMMARY:HANDBELLS REHEARSAL
DESCRIPTION:Open to adults\, the handbell choir rings once-a-month during the 9 and 10:30am worship services\, as well as for Christmas events. Rehearsals are Wednesday evenings from 6:15–7:15pm. In addition to regular handbell ringers\, experienced ringers are needed as substitutes. Contact Andrew Haase\, Music Director 651.762.9123. No handbell rehearsals on 12/15/14 and 1/1/25.
URL:https://saintandrews.org/event/handbells-rehearsal-2/2024-12-04/
LOCATION:St. Andrew’s Sanctuary Building\, 120 East Avenue - Door #1\, Mahtomedi\, MN\, 55115\, United States
CATEGORIES:Music
ATTACH;FMTTYPE=image/jpeg:https://saintandrews.org/wp-content/uploads/Handbells-2024-1920x1080-1.jpg
ORGANIZER;CN="Dianne Nash":MAILTO:dnash@saintandrews.org
END:VEVENT
BEGIN:VEVENT
DTSTART;TZID=UTC:20241204T173000
DTEND;TZID=UTC:20241204T181500
DTSTAMP:20260420T101029
CREATED:20240724T005357Z
LAST-MODIFIED:20241023T163619Z
UID:10006085-1733333400-1733336100@saintandrews.org
SUMMARY:YOUTH CHOIR (6-12)
DESCRIPTION:Youth Choirs meet Wednesday evenings from 5:30pm to 6:15pm – September 11\, 2024 – May 14\, 2025 \n\n\n\nSt. Andrew’s Youth Choir (6-12)Director:  Andy HaaseMeeting in Room B02This group is designed for the active student  who loves to sing a variety of exciting music from contemporary to traditional. This group typically sings once per month and at various festival Sundays including Christmas and Easter.  Small groups from this choir will also sing at various church services. 
URL:https://saintandrews.org/event/st-andrews-youth-choir-6-12/2024-12-04/
LOCATION:St. Andrew’s Sanctuary Building\, 120 East Avenue - Door #1\, Mahtomedi\, MN\, 55115\, United States
CATEGORIES:Music,Youth Music
ATTACH;FMTTYPE=image/jpeg:https://saintandrews.org/wp-content/uploads/Youth-Choir.jpg
ORGANIZER;CN="Dianne Nash":MAILTO:dnash@saintandrews.org
END:VEVENT
BEGIN:VEVENT
DTSTART;TZID=UTC:20241204T173000
DTEND;TZID=UTC:20241204T181500
DTSTAMP:20260420T101029
CREATED:20240724T005332Z
LAST-MODIFIED:20240806T224715Z
UID:10006151-1733333400-1733336100@saintandrews.org
SUMMARY:CHORISTERS (K\,1\,2)
DESCRIPTION:Youth Choirs meet Wednesday evenings from 5:30pm to 6:15pm – September 11\, 2024 – May 14\, 2025Director: Miriam SikoraMeeting in Room B01Typically singing in worship one Sunday a month
URL:https://saintandrews.org/event/choisters-k12/2024-12-04/
LOCATION:St. Andrew’s Sanctuary Building\, 120 East Avenue - Door #1\, Mahtomedi\, MN\, 55115\, United States
CATEGORIES:Music,Youth Music
ATTACH;FMTTYPE=image/jpeg:https://saintandrews.org/wp-content/uploads/Children-Youth-Families-Volunteer-1920x1080-1.jpg
ORGANIZER;CN="Dianne Nash":MAILTO:dnash@saintandrews.org
END:VEVENT
BEGIN:VEVENT
DTSTART;TZID=UTC:20241204T173000
DTEND;TZID=UTC:20241204T181500
DTSTAMP:20260420T101029
CREATED:20240724T004651Z
LAST-MODIFIED:20240806T224707Z
UID:10006118-1733333400-1733336100@saintandrews.org
SUMMARY:CELEBRATION SINGERS (3\,4\,5)
DESCRIPTION:Youth Choirs meet Wednesday evenings from 5:30pm to 6:15pm – September 11\, 2024 – May 14\, 2025 \n\n\n\nCelebration Singers (3\,4\,5)Director: Victoria SundbergMeeting in Room 203Typically singing in worship one Sunday a month
URL:https://saintandrews.org/event/celebration-singers-345/2024-12-04/
LOCATION:St. Andrew’s Sanctuary Building\, 120 East Avenue - Door #1\, Mahtomedi\, MN\, 55115\, United States
CATEGORIES:Music,Youth Music
ATTACH;FMTTYPE=image/jpeg:https://saintandrews.org/wp-content/uploads/Celebration-Singers.jpg
ORGANIZER;CN="Dianne Nash":MAILTO:dnash@saintandrews.org
END:VEVENT
BEGIN:VEVENT
DTSTART;TZID=UTC:20241127T193000
DTEND;TZID=UTC:20241127T210000
DTSTAMP:20260420T101029
CREATED:20240724T000719Z
LAST-MODIFIED:20240806T224623Z
UID:10005945-1732735800-1732741200@saintandrews.org
SUMMARY:ST. ANDREW'S ADULT CHOIR REHEARSAL
DESCRIPTION:Be a part of the amazing music ministry by joining the St. Andrew’s Choir! Adults rehearse weekly on Wednesdays in Sanctuary Room B02\, from August 28\, 2024 through May 21\, 2025. St. Andrew’s Choir is open to all singers. Contact Andy Haase via mail or call 651.762.9123 if you’re interested!
URL:https://saintandrews.org/event/st-andrews-adult-choir-rehearsal/2024-11-27/
LOCATION:St. Andrew’s Sanctuary Building\, 120 East Avenue - Door #1\, Mahtomedi\, MN\, 55115\, United States
CATEGORIES:Adult Ministries,Music
ATTACH;FMTTYPE=image/jpeg:https://saintandrews.org/wp-content/uploads/St-Andrews-Choir-2024-1920x1080-1.jpg
ORGANIZER;CN="Dianne Nash":MAILTO:dnash@saintandrews.org
END:VEVENT
BEGIN:VEVENT
DTSTART;TZID=UTC:20241127T181500
DTEND;TZID=UTC:20241127T191500
DTSTAMP:20260420T101029
CREATED:20240723T233204Z
LAST-MODIFIED:20240806T224630Z
UID:10005872-1732731300-1732734900@saintandrews.org
SUMMARY:HANDBELLS REHEARSAL
DESCRIPTION:Open to adults\, the handbell choir rings once-a-month during the 9 and 10:30am worship services\, as well as for Christmas events. Rehearsals are Wednesday evenings from 6:15–7:15pm. In addition to regular handbell ringers\, experienced ringers are needed as substitutes. Contact Andrew Haase\, Music Director 651.762.9123. No handbell rehearsals on 12/15/14 and 1/1/25.
URL:https://saintandrews.org/event/handbells-rehearsal-2/2024-11-27/
LOCATION:St. Andrew’s Sanctuary Building\, 120 East Avenue - Door #1\, Mahtomedi\, MN\, 55115\, United States
CATEGORIES:Music
ATTACH;FMTTYPE=image/jpeg:https://saintandrews.org/wp-content/uploads/Handbells-2024-1920x1080-1.jpg
ORGANIZER;CN="Dianne Nash":MAILTO:dnash@saintandrews.org
END:VEVENT
BEGIN:VEVENT
DTSTART;TZID=UTC:20241120T193000
DTEND;TZID=UTC:20241120T210000
DTSTAMP:20260420T101029
CREATED:20240724T000719Z
LAST-MODIFIED:20240806T224623Z
UID:10005944-1732131000-1732136400@saintandrews.org
SUMMARY:ST. ANDREW'S ADULT CHOIR REHEARSAL
DESCRIPTION:Be a part of the amazing music ministry by joining the St. Andrew’s Choir! Adults rehearse weekly on Wednesdays in Sanctuary Room B02\, from August 28\, 2024 through May 21\, 2025. St. Andrew’s Choir is open to all singers. Contact Andy Haase via mail or call 651.762.9123 if you’re interested!
URL:https://saintandrews.org/event/st-andrews-adult-choir-rehearsal/2024-11-20/
LOCATION:St. Andrew’s Sanctuary Building\, 120 East Avenue - Door #1\, Mahtomedi\, MN\, 55115\, United States
CATEGORIES:Adult Ministries,Music
ATTACH;FMTTYPE=image/jpeg:https://saintandrews.org/wp-content/uploads/St-Andrews-Choir-2024-1920x1080-1.jpg
ORGANIZER;CN="Dianne Nash":MAILTO:dnash@saintandrews.org
END:VEVENT
BEGIN:VEVENT
DTSTART;TZID=UTC:20241120T181500
DTEND;TZID=UTC:20241120T191500
DTSTAMP:20260420T101029
CREATED:20240723T233204Z
LAST-MODIFIED:20240806T224630Z
UID:10005871-1732126500-1732130100@saintandrews.org
SUMMARY:HANDBELLS REHEARSAL
DESCRIPTION:Open to adults\, the handbell choir rings once-a-month during the 9 and 10:30am worship services\, as well as for Christmas events. Rehearsals are Wednesday evenings from 6:15–7:15pm. In addition to regular handbell ringers\, experienced ringers are needed as substitutes. Contact Andrew Haase\, Music Director 651.762.9123. No handbell rehearsals on 12/15/14 and 1/1/25.
URL:https://saintandrews.org/event/handbells-rehearsal-2/2024-11-20/
LOCATION:St. Andrew’s Sanctuary Building\, 120 East Avenue - Door #1\, Mahtomedi\, MN\, 55115\, United States
CATEGORIES:Music
ATTACH;FMTTYPE=image/jpeg:https://saintandrews.org/wp-content/uploads/Handbells-2024-1920x1080-1.jpg
ORGANIZER;CN="Dianne Nash":MAILTO:dnash@saintandrews.org
END:VEVENT
BEGIN:VEVENT
DTSTART;TZID=UTC:20241120T173000
DTEND;TZID=UTC:20241120T181500
DTSTAMP:20260420T101029
CREATED:20240724T005357Z
LAST-MODIFIED:20241023T163619Z
UID:10006084-1732123800-1732126500@saintandrews.org
SUMMARY:YOUTH CHOIR (6-12)
DESCRIPTION:Youth Choirs meet Wednesday evenings from 5:30pm to 6:15pm – September 11\, 2024 – May 14\, 2025 \n\n\n\nSt. Andrew’s Youth Choir (6-12)Director:  Andy HaaseMeeting in Room B02This group is designed for the active student  who loves to sing a variety of exciting music from contemporary to traditional. This group typically sings once per month and at various festival Sundays including Christmas and Easter.  Small groups from this choir will also sing at various church services. 
URL:https://saintandrews.org/event/st-andrews-youth-choir-6-12/2024-11-20/
LOCATION:St. Andrew’s Sanctuary Building\, 120 East Avenue - Door #1\, Mahtomedi\, MN\, 55115\, United States
CATEGORIES:Music,Youth Music
ATTACH;FMTTYPE=image/jpeg:https://saintandrews.org/wp-content/uploads/Youth-Choir.jpg
ORGANIZER;CN="Dianne Nash":MAILTO:dnash@saintandrews.org
END:VEVENT
BEGIN:VEVENT
DTSTART;TZID=UTC:20241120T173000
DTEND;TZID=UTC:20241120T181500
DTSTAMP:20260420T101029
CREATED:20240724T005332Z
LAST-MODIFIED:20240806T224715Z
UID:10006150-1732123800-1732126500@saintandrews.org
SUMMARY:CHORISTERS (K\,1\,2)
DESCRIPTION:Youth Choirs meet Wednesday evenings from 5:30pm to 6:15pm – September 11\, 2024 – May 14\, 2025Director: Miriam SikoraMeeting in Room B01Typically singing in worship one Sunday a month
URL:https://saintandrews.org/event/choisters-k12/2024-11-20/
LOCATION:St. Andrew’s Sanctuary Building\, 120 East Avenue - Door #1\, Mahtomedi\, MN\, 55115\, United States
CATEGORIES:Music,Youth Music
ATTACH;FMTTYPE=image/jpeg:https://saintandrews.org/wp-content/uploads/Children-Youth-Families-Volunteer-1920x1080-1.jpg
ORGANIZER;CN="Dianne Nash":MAILTO:dnash@saintandrews.org
END:VEVENT
BEGIN:VEVENT
DTSTART;TZID=UTC:20241120T173000
DTEND;TZID=UTC:20241120T181500
DTSTAMP:20260420T101029
CREATED:20240724T004651Z
LAST-MODIFIED:20240806T224707Z
UID:10006117-1732123800-1732126500@saintandrews.org
SUMMARY:CELEBRATION SINGERS (3\,4\,5)
DESCRIPTION:Youth Choirs meet Wednesday evenings from 5:30pm to 6:15pm – September 11\, 2024 – May 14\, 2025 \n\n\n\nCelebration Singers (3\,4\,5)Director: Victoria SundbergMeeting in Room 203Typically singing in worship one Sunday a month
URL:https://saintandrews.org/event/celebration-singers-345/2024-11-20/
LOCATION:St. Andrew’s Sanctuary Building\, 120 East Avenue - Door #1\, Mahtomedi\, MN\, 55115\, United States
CATEGORIES:Music,Youth Music
ATTACH;FMTTYPE=image/jpeg:https://saintandrews.org/wp-content/uploads/Celebration-Singers.jpg
ORGANIZER;CN="Dianne Nash":MAILTO:dnash@saintandrews.org
END:VEVENT
BEGIN:VEVENT
DTSTART;TZID=UTC:20241117T150000
DTEND;TZID=UTC:20241117T173000
DTSTAMP:20260420T101029
CREATED:20241111T181422Z
LAST-MODIFIED:20241111T181423Z
UID:10005415-1731855600-1731864600@saintandrews.org
SUMMARY:SAINT PAUL CHAMBER ORCHESTRA CONCERT
DESCRIPTION:Renowned for its artistic excellence\, remarkable versatility of musical styles and adventurous programming\, The Saint Paul Chamber Orchestra is widely regarded as one of the finest chamber orchestras in the world. The SPCO is primarily an unconducted ensemble that performs a broad range of repertoire from Baroque to new music and works in close collaboration with a dynamic roster of Artistic Partners.  \n\n\n\nFour concert dates to choose from: Sept. 29\, and Nov. 17\, 2024; March 30 and May 25\, 2025 \n\n\n\nClick on SPCO WEBSITE for ticketing information.
URL:https://saintandrews.org/event/saint-paul-chamber-orchestra-concert-2/
LOCATION:St. Andrew’s Sanctuary Building\, 120 East Avenue - Door #1\, Mahtomedi\, MN\, 55115\, United States
CATEGORIES:Music
ATTACH;FMTTYPE=image/jpeg:https://saintandrews.org/wp-content/uploads/Concert-Series-2024-1920x1080-1.jpg
ORGANIZER;CN="Dianne Nash":MAILTO:dnash@saintandrews.org
END:VEVENT
BEGIN:VEVENT
DTSTART;TZID=UTC:20241113T193000
DTEND;TZID=UTC:20241113T210000
DTSTAMP:20260420T101029
CREATED:20240724T000719Z
LAST-MODIFIED:20240806T224623Z
UID:10005943-1731526200-1731531600@saintandrews.org
SUMMARY:ST. ANDREW'S ADULT CHOIR REHEARSAL
DESCRIPTION:Be a part of the amazing music ministry by joining the St. Andrew’s Choir! Adults rehearse weekly on Wednesdays in Sanctuary Room B02\, from August 28\, 2024 through May 21\, 2025. St. Andrew’s Choir is open to all singers. Contact Andy Haase via mail or call 651.762.9123 if you’re interested!
URL:https://saintandrews.org/event/st-andrews-adult-choir-rehearsal/2024-11-13/
LOCATION:St. Andrew’s Sanctuary Building\, 120 East Avenue - Door #1\, Mahtomedi\, MN\, 55115\, United States
CATEGORIES:Adult Ministries,Music
ATTACH;FMTTYPE=image/jpeg:https://saintandrews.org/wp-content/uploads/St-Andrews-Choir-2024-1920x1080-1.jpg
ORGANIZER;CN="Dianne Nash":MAILTO:dnash@saintandrews.org
END:VEVENT
BEGIN:VEVENT
DTSTART;TZID=UTC:20241113T181500
DTEND;TZID=UTC:20241113T191500
DTSTAMP:20260420T101029
CREATED:20240723T233204Z
LAST-MODIFIED:20240806T224630Z
UID:10005870-1731521700-1731525300@saintandrews.org
SUMMARY:HANDBELLS REHEARSAL
DESCRIPTION:Open to adults\, the handbell choir rings once-a-month during the 9 and 10:30am worship services\, as well as for Christmas events. Rehearsals are Wednesday evenings from 6:15–7:15pm. In addition to regular handbell ringers\, experienced ringers are needed as substitutes. Contact Andrew Haase\, Music Director 651.762.9123. No handbell rehearsals on 12/15/14 and 1/1/25.
URL:https://saintandrews.org/event/handbells-rehearsal-2/2024-11-13/
LOCATION:St. Andrew’s Sanctuary Building\, 120 East Avenue - Door #1\, Mahtomedi\, MN\, 55115\, United States
CATEGORIES:Music
ATTACH;FMTTYPE=image/jpeg:https://saintandrews.org/wp-content/uploads/Handbells-2024-1920x1080-1.jpg
ORGANIZER;CN="Dianne Nash":MAILTO:dnash@saintandrews.org
END:VEVENT
BEGIN:VEVENT
DTSTART;TZID=UTC:20241113T173000
DTEND;TZID=UTC:20241113T181500
DTSTAMP:20260420T101029
CREATED:20240724T005357Z
LAST-MODIFIED:20241023T163619Z
UID:10006083-1731519000-1731521700@saintandrews.org
SUMMARY:YOUTH CHOIR (6-12)
DESCRIPTION:Youth Choirs meet Wednesday evenings from 5:30pm to 6:15pm – September 11\, 2024 – May 14\, 2025 \n\n\n\nSt. Andrew’s Youth Choir (6-12)Director:  Andy HaaseMeeting in Room B02This group is designed for the active student  who loves to sing a variety of exciting music from contemporary to traditional. This group typically sings once per month and at various festival Sundays including Christmas and Easter.  Small groups from this choir will also sing at various church services. 
URL:https://saintandrews.org/event/st-andrews-youth-choir-6-12/2024-11-13/
LOCATION:St. Andrew’s Sanctuary Building\, 120 East Avenue - Door #1\, Mahtomedi\, MN\, 55115\, United States
CATEGORIES:Music,Youth Music
ATTACH;FMTTYPE=image/jpeg:https://saintandrews.org/wp-content/uploads/Youth-Choir.jpg
ORGANIZER;CN="Dianne Nash":MAILTO:dnash@saintandrews.org
END:VEVENT
BEGIN:VEVENT
DTSTART;TZID=UTC:20241113T173000
DTEND;TZID=UTC:20241113T181500
DTSTAMP:20260420T101029
CREATED:20240724T005332Z
LAST-MODIFIED:20240806T224715Z
UID:10006149-1731519000-1731521700@saintandrews.org
SUMMARY:CHORISTERS (K\,1\,2)
DESCRIPTION:Youth Choirs meet Wednesday evenings from 5:30pm to 6:15pm – September 11\, 2024 – May 14\, 2025Director: Miriam SikoraMeeting in Room B01Typically singing in worship one Sunday a month
URL:https://saintandrews.org/event/choisters-k12/2024-11-13/
LOCATION:St. Andrew’s Sanctuary Building\, 120 East Avenue - Door #1\, Mahtomedi\, MN\, 55115\, United States
CATEGORIES:Music,Youth Music
ATTACH;FMTTYPE=image/jpeg:https://saintandrews.org/wp-content/uploads/Children-Youth-Families-Volunteer-1920x1080-1.jpg
ORGANIZER;CN="Dianne Nash":MAILTO:dnash@saintandrews.org
END:VEVENT
BEGIN:VEVENT
DTSTART;TZID=UTC:20241113T173000
DTEND;TZID=UTC:20241113T181500
DTSTAMP:20260420T101029
CREATED:20240724T004651Z
LAST-MODIFIED:20240806T224707Z
UID:10006116-1731519000-1731521700@saintandrews.org
SUMMARY:CELEBRATION SINGERS (3\,4\,5)
DESCRIPTION:Youth Choirs meet Wednesday evenings from 5:30pm to 6:15pm – September 11\, 2024 – May 14\, 2025 \n\n\n\nCelebration Singers (3\,4\,5)Director: Victoria SundbergMeeting in Room 203Typically singing in worship one Sunday a month
URL:https://saintandrews.org/event/celebration-singers-345/2024-11-13/
LOCATION:St. Andrew’s Sanctuary Building\, 120 East Avenue - Door #1\, Mahtomedi\, MN\, 55115\, United States
CATEGORIES:Music,Youth Music
ATTACH;FMTTYPE=image/jpeg:https://saintandrews.org/wp-content/uploads/Celebration-Singers.jpg
ORGANIZER;CN="Dianne Nash":MAILTO:dnash@saintandrews.org
END:VEVENT
BEGIN:VEVENT
DTSTART;TZID=UTC:20241107T193000
DTEND;TZID=UTC:20241107T210000
DTSTAMP:20260420T101029
CREATED:20240425T192204Z
LAST-MODIFIED:20240425T192207Z
UID:10005419-1731007800-1731013200@saintandrews.org
SUMMARY:STILLWATER DISTRICT 834 - CHORAL FESTIVAL
DESCRIPTION:A well-loved concert tradition celebrating the choral music program in Stillwater Area Public Schools. The concert will feature the 8th grade ensembles from both Oakland and Stillwater Middle Schools as well as each of the 6 curricular choirs from Stillwater Area High School. The concert will culminate in a massed choir of over 400 singers and organ!
URL:https://saintandrews.org/event/stillwater-district-834-choral-festival/
LOCATION:St. Andrew’s Sanctuary Building\, 120 East Avenue - Door #1\, Mahtomedi\, MN\, 55115\, United States
CATEGORIES:Music
ATTACH;FMTTYPE=image/jpeg:https://saintandrews.org/wp-content/uploads/apple-music-melody-7020335.jpg
ORGANIZER;CN="Dianne Nash":MAILTO:dnash@saintandrews.org
END:VEVENT
END:VCALENDAR