BEGIN:VCALENDAR
VERSION:2.0
PRODID:-//St. Andrew&#039;s Lutheran Church - ECPv6.15.20//NONSGML v1.0//EN
CALSCALE:GREGORIAN
METHOD:PUBLISH
X-WR-CALNAME:St. Andrew&#039;s Lutheran Church
X-ORIGINAL-URL:https://saintandrews.org
X-WR-CALDESC:Events for St. Andrew&#039;s Lutheran Church
REFRESH-INTERVAL;VALUE=DURATION:PT1H
X-Robots-Tag:noindex
X-PUBLISHED-TTL:PT1H
BEGIN:VTIMEZONE
TZID:America/Chicago
BEGIN:DAYLIGHT
TZOFFSETFROM:-0600
TZOFFSETTO:-0500
TZNAME:CDT
DTSTART:20250309T080000
END:DAYLIGHT
BEGIN:STANDARD
TZOFFSETFROM:-0500
TZOFFSETTO:-0600
TZNAME:CST
DTSTART:20251102T070000
END:STANDARD
BEGIN:DAYLIGHT
TZOFFSETFROM:-0600
TZOFFSETTO:-0500
TZNAME:CDT
DTSTART:20260308T080000
END:DAYLIGHT
BEGIN:STANDARD
TZOFFSETFROM:-0500
TZOFFSETTO:-0600
TZNAME:CST
DTSTART:20261101T070000
END:STANDARD
BEGIN:DAYLIGHT
TZOFFSETFROM:-0600
TZOFFSETTO:-0500
TZNAME:CDT
DTSTART:20270314T080000
END:DAYLIGHT
BEGIN:STANDARD
TZOFFSETFROM:-0500
TZOFFSETTO:-0600
TZNAME:CST
DTSTART:20271107T070000
END:STANDARD
END:VTIMEZONE
BEGIN:VEVENT
DTSTART;TZID=America/Chicago:20260422T144500
DTEND;TZID=America/Chicago:20260422T183000
DTSTAMP:20260422T081007
CREATED:20251001T183149Z
LAST-MODIFIED:20251007T211632Z
UID:10013026-1776869100-1776882600@saintandrews.org
SUMMARY:MIDDLE SCHOOL VIBE & THRIVE  2025-2026
DESCRIPTION:This program\, for youth in Grades 6–8\, provides a weekly opportunity to connect with one another\, volunteers\, and St. Andrew’s staff while navigating and embracing the highs and lows that naturally accompany the Middle School years. You’ll enjoy various free-time activities\, a no-cost healthy snack\, spaces for relaxing and doing homework\, open gym time\, and creative and recreational activities that vary by week.
URL:https://saintandrews.org/event/middle-school-vibe-thrive-2025-2026/2026-04-22/
LOCATION:Youth & Sports Center\, 110 East Ave\, Mahtomedi\, MN\, 55115\, United States
CATEGORIES:Middle School
ATTACH;FMTTYPE=image/jpeg:https://saintandrews.org/wp-content/uploads/Middle-School-Vibe-Thrive-1920x1080-1.jpg
ORGANIZER;CN="Leah Chouinard":MAILTO:leah.chouinard@saintandrews.org
END:VEVENT
BEGIN:VEVENT
DTSTART;TZID=America/Chicago:20260429T144500
DTEND;TZID=America/Chicago:20260429T183000
DTSTAMP:20260422T081007
CREATED:20251001T183149Z
LAST-MODIFIED:20251007T211632Z
UID:10013027-1777473900-1777487400@saintandrews.org
SUMMARY:MIDDLE SCHOOL VIBE & THRIVE  2025-2026
DESCRIPTION:This program\, for youth in Grades 6–8\, provides a weekly opportunity to connect with one another\, volunteers\, and St. Andrew’s staff while navigating and embracing the highs and lows that naturally accompany the Middle School years. You’ll enjoy various free-time activities\, a no-cost healthy snack\, spaces for relaxing and doing homework\, open gym time\, and creative and recreational activities that vary by week.
URL:https://saintandrews.org/event/middle-school-vibe-thrive-2025-2026/2026-04-29/
LOCATION:Youth & Sports Center\, 110 East Ave\, Mahtomedi\, MN\, 55115\, United States
CATEGORIES:Middle School
ATTACH;FMTTYPE=image/jpeg:https://saintandrews.org/wp-content/uploads/Middle-School-Vibe-Thrive-1920x1080-1.jpg
ORGANIZER;CN="Leah Chouinard":MAILTO:leah.chouinard@saintandrews.org
END:VEVENT
BEGIN:VEVENT
DTSTART;TZID=America/Chicago:20260506T144500
DTEND;TZID=America/Chicago:20260506T183000
DTSTAMP:20260422T081007
CREATED:20251001T183149Z
LAST-MODIFIED:20251007T211632Z
UID:10013028-1778078700-1778092200@saintandrews.org
SUMMARY:MIDDLE SCHOOL VIBE & THRIVE  2025-2026
DESCRIPTION:This program\, for youth in Grades 6–8\, provides a weekly opportunity to connect with one another\, volunteers\, and St. Andrew’s staff while navigating and embracing the highs and lows that naturally accompany the Middle School years. You’ll enjoy various free-time activities\, a no-cost healthy snack\, spaces for relaxing and doing homework\, open gym time\, and creative and recreational activities that vary by week.
URL:https://saintandrews.org/event/middle-school-vibe-thrive-2025-2026/2026-05-06/
LOCATION:Youth & Sports Center\, 110 East Ave\, Mahtomedi\, MN\, 55115\, United States
CATEGORIES:Middle School
ATTACH;FMTTYPE=image/jpeg:https://saintandrews.org/wp-content/uploads/Middle-School-Vibe-Thrive-1920x1080-1.jpg
ORGANIZER;CN="Leah Chouinard":MAILTO:leah.chouinard@saintandrews.org
END:VEVENT
BEGIN:VEVENT
DTSTART;TZID=America/Chicago:20260513T144500
DTEND;TZID=America/Chicago:20260513T183000
DTSTAMP:20260422T081007
CREATED:20251001T183149Z
LAST-MODIFIED:20251007T211632Z
UID:10013029-1778683500-1778697000@saintandrews.org
SUMMARY:MIDDLE SCHOOL VIBE & THRIVE  2025-2026
DESCRIPTION:This program\, for youth in Grades 6–8\, provides a weekly opportunity to connect with one another\, volunteers\, and St. Andrew’s staff while navigating and embracing the highs and lows that naturally accompany the Middle School years. You’ll enjoy various free-time activities\, a no-cost healthy snack\, spaces for relaxing and doing homework\, open gym time\, and creative and recreational activities that vary by week.
URL:https://saintandrews.org/event/middle-school-vibe-thrive-2025-2026/2026-05-13/
LOCATION:Youth & Sports Center\, 110 East Ave\, Mahtomedi\, MN\, 55115\, United States
CATEGORIES:Middle School
ATTACH;FMTTYPE=image/jpeg:https://saintandrews.org/wp-content/uploads/Middle-School-Vibe-Thrive-1920x1080-1.jpg
ORGANIZER;CN="Leah Chouinard":MAILTO:leah.chouinard@saintandrews.org
END:VEVENT
END:VCALENDAR