BEGIN:VCALENDAR
VERSION:2.0
PRODID:-//St. Andrew&#039;s Lutheran Church - ECPv6.15.20//NONSGML v1.0//EN
CALSCALE:GREGORIAN
METHOD:PUBLISH
X-WR-CALNAME:St. Andrew&#039;s Lutheran Church
X-ORIGINAL-URL:https://saintandrews.org
X-WR-CALDESC:Events for St. Andrew&#039;s Lutheran Church
REFRESH-INTERVAL;VALUE=DURATION:PT1H
X-Robots-Tag:noindex
X-PUBLISHED-TTL:PT1H
BEGIN:VTIMEZONE
TZID:UTC
BEGIN:STANDARD
TZOFFSETFROM:+0000
TZOFFSETTO:+0000
TZNAME:UTC
DTSTART:20250101T000000
END:STANDARD
END:VTIMEZONE
BEGIN:VEVENT
DTSTART;TZID=UTC:20260422T192500
DTEND;TZID=UTC:20260422T201500
DTSTAMP:20260420T205945
CREATED:20250903T182606Z
LAST-MODIFIED:20260205T172319Z
UID:10012694-1776885900-1776888900@saintandrews.org
SUMMARY:LIFEU - LIFE GROUPS - SPRING 2026
DESCRIPTION:LIFE Groups\, led by a trained facilitator\, are small group experiences built around our weekly Wednesday LIFE Talks. They provide an opportunity to have meaningful conversations\, share\, and pray together.Most LIFE Groups meet Wednesday evenings\, 7:25-8:15pm\, immediately following the LIFE Talks\, though other days and daytime options are available. Joining a LIFE Group for the first time? Welcome! Be sure to register (link below)\, and someone will contact you with more information. Returning to a LIFE Group? Notify your group leader—or just show up! \n\n\n\nFind more details about LIFEU at saintandrews.org/LIFEU.
URL:https://saintandrews.org/event/lifeu-life-groups-spring-2026/2026-04-22/
LOCATION:St. Andrew’s Lutheran Church\, 900 Stillwater Road\, Mahtomedi\, MN\, 55115
CATEGORIES:Adult Ministries,LifeU,Seniors Page Extra
ATTACH;FMTTYPE=image/jpeg:https://saintandrews.org/wp-content/uploads/LIFE-Groups-1920x1080-1.jpg
ORGANIZER;CN="St. Andrew's Lutheran Church":MAILTO:office@saintandrews.org
END:VEVENT
BEGIN:VEVENT
DTSTART;TZID=UTC:20260429T192500
DTEND;TZID=UTC:20260429T201500
DTSTAMP:20260420T205945
CREATED:20250903T182606Z
LAST-MODIFIED:20260205T172319Z
UID:10012695-1777490700-1777493700@saintandrews.org
SUMMARY:LIFEU - LIFE GROUPS - SPRING 2026
DESCRIPTION:LIFE Groups\, led by a trained facilitator\, are small group experiences built around our weekly Wednesday LIFE Talks. They provide an opportunity to have meaningful conversations\, share\, and pray together.Most LIFE Groups meet Wednesday evenings\, 7:25-8:15pm\, immediately following the LIFE Talks\, though other days and daytime options are available. Joining a LIFE Group for the first time? Welcome! Be sure to register (link below)\, and someone will contact you with more information. Returning to a LIFE Group? Notify your group leader—or just show up! \n\n\n\nFind more details about LIFEU at saintandrews.org/LIFEU.
URL:https://saintandrews.org/event/lifeu-life-groups-spring-2026/2026-04-29/
LOCATION:St. Andrew’s Lutheran Church\, 900 Stillwater Road\, Mahtomedi\, MN\, 55115
CATEGORIES:Adult Ministries,LifeU,Seniors Page Extra
ATTACH;FMTTYPE=image/jpeg:https://saintandrews.org/wp-content/uploads/LIFE-Groups-1920x1080-1.jpg
ORGANIZER;CN="St. Andrew's Lutheran Church":MAILTO:office@saintandrews.org
END:VEVENT
END:VCALENDAR