BEGIN:VCALENDAR
VERSION:2.0
PRODID:-//St. Andrew&#039;s Lutheran Church - ECPv6.15.20//NONSGML v1.0//EN
CALSCALE:GREGORIAN
METHOD:PUBLISH
X-ORIGINAL-URL:https://saintandrews.org
X-WR-CALDESC:Events for St. Andrew&#039;s Lutheran Church
REFRESH-INTERVAL;VALUE=DURATION:PT1H
X-Robots-Tag:noindex
X-PUBLISHED-TTL:PT1H
BEGIN:VTIMEZONE
TZID:America/Chicago
BEGIN:DAYLIGHT
TZOFFSETFROM:-0600
TZOFFSETTO:-0500
TZNAME:CDT
DTSTART:20250309T080000
END:DAYLIGHT
BEGIN:STANDARD
TZOFFSETFROM:-0500
TZOFFSETTO:-0600
TZNAME:CST
DTSTART:20251102T070000
END:STANDARD
BEGIN:DAYLIGHT
TZOFFSETFROM:-0600
TZOFFSETTO:-0500
TZNAME:CDT
DTSTART:20260308T080000
END:DAYLIGHT
BEGIN:STANDARD
TZOFFSETFROM:-0500
TZOFFSETTO:-0600
TZNAME:CST
DTSTART:20261101T070000
END:STANDARD
BEGIN:DAYLIGHT
TZOFFSETFROM:-0600
TZOFFSETTO:-0500
TZNAME:CDT
DTSTART:20270314T080000
END:DAYLIGHT
BEGIN:STANDARD
TZOFFSETFROM:-0500
TZOFFSETTO:-0600
TZNAME:CST
DTSTART:20271107T070000
END:STANDARD
END:VTIMEZONE
BEGIN:VTIMEZONE
TZID:UTC
BEGIN:STANDARD
TZOFFSETFROM:+0000
TZOFFSETTO:+0000
TZNAME:UTC
DTSTART:20250101T000000
END:STANDARD
END:VTIMEZONE
BEGIN:VEVENT
DTSTART;TZID=America/Chicago:20260826T100000
DTEND;TZID=America/Chicago:20260826T140000
DTSTAMP:20260420T095042
CREATED:20260209T170955Z
LAST-MODIFIED:20260209T170958Z
UID:10011019-1787738400-1787752800@saintandrews.org
SUMMARY:SENIOR COMMUNITY CENTER
DESCRIPTION:The Senior Community Center is open to all senior adults\, every Monday–Thursday\, 10am–2pm. Drop-ins welcome. But\, RSVP is required for lunch. Enjoy fellowship\, games\, lunch (donations accepted) and periodic services such as tech help\, Medicare tutelage\, foot care\, and more. Register for lunch HERE or by calling 651.426.3261. FREE bus rides available\, sign up HERE. \n\n\n\nVolunteers welcome! Help at the registration table\, greet\, serve lunch\, play games\, or just be a friendly face. Sign up to serve HERE.
URL:https://saintandrews.org/event/senior-community-center-9/2026-08-26/
LOCATION:Great Hall Narthex\, 900 Stillwater Road\, Mahtomedi\, Minnesota\, 55115
CATEGORIES:Adult Ministries,Senior Community Center
ATTACH;FMTTYPE=image/jpeg:https://saintandrews.org/wp-content/uploads/Senior-Community-Center-scaled.jpg
END:VEVENT
BEGIN:VEVENT
DTSTART;TZID=America/Chicago:20260827T100000
DTEND;TZID=America/Chicago:20260827T140000
DTSTAMP:20260420T095042
CREATED:20260209T170955Z
LAST-MODIFIED:20260209T170958Z
UID:10011020-1787824800-1787839200@saintandrews.org
SUMMARY:SENIOR COMMUNITY CENTER
DESCRIPTION:The Senior Community Center is open to all senior adults\, every Monday–Thursday\, 10am–2pm. Drop-ins welcome. But\, RSVP is required for lunch. Enjoy fellowship\, games\, lunch (donations accepted) and periodic services such as tech help\, Medicare tutelage\, foot care\, and more. Register for lunch HERE or by calling 651.426.3261. FREE bus rides available\, sign up HERE. \n\n\n\nVolunteers welcome! Help at the registration table\, greet\, serve lunch\, play games\, or just be a friendly face. Sign up to serve HERE.
URL:https://saintandrews.org/event/senior-community-center-9/2026-08-27/
LOCATION:Great Hall Narthex\, 900 Stillwater Road\, Mahtomedi\, Minnesota\, 55115
CATEGORIES:Adult Ministries,Senior Community Center
ATTACH;FMTTYPE=image/jpeg:https://saintandrews.org/wp-content/uploads/Senior-Community-Center-scaled.jpg
END:VEVENT
BEGIN:VEVENT
DTSTART;TZID=UTC:20260827T180000
DTEND;TZID=UTC:20260827T190000
DTSTAMP:20260420T095042
CREATED:20251222T223459Z
LAST-MODIFIED:20251222T223501Z
UID:10013518-1787853600-1787857200@saintandrews.org
SUMMARY:THURSDAY NIGHT COMMUNITY MEAL - 2026
DESCRIPTION:Serving our community with a dine-in\, warm\, home-cooked meal.Thursdays 6-7 pm\, Great Hall\, Enter Door 6.No registration is necessary! \n\n\n\nPlease spread the word to those you may know that could benefit from this outreach ministry!
URL:https://saintandrews.org/event/thursday-night-community-meal-2026/2026-08-27/
LOCATION:Great Hall – CRC Entrance/Door #6\, 900 Stillwater Rd\, Mahtomedi\, MN\, 55115\, United States
CATEGORIES:Missions
ATTACH;FMTTYPE=image/jpeg:https://saintandrews.org/wp-content/uploads/Thursday-Night-Community-Meal-2024-1920x1080-1.jpg
ORGANIZER;CN="CRC Office":MAILTO:office@saintandrews.org
END:VEVENT
BEGIN:VEVENT
DTSTART;TZID=UTC:20260828T173000
DTEND;TZID=UTC:20260828T183000
DTSTAMP:20260420T095042
CREATED:20240422T193057Z
LAST-MODIFIED:20250527T142828Z
UID:10003111-1787938200-1787941800@saintandrews.org
SUMMARY:AA - HAPPY HOUR 12 X 12
DESCRIPTION:Directions: Enter the church campus from the HiltonTrail/Stillwater Rd. intersection and take an immediate left toward the Great Hall. Enter the Great Hall building using door #6 (Community Resource Centerentrance). Room 2 is to the right just inside door #6. \n\n\n\nGroup meets weekly\, except on federal holidays\, due to inclement weather\, or other church building closure.
URL:https://saintandrews.org/event/aa-happy-hour-12-x-12-2/2026-08-28/
LOCATION:Great Hall – CRC Entrance/Door #6\, 900 Stillwater Rd\, Mahtomedi\, MN\, 55115\, United States
CATEGORIES:AA
ATTACH;FMTTYPE=image/jpeg:https://saintandrews.org/wp-content/uploads/AA-Meetings-1920x1080-1.jpg
END:VEVENT
BEGIN:VEVENT
DTSTART;TZID=UTC:20260828T190000
DTEND;TZID=UTC:20260828T200000
DTSTAMP:20260420T095042
CREATED:20240422T193009Z
LAST-MODIFIED:20250527T142937Z
UID:10003372-1787943600-1787947200@saintandrews.org
SUMMARY:AA - 12 X 12 BY THE BOOK
DESCRIPTION:Fridays\, 7:00-8:00 p.m. Great Hall Room 2 \n\n\n\nDirections: Enter the church campus from the HiltonTrail/Stillwater Rd. intersection and take an immediate left toward the Great Hall. Enter the Great Hall building using door #6 (Community Resource Centerentrance). Room 2 is to the right just inside door #6. \n\n\n\nGroup meets weekly\, except on federal holidays\, due to inclement weather\, or other church building closure.
URL:https://saintandrews.org/event/aa-12-x-12-by-the-book-2/2026-08-28/
LOCATION:Great Hall – CRC Entrance/Door #6\, 900 Stillwater Rd\, Mahtomedi\, MN\, 55115\, United States
CATEGORIES:AA
ATTACH;FMTTYPE=image/jpeg:https://saintandrews.org/wp-content/uploads/AA-Meetings-1920x1080-1.jpg
END:VEVENT
BEGIN:VEVENT
DTSTART;TZID=UTC:20260828T190000
DTEND;TZID=UTC:20260828T200000
DTSTAMP:20260420T095042
CREATED:20240422T193257Z
LAST-MODIFIED:20250527T143033Z
UID:10004155-1787943600-1787947200@saintandrews.org
SUMMARY:AL - ANON - WORKS FAMILY GROUP
DESCRIPTION:Fridays\, 7 p.m. \n\n\n\nGreat Hall Dot Room \n\n\n\nDirections: Enter the church campus from the HiltonTrail/Stillwater Rd. intersection and take an immediate left toward the Great Hall. Enter the Great Hall building using door #6 (Community Resource Centerentrance). \n\n\n\n Group meets weekly\, except on federal holidays\, due to inclement weather\, or other church building closure.
URL:https://saintandrews.org/event/al-anon-works-family-group-2/2026-08-28/
LOCATION:Great Hall – CRC Entrance/Door #6\, 900 Stillwater Rd\, Mahtomedi\, MN\, 55115\, United States
CATEGORIES:AA
ATTACH;FMTTYPE=image/jpeg:https://saintandrews.org/wp-content/uploads/AA-Meetings-1920x1080-1.jpg
END:VEVENT
BEGIN:VEVENT
DTSTART;TZID=UTC:20260828T190000
DTEND;TZID=UTC:20260828T200000
DTSTAMP:20260420T095042
CREATED:20240422T193419Z
LAST-MODIFIED:20250527T143122Z
UID:10005199-1787943600-1787947200@saintandrews.org
SUMMARY:NA - SUPPORT GROUP
DESCRIPTION:Fridays\, 7 p.m. Great Hall Room 5B \n\n\n\n Directions: Enter the church campus from the HiltonTrail/Stillwater Rd. intersection and take an immediate left toward the Great Hall. Enter the Great Hall building using door #6 (Community Resource Centerentrance). Just inside the building\, turn left toward the Community ResourceCenter and continue to Room 5B at the end of the hallway. \n\n\n\nGroup meets weekly\, except on federal holidays\, due to inclement weather\, or other church building closure.
URL:https://saintandrews.org/event/na-support-group-2/2026-08-28/
LOCATION:Great Hall – CRC Entrance/Door #6\, 900 Stillwater Rd\, Mahtomedi\, MN\, 55115\, United States
CATEGORIES:AA
ATTACH;FMTTYPE=image/jpeg:https://saintandrews.org/wp-content/uploads/AA-Meetings-1920x1080-1.jpg
END:VEVENT
BEGIN:VEVENT
DTSTART;TZID=America/Chicago:20260829T170000
DTEND;TZID=America/Chicago:20260829T170000
DTSTAMP:20260420T095042
CREATED:20250902T201110Z
LAST-MODIFIED:20260115T195101Z
UID:10011302-1788022800-1788022800@saintandrews.org
SUMMARY:CONTEMPORARY WORSHIP SERVICE - IN PERSON & ONLINE
DESCRIPTION:Saturday evening worship services are at 5pm in the Great Hall and also live streamed via ChurchOnline.
URL:https://saintandrews.org/event/contemporary-worship-service-in-person-online-6/2026-08-29/
LOCATION:St. Andrew’s Great Hall\, 900 Stillwater Road\, Mahtomedi\, MN\, 55115\, United States
CATEGORIES:Worship
ATTACH;FMTTYPE=image/jpeg:https://saintandrews.org/wp-content/uploads/Contemporary-Worship-2024-1920x1080-1.jpg
ORGANIZER;CN="St. Andrew's Lutheran Church":MAILTO:office@saintandrews.org
END:VEVENT
BEGIN:VEVENT
DTSTART;TZID=America/Chicago:20260830T090000
DTEND;TZID=America/Chicago:20260830T090000
DTSTAMP:20260420T095042
CREATED:20260115T193924Z
LAST-MODIFIED:20260115T194049Z
UID:10009033-1788080400-1788080400@saintandrews.org
SUMMARY:TRADITIONAL WORSHIP EXPERIENCE - IN PERSON & ONLINE
DESCRIPTION:Traditional worship services typically include Holy Communion\, a sermon\, hymns\, liturgy\, and choral and instrumental music.
URL:https://saintandrews.org/event/traditional-worship-experience-in-person-online-6/2026-08-30/
LOCATION:St. Andrew’s Sanctuary Building\, 120 East Avenue - Door #1\, Mahtomedi\, MN\, 55115\, United States
ATTACH;FMTTYPE=image/jpeg:https://saintandrews.org/wp-content/uploads/Traditional-Worship-2024-1920x1080-1.jpg
ORGANIZER;CN="St. Andrew's Lutheran Church":MAILTO:office@saintandrews.org
END:VEVENT
BEGIN:VEVENT
DTSTART;TZID=America/Chicago:20260830T093000
DTEND;TZID=America/Chicago:20260830T093000
DTSTAMP:20260420T095042
CREATED:20250902T203702Z
LAST-MODIFIED:20260115T195256Z
UID:10012109-1788082200-1788082200@saintandrews.org
SUMMARY:CONTEMPORARY WORSHIP SERVICE
DESCRIPTION:Sunday morning Contemporary worship services are at 9:30am in the Great Hall.
URL:https://saintandrews.org/event/contemporary-worship-service-3/2026-08-30/
LOCATION:St. Andrew’s Great Hall\, 900 Stillwater Road\, Mahtomedi\, MN\, 55115\, United States
CATEGORIES:Worship
ATTACH;FMTTYPE=image/jpeg:https://saintandrews.org/wp-content/uploads/Contemporary-Worship-2024-1920x1080-1.jpg
ORGANIZER;CN="St. Andrew's Lutheran Church":MAILTO:office@saintandrews.org
END:VEVENT
BEGIN:VEVENT
DTSTART;TZID=UTC:20260830T101500
DTEND;TZID=UTC:20260830T111500
DTSTAMP:20260420T095042
CREATED:20260115T194900Z
LAST-MODIFIED:20260115T194903Z
UID:10001100-1788084900-1788088500@saintandrews.org
SUMMARY:CONTEMPORARY WORSHIP SERVICE - ONLINE
DESCRIPTION:Enjoy online worship services every Sunday at 10:15am.
URL:https://saintandrews.org/event/contemporary-worship-service-online-5/2026-08-30/
LOCATION:Minnesota
ATTACH;FMTTYPE=image/jpeg:https://saintandrews.org/wp-content/uploads/Contemporary-Worship-2024-1920x1080-1.jpg
ORGANIZER;CN="St. Andrew's Lutheran Church":MAILTO:office@saintandrews.org
END:VEVENT
BEGIN:VEVENT
DTSTART;TZID=America/Chicago:20260830T103000
DTEND;TZID=America/Chicago:20260830T103000
DTSTAMP:20260420T095042
CREATED:20250712T185840Z
LAST-MODIFIED:20260115T195441Z
UID:10009555-1788085800-1788085800@saintandrews.org
SUMMARY:TRADITIONAL WORSHIP EXPERIENCE
DESCRIPTION:Traditional worship services typically include Holy Communion\, a sermon\, hymns\, liturgy\, and choral and instrumental music.
URL:https://saintandrews.org/event/traditional-worship-experience/2026-08-30/
LOCATION:St. Andrew’s Sanctuary Building\, 120 East Avenue - Door #1\, Mahtomedi\, MN\, 55115\, United States
ATTACH;FMTTYPE=image/jpeg:https://saintandrews.org/wp-content/uploads/Traditional-Worship-2024-1920x1080-1.jpg
ORGANIZER;CN="St. Andrew's Lutheran Church":MAILTO:office@saintandrews.org
END:VEVENT
BEGIN:VEVENT
DTSTART;TZID=UTC:20260830T173000
DTEND;TZID=UTC:20260830T183000
DTSTAMP:20260420T095042
CREATED:20240422T192922Z
LAST-MODIFIED:20241010T191751Z
UID:10004416-1788111000-1788114600@saintandrews.org
SUMMARY:AA - GRATITUDE IN ACTION
DESCRIPTION:AA – Gratitude inAction \n\n\n\nSundays\, 5:30-6:30 p.m. \n\n\n\nGreat Hall Room 2 \n\n\n\nDirections: Enter the church campus from the HiltonTrail/Stillwater Rd. intersection and take an immediate left toward the Great Hall. Enter the Great Hall building using door #6 (Community Resource Centerentrance). Room 2 is to the right just inside door #6. \n\n\n\nGroup meets weekly\, except on federal holidays\, due to inclement weather\, or other church building closure.
URL:https://saintandrews.org/event/aa-gratitude-in-action-2/2026-08-30/
LOCATION:Great Hall – CRC Entrance/Door #6\, 900 Stillwater Rd\, Mahtomedi\, MN\, 55115\, United States
CATEGORIES:AA
ATTACH;FMTTYPE=image/jpeg:https://saintandrews.org/wp-content/uploads/AA-Meetings-1920x1080-1.jpg
END:VEVENT
BEGIN:VEVENT
DTSTART;TZID=UTC:20260830T190000
DTEND;TZID=UTC:20260830T200000
DTSTAMP:20260420T095042
CREATED:20240422T192829Z
LAST-MODIFIED:20241010T191823Z
UID:10004677-1788116400-1788120000@saintandrews.org
SUMMARY:AA - HAPPY\, JOYOUS\, & FREE
DESCRIPTION:Sundays\, 7:00-8:00 p.m. \n\n\n\nGreat Hall Room 2 \n\n\n\nDirections: Enter the church campus from the HiltonTrail/Stillwater Rd. intersection and take an immediate left toward the Great Hall. Enter the Great Hall building using door #6 (Community Resource Centerentrance). Room 2 is to the right just inside door #6. \n\n\n\nGroup meets weekly\, except on federal holidays\, due to inclement weather\, or other church building closure.
URL:https://saintandrews.org/event/aa-happy-joyous-free-2/2026-08-30/
LOCATION:Great Hall – CRC Entrance/Door #6\, 900 Stillwater Rd\, Mahtomedi\, MN\, 55115\, United States
CATEGORIES:AA
ATTACH;FMTTYPE=image/jpeg:https://saintandrews.org/wp-content/uploads/AA-Meetings-1920x1080-1.jpg
END:VEVENT
BEGIN:VEVENT
DTSTART;TZID=America/Chicago:20260831T100000
DTEND;TZID=America/Chicago:20260831T140000
DTSTAMP:20260420T095042
CREATED:20260209T170955Z
LAST-MODIFIED:20260209T170958Z
UID:10011021-1788170400-1788184800@saintandrews.org
SUMMARY:SENIOR COMMUNITY CENTER
DESCRIPTION:The Senior Community Center is open to all senior adults\, every Monday–Thursday\, 10am–2pm. Drop-ins welcome. But\, RSVP is required for lunch. Enjoy fellowship\, games\, lunch (donations accepted) and periodic services such as tech help\, Medicare tutelage\, foot care\, and more. Register for lunch HERE or by calling 651.426.3261. FREE bus rides available\, sign up HERE. \n\n\n\nVolunteers welcome! Help at the registration table\, greet\, serve lunch\, play games\, or just be a friendly face. Sign up to serve HERE.
URL:https://saintandrews.org/event/senior-community-center-9/2026-08-31/
LOCATION:Great Hall Narthex\, 900 Stillwater Road\, Mahtomedi\, Minnesota\, 55115
CATEGORIES:Adult Ministries,Senior Community Center
ATTACH;FMTTYPE=image/jpeg:https://saintandrews.org/wp-content/uploads/Senior-Community-Center-scaled.jpg
END:VEVENT
BEGIN:VEVENT
DTSTART;TZID=UTC:20260831T190000
DTEND;TZID=UTC:20260831T200000
DTSTAMP:20260420T095042
CREATED:20250717T211742Z
LAST-MODIFIED:20250718T160100Z
UID:10010426-1788202800-1788206400@saintandrews.org
SUMMARY:YOUNG ADULT ZOOM BIBLE STUDY
DESCRIPTION:Zoom in with other young adults for a weekly Bible Study led by Kendra Fleming.
URL:https://saintandrews.org/event/young-adult-zoom-bible-study/2026-08-31/
LOCATION:Minnesota
CATEGORIES:Adult Ministries,Bible Studies,Young Adults - 20's & 30's
ATTACH;FMTTYPE=image/jpeg:https://saintandrews.org/wp-content/uploads/Anchor-1920x1080-1.jpg
END:VEVENT
BEGIN:VEVENT
DTSTART;TZID=America/Chicago:20260901T083000
DTEND;TZID=America/Chicago:20260901T113000
DTSTAMP:20260420T095042
CREATED:20260223T220352Z
LAST-MODIFIED:20260223T220353Z
UID:10013855-1788251400-1788262200@saintandrews.org
SUMMARY:MEN'S GOLF LEAGUE - 2026
DESCRIPTION:Looking for a relaxed way to enjoy golf and good company? The Men of St. Andrew Golf Group is all about casual\, non-competitive golf with a great bunch of guys. This is NOT a formal league—just nine holes\, fresh air\, laughter\, and fellowship. No pros in this group—just duffers enjoying Tuesday mornings together!📍 Where: Applewood Hills Golf Course (just off Hwy 36 on the way to Stillwater)📅 When: Tuesday mornings\, Spring–Fall 2025⏰ Time: 8:30amWe’ll begin in late April (weather permitting) and play weekly until the season ends. Whether you’re a seasoned golfer or just like being outdoors\, this is a great way to build friendships and stay active. Interested? Call or text Win Curtiss at 651.341.8721 or email wpcurtiss@comcast.net to get your name on the list.Come as you are\, swing as you like—we’d love to see you on the course!
URL:https://saintandrews.org/event/mens-golf-league-2026/2026-09-01/
LOCATION:Applewood Hills Golf Course\, 11840 60th St N\, Stillwater\, Minnesota\, 55082
CATEGORIES:Men's Ministy
ATTACH;FMTTYPE=image/jpeg:https://saintandrews.org/wp-content/uploads/Mens-Golf-League-1920x1080-1.jpg
ORGANIZER;CN="Brian Norsman":MAILTO:bnorsman@saintandrews.org
END:VEVENT
BEGIN:VEVENT
DTSTART;TZID=America/Chicago:20260902T100000
DTEND;TZID=America/Chicago:20260902T140000
DTSTAMP:20260420T095043
CREATED:20260209T170955Z
LAST-MODIFIED:20260209T170958Z
UID:10011023-1788343200-1788357600@saintandrews.org
SUMMARY:SENIOR COMMUNITY CENTER
DESCRIPTION:The Senior Community Center is open to all senior adults\, every Monday–Thursday\, 10am–2pm. Drop-ins welcome. But\, RSVP is required for lunch. Enjoy fellowship\, games\, lunch (donations accepted) and periodic services such as tech help\, Medicare tutelage\, foot care\, and more. Register for lunch HERE or by calling 651.426.3261. FREE bus rides available\, sign up HERE. \n\n\n\nVolunteers welcome! Help at the registration table\, greet\, serve lunch\, play games\, or just be a friendly face. Sign up to serve HERE.
URL:https://saintandrews.org/event/senior-community-center-9/2026-09-02/
LOCATION:Great Hall Narthex\, 900 Stillwater Road\, Mahtomedi\, Minnesota\, 55115
CATEGORIES:Adult Ministries,Senior Community Center
ATTACH;FMTTYPE=image/jpeg:https://saintandrews.org/wp-content/uploads/Senior-Community-Center-scaled.jpg
END:VEVENT
BEGIN:VEVENT
DTSTART;TZID=America/Chicago:20260903T100000
DTEND;TZID=America/Chicago:20260903T140000
DTSTAMP:20260420T095043
CREATED:20260209T170955Z
LAST-MODIFIED:20260209T170958Z
UID:10011024-1788429600-1788444000@saintandrews.org
SUMMARY:SENIOR COMMUNITY CENTER
DESCRIPTION:The Senior Community Center is open to all senior adults\, every Monday–Thursday\, 10am–2pm. Drop-ins welcome. But\, RSVP is required for lunch. Enjoy fellowship\, games\, lunch (donations accepted) and periodic services such as tech help\, Medicare tutelage\, foot care\, and more. Register for lunch HERE or by calling 651.426.3261. FREE bus rides available\, sign up HERE. \n\n\n\nVolunteers welcome! Help at the registration table\, greet\, serve lunch\, play games\, or just be a friendly face. Sign up to serve HERE.
URL:https://saintandrews.org/event/senior-community-center-9/2026-09-03/
LOCATION:Great Hall Narthex\, 900 Stillwater Road\, Mahtomedi\, Minnesota\, 55115
CATEGORIES:Adult Ministries,Senior Community Center
ATTACH;FMTTYPE=image/jpeg:https://saintandrews.org/wp-content/uploads/Senior-Community-Center-scaled.jpg
END:VEVENT
BEGIN:VEVENT
DTSTART;TZID=UTC:20260903T180000
DTEND;TZID=UTC:20260903T190000
DTSTAMP:20260420T095043
CREATED:20251222T223459Z
LAST-MODIFIED:20251222T223501Z
UID:10013519-1788458400-1788462000@saintandrews.org
SUMMARY:THURSDAY NIGHT COMMUNITY MEAL - 2026
DESCRIPTION:Serving our community with a dine-in\, warm\, home-cooked meal.Thursdays 6-7 pm\, Great Hall\, Enter Door 6.No registration is necessary! \n\n\n\nPlease spread the word to those you may know that could benefit from this outreach ministry!
URL:https://saintandrews.org/event/thursday-night-community-meal-2026/2026-09-03/
LOCATION:Great Hall – CRC Entrance/Door #6\, 900 Stillwater Rd\, Mahtomedi\, MN\, 55115\, United States
CATEGORIES:Missions
ATTACH;FMTTYPE=image/jpeg:https://saintandrews.org/wp-content/uploads/Thursday-Night-Community-Meal-2024-1920x1080-1.jpg
ORGANIZER;CN="CRC Office":MAILTO:office@saintandrews.org
END:VEVENT
BEGIN:VEVENT
DTSTART;TZID=UTC:20260904T173000
DTEND;TZID=UTC:20260904T183000
DTSTAMP:20260420T095043
CREATED:20240422T193057Z
LAST-MODIFIED:20250527T142828Z
UID:10003112-1788543000-1788546600@saintandrews.org
SUMMARY:AA - HAPPY HOUR 12 X 12
DESCRIPTION:Directions: Enter the church campus from the HiltonTrail/Stillwater Rd. intersection and take an immediate left toward the Great Hall. Enter the Great Hall building using door #6 (Community Resource Centerentrance). Room 2 is to the right just inside door #6. \n\n\n\nGroup meets weekly\, except on federal holidays\, due to inclement weather\, or other church building closure.
URL:https://saintandrews.org/event/aa-happy-hour-12-x-12-2/2026-09-04/
LOCATION:Great Hall – CRC Entrance/Door #6\, 900 Stillwater Rd\, Mahtomedi\, MN\, 55115\, United States
CATEGORIES:AA
ATTACH;FMTTYPE=image/jpeg:https://saintandrews.org/wp-content/uploads/AA-Meetings-1920x1080-1.jpg
END:VEVENT
BEGIN:VEVENT
DTSTART;TZID=UTC:20260904T190000
DTEND;TZID=UTC:20260904T200000
DTSTAMP:20260420T095043
CREATED:20240422T193009Z
LAST-MODIFIED:20250527T142937Z
UID:10003373-1788548400-1788552000@saintandrews.org
SUMMARY:AA - 12 X 12 BY THE BOOK
DESCRIPTION:Fridays\, 7:00-8:00 p.m. Great Hall Room 2 \n\n\n\nDirections: Enter the church campus from the HiltonTrail/Stillwater Rd. intersection and take an immediate left toward the Great Hall. Enter the Great Hall building using door #6 (Community Resource Centerentrance). Room 2 is to the right just inside door #6. \n\n\n\nGroup meets weekly\, except on federal holidays\, due to inclement weather\, or other church building closure.
URL:https://saintandrews.org/event/aa-12-x-12-by-the-book-2/2026-09-04/
LOCATION:Great Hall – CRC Entrance/Door #6\, 900 Stillwater Rd\, Mahtomedi\, MN\, 55115\, United States
CATEGORIES:AA
ATTACH;FMTTYPE=image/jpeg:https://saintandrews.org/wp-content/uploads/AA-Meetings-1920x1080-1.jpg
END:VEVENT
BEGIN:VEVENT
DTSTART;TZID=UTC:20260904T190000
DTEND;TZID=UTC:20260904T200000
DTSTAMP:20260420T095043
CREATED:20240422T193257Z
LAST-MODIFIED:20250527T143033Z
UID:10004156-1788548400-1788552000@saintandrews.org
SUMMARY:AL - ANON - WORKS FAMILY GROUP
DESCRIPTION:Fridays\, 7 p.m. \n\n\n\nGreat Hall Dot Room \n\n\n\nDirections: Enter the church campus from the HiltonTrail/Stillwater Rd. intersection and take an immediate left toward the Great Hall. Enter the Great Hall building using door #6 (Community Resource Centerentrance). \n\n\n\n Group meets weekly\, except on federal holidays\, due to inclement weather\, or other church building closure.
URL:https://saintandrews.org/event/al-anon-works-family-group-2/2026-09-04/
LOCATION:Great Hall – CRC Entrance/Door #6\, 900 Stillwater Rd\, Mahtomedi\, MN\, 55115\, United States
CATEGORIES:AA
ATTACH;FMTTYPE=image/jpeg:https://saintandrews.org/wp-content/uploads/AA-Meetings-1920x1080-1.jpg
END:VEVENT
BEGIN:VEVENT
DTSTART;TZID=UTC:20260904T190000
DTEND;TZID=UTC:20260904T200000
DTSTAMP:20260420T095043
CREATED:20240422T193419Z
LAST-MODIFIED:20250527T143122Z
UID:10005200-1788548400-1788552000@saintandrews.org
SUMMARY:NA - SUPPORT GROUP
DESCRIPTION:Fridays\, 7 p.m. Great Hall Room 5B \n\n\n\n Directions: Enter the church campus from the HiltonTrail/Stillwater Rd. intersection and take an immediate left toward the Great Hall. Enter the Great Hall building using door #6 (Community Resource Centerentrance). Just inside the building\, turn left toward the Community ResourceCenter and continue to Room 5B at the end of the hallway. \n\n\n\nGroup meets weekly\, except on federal holidays\, due to inclement weather\, or other church building closure.
URL:https://saintandrews.org/event/na-support-group-2/2026-09-04/
LOCATION:Great Hall – CRC Entrance/Door #6\, 900 Stillwater Rd\, Mahtomedi\, MN\, 55115\, United States
CATEGORIES:AA
ATTACH;FMTTYPE=image/jpeg:https://saintandrews.org/wp-content/uploads/AA-Meetings-1920x1080-1.jpg
END:VEVENT
BEGIN:VEVENT
DTSTART;TZID=America/Chicago:20260905T170000
DTEND;TZID=America/Chicago:20260905T170000
DTSTAMP:20260420T095043
CREATED:20250902T201110Z
LAST-MODIFIED:20260115T195101Z
UID:10011303-1788627600-1788627600@saintandrews.org
SUMMARY:CONTEMPORARY WORSHIP SERVICE - IN PERSON & ONLINE
DESCRIPTION:Saturday evening worship services are at 5pm in the Great Hall and also live streamed via ChurchOnline.
URL:https://saintandrews.org/event/contemporary-worship-service-in-person-online-6/2026-09-05/
LOCATION:St. Andrew’s Great Hall\, 900 Stillwater Road\, Mahtomedi\, MN\, 55115\, United States
CATEGORIES:Worship
ATTACH;FMTTYPE=image/jpeg:https://saintandrews.org/wp-content/uploads/Contemporary-Worship-2024-1920x1080-1.jpg
ORGANIZER;CN="St. Andrew's Lutheran Church":MAILTO:office@saintandrews.org
END:VEVENT
BEGIN:VEVENT
DTSTART;TZID=America/Chicago:20260906T090000
DTEND;TZID=America/Chicago:20260906T090000
DTSTAMP:20260420T095043
CREATED:20260115T193924Z
LAST-MODIFIED:20260115T194049Z
UID:10009034-1788685200-1788685200@saintandrews.org
SUMMARY:TRADITIONAL WORSHIP EXPERIENCE - IN PERSON & ONLINE
DESCRIPTION:Traditional worship services typically include Holy Communion\, a sermon\, hymns\, liturgy\, and choral and instrumental music.
URL:https://saintandrews.org/event/traditional-worship-experience-in-person-online-6/2026-09-06/
LOCATION:St. Andrew’s Sanctuary Building\, 120 East Avenue - Door #1\, Mahtomedi\, MN\, 55115\, United States
ATTACH;FMTTYPE=image/jpeg:https://saintandrews.org/wp-content/uploads/Traditional-Worship-2024-1920x1080-1.jpg
ORGANIZER;CN="St. Andrew's Lutheran Church":MAILTO:office@saintandrews.org
END:VEVENT
BEGIN:VEVENT
DTSTART;TZID=America/Chicago:20260906T093000
DTEND;TZID=America/Chicago:20260906T093000
DTSTAMP:20260420T095043
CREATED:20250902T203702Z
LAST-MODIFIED:20260115T195256Z
UID:10012110-1788687000-1788687000@saintandrews.org
SUMMARY:CONTEMPORARY WORSHIP SERVICE
DESCRIPTION:Sunday morning Contemporary worship services are at 9:30am in the Great Hall.
URL:https://saintandrews.org/event/contemporary-worship-service-3/2026-09-06/
LOCATION:St. Andrew’s Great Hall\, 900 Stillwater Road\, Mahtomedi\, MN\, 55115\, United States
CATEGORIES:Worship
ATTACH;FMTTYPE=image/jpeg:https://saintandrews.org/wp-content/uploads/Contemporary-Worship-2024-1920x1080-1.jpg
ORGANIZER;CN="St. Andrew's Lutheran Church":MAILTO:office@saintandrews.org
END:VEVENT
BEGIN:VEVENT
DTSTART;TZID=UTC:20260906T101500
DTEND;TZID=UTC:20260906T111500
DTSTAMP:20260420T095043
CREATED:20260115T194900Z
LAST-MODIFIED:20260115T194903Z
UID:10001101-1788689700-1788693300@saintandrews.org
SUMMARY:CONTEMPORARY WORSHIP SERVICE - ONLINE
DESCRIPTION:Enjoy online worship services every Sunday at 10:15am.
URL:https://saintandrews.org/event/contemporary-worship-service-online-5/2026-09-06/
LOCATION:Minnesota
ATTACH;FMTTYPE=image/jpeg:https://saintandrews.org/wp-content/uploads/Contemporary-Worship-2024-1920x1080-1.jpg
ORGANIZER;CN="St. Andrew's Lutheran Church":MAILTO:office@saintandrews.org
END:VEVENT
BEGIN:VEVENT
DTSTART;TZID=America/Chicago:20260906T103000
DTEND;TZID=America/Chicago:20260906T103000
DTSTAMP:20260420T095043
CREATED:20250712T185840Z
LAST-MODIFIED:20260115T195441Z
UID:10009556-1788690600-1788690600@saintandrews.org
SUMMARY:TRADITIONAL WORSHIP EXPERIENCE
DESCRIPTION:Traditional worship services typically include Holy Communion\, a sermon\, hymns\, liturgy\, and choral and instrumental music.
URL:https://saintandrews.org/event/traditional-worship-experience/2026-09-06/
LOCATION:St. Andrew’s Sanctuary Building\, 120 East Avenue - Door #1\, Mahtomedi\, MN\, 55115\, United States
ATTACH;FMTTYPE=image/jpeg:https://saintandrews.org/wp-content/uploads/Traditional-Worship-2024-1920x1080-1.jpg
ORGANIZER;CN="St. Andrew's Lutheran Church":MAILTO:office@saintandrews.org
END:VEVENT
BEGIN:VEVENT
DTSTART;TZID=UTC:20260906T173000
DTEND;TZID=UTC:20260906T183000
DTSTAMP:20260420T095043
CREATED:20240422T192922Z
LAST-MODIFIED:20241010T191751Z
UID:10004417-1788715800-1788719400@saintandrews.org
SUMMARY:AA - GRATITUDE IN ACTION
DESCRIPTION:AA – Gratitude inAction \n\n\n\nSundays\, 5:30-6:30 p.m. \n\n\n\nGreat Hall Room 2 \n\n\n\nDirections: Enter the church campus from the HiltonTrail/Stillwater Rd. intersection and take an immediate left toward the Great Hall. Enter the Great Hall building using door #6 (Community Resource Centerentrance). Room 2 is to the right just inside door #6. \n\n\n\nGroup meets weekly\, except on federal holidays\, due to inclement weather\, or other church building closure.
URL:https://saintandrews.org/event/aa-gratitude-in-action-2/2026-09-06/
LOCATION:Great Hall – CRC Entrance/Door #6\, 900 Stillwater Rd\, Mahtomedi\, MN\, 55115\, United States
CATEGORIES:AA
ATTACH;FMTTYPE=image/jpeg:https://saintandrews.org/wp-content/uploads/AA-Meetings-1920x1080-1.jpg
END:VEVENT
END:VCALENDAR