BEGIN:VCALENDAR
VERSION:2.0
PRODID:-//St. Andrew&#039;s Lutheran Church - ECPv6.15.20//NONSGML v1.0//EN
CALSCALE:GREGORIAN
METHOD:PUBLISH
X-ORIGINAL-URL:https://saintandrews.org
X-WR-CALDESC:Events for St. Andrew&#039;s Lutheran Church
REFRESH-INTERVAL;VALUE=DURATION:PT1H
X-Robots-Tag:noindex
X-PUBLISHED-TTL:PT1H
BEGIN:VTIMEZONE
TZID:UTC
BEGIN:STANDARD
TZOFFSETFROM:+0000
TZOFFSETTO:+0000
TZNAME:UTC
DTSTART:20250101T000000
END:STANDARD
END:VTIMEZONE
BEGIN:VTIMEZONE
TZID:America/Chicago
BEGIN:DAYLIGHT
TZOFFSETFROM:-0600
TZOFFSETTO:-0500
TZNAME:CDT
DTSTART:20250309T080000
END:DAYLIGHT
BEGIN:STANDARD
TZOFFSETFROM:-0500
TZOFFSETTO:-0600
TZNAME:CST
DTSTART:20251102T070000
END:STANDARD
BEGIN:DAYLIGHT
TZOFFSETFROM:-0600
TZOFFSETTO:-0500
TZNAME:CDT
DTSTART:20260308T080000
END:DAYLIGHT
BEGIN:STANDARD
TZOFFSETFROM:-0500
TZOFFSETTO:-0600
TZNAME:CST
DTSTART:20261101T070000
END:STANDARD
BEGIN:DAYLIGHT
TZOFFSETFROM:-0600
TZOFFSETTO:-0500
TZNAME:CDT
DTSTART:20270314T080000
END:DAYLIGHT
BEGIN:STANDARD
TZOFFSETFROM:-0500
TZOFFSETTO:-0600
TZNAME:CST
DTSTART:20271107T070000
END:STANDARD
BEGIN:DAYLIGHT
TZOFFSETFROM:-0600
TZOFFSETTO:-0500
TZNAME:CDT
DTSTART:20280312T080000
END:DAYLIGHT
BEGIN:STANDARD
TZOFFSETFROM:-0500
TZOFFSETTO:-0600
TZNAME:CST
DTSTART:20281105T070000
END:STANDARD
END:VTIMEZONE
BEGIN:VEVENT
DTSTART;TZID=UTC:20260527T193000
DTEND;TZID=UTC:20260527T210000
DTSTAMP:20260420T195711
CREATED:20250617T154622Z
LAST-MODIFIED:20260205T171729Z
UID:10008469-1779910200-1779915600@saintandrews.org
SUMMARY:ST. ANDREW'S ADULT CHOIR REHEARSAL
DESCRIPTION:St. Andrew’s Choir for adults rehearses every Wednesday evening from 7:30-9pm. New members are always welcome! Contact Andy Haase at 651.762.9123 if you’re interested in joining the St. Andrew’s Choir.And be sure to stop by the Fellowship Hall (in the Sanctuary building) between 4:45-6:15pm to grab dinner before practice. Suggested donation of $6-8/person.
URL:https://saintandrews.org/event/st-andrews-adult-choir-rehearsal-5/2026-05-27/
LOCATION:St. Andrew’s Sanctuary Building\, 120 East Avenue - Door #1\, Mahtomedi\, MN\, 55115\, United States
CATEGORIES:Adult Ministries,Music,Seniors Page Extra
ATTACH;FMTTYPE=image/jpeg:https://saintandrews.org/wp-content/uploads/St-Andrews-Choir-2024-1920x1080-1.jpg
ORGANIZER;CN="Dianne Nash":MAILTO:dnash@saintandrews.org
END:VEVENT
BEGIN:VEVENT
DTSTART;TZID=America/Chicago:20261101T160000
DTEND;TZID=America/Chicago:20261101T173000
DTSTAMP:20260420T195711
CREATED:20260212T204242Z
LAST-MODIFIED:20260212T204244Z
UID:10013769-1793548800-1793554200@saintandrews.org
SUMMARY:NATIONAL LUTHERAN CHOIR ALL SAINTS CONCERT
DESCRIPTION:The National Lutheran Choir All Saints Concert will be held at St. Andrew’s on Sunday\, November 1 at 4pm in the Sanctuary. Tickets are available at NLCA.com.
URL:https://saintandrews.org/event/national-lutheran-choir-all-saints-concert-2/
LOCATION:St. Andrew’s Sanctuary Building\, 120 East Avenue - Door #1\, Mahtomedi\, MN\, 55115\, United States
CATEGORIES:Music
ATTACH;FMTTYPE=image/jpeg:https://saintandrews.org/wp-content/uploads/National-Lutheran-Choir-All-Saints-Concert-1920x1080-1.jpg
ORGANIZER;CN="National Lutheran Choir":MAILTO:info@nlca.com
END:VEVENT
BEGIN:VEVENT
DTSTART;TZID=UTC:20261220T150000
DTEND;TZID=UTC:20261220T163000
DTSTAMP:20260420T195711
CREATED:20260220T150934Z
LAST-MODIFIED:20260220T151653Z
UID:10013784-1797778800-1797784200@saintandrews.org
SUMMARY:CHRISTMAS WITH THE RIVER CITY CHORALE
DESCRIPTION:Enjoy music of the season with The River City Chorale and Orchestra\, under the direction of Andy Haase\, St. Andrew’s Music Director. There will be a free-will offering taken. No tickets required!
URL:https://saintandrews.org/event/christmas-with-the-river-city-chorale-2/
LOCATION:St. Andrew’s Sanctuary Building\, 120 East Avenue - Door #1\, Mahtomedi\, MN\, 55115\, United States
CATEGORIES:Christmas,Music
ATTACH;FMTTYPE=image/jpeg:https://saintandrews.org/wp-content/uploads/River-City-Chorale-2024-1920x1080-1.jpg
ORGANIZER;CN="The River City Chorale":MAILTO:andy@therivercitychorale.org
END:VEVENT
BEGIN:VEVENT
DTSTART;TZID=America/Chicago:20270408T190000
DTEND;TZID=America/Chicago:20270408T203000
DTSTAMP:20260420T195711
CREATED:20260330T160144Z
LAST-MODIFIED:20260330T160146Z
UID:10013888-1807210800-1807216200@saintandrews.org
SUMMARY:WHITE BEAR LAKE AREA HIGH SCHOOL CHOIR CONCERT
DESCRIPTION:The WBLAHS Choir will host a 9-12 Grade choir concert entitled “What a Wonderful World”. The concert will highlight our High School choirs with traditional choral repertoire. This concert is free of charge and will be held in the Sanctuary of St. Andrew’s Lutheran Church at 7pm on April 8\, 2027.
URL:https://saintandrews.org/event/white-bear-lake-area-high-school-choir-concert/
LOCATION:St. Andrew’s Sanctuary Building\, 120 East Avenue - Door #1\, Mahtomedi\, MN\, 55115\, United States
CATEGORIES:Music
ATTACH;FMTTYPE=image/jpeg:https://saintandrews.org/wp-content/uploads/WBLAHS-Choir-1920x1080-1.jpg
ORGANIZER;CN="Dianne Nash":MAILTO:dnash@saintandrews.org
END:VEVENT
END:VCALENDAR