BEGIN:VCALENDAR
VERSION:2.0
PRODID:-//St. Andrew&#039;s Lutheran Church - ECPv6.15.20//NONSGML v1.0//EN
CALSCALE:GREGORIAN
METHOD:PUBLISH
X-WR-CALNAME:St. Andrew&#039;s Lutheran Church
X-ORIGINAL-URL:https://saintandrews.org
X-WR-CALDESC:Events for St. Andrew&#039;s Lutheran Church
REFRESH-INTERVAL;VALUE=DURATION:PT1H
X-Robots-Tag:noindex
X-PUBLISHED-TTL:PT1H
BEGIN:VTIMEZONE
TZID:America/Chicago
BEGIN:DAYLIGHT
TZOFFSETFROM:-0600
TZOFFSETTO:-0500
TZNAME:CDT
DTSTART:20240310T080000
END:DAYLIGHT
BEGIN:STANDARD
TZOFFSETFROM:-0500
TZOFFSETTO:-0600
TZNAME:CST
DTSTART:20241103T070000
END:STANDARD
BEGIN:DAYLIGHT
TZOFFSETFROM:-0600
TZOFFSETTO:-0500
TZNAME:CDT
DTSTART:20250309T080000
END:DAYLIGHT
BEGIN:STANDARD
TZOFFSETFROM:-0500
TZOFFSETTO:-0600
TZNAME:CST
DTSTART:20251102T070000
END:STANDARD
BEGIN:DAYLIGHT
TZOFFSETFROM:-0600
TZOFFSETTO:-0500
TZNAME:CDT
DTSTART:20260308T080000
END:DAYLIGHT
BEGIN:STANDARD
TZOFFSETFROM:-0500
TZOFFSETTO:-0600
TZNAME:CST
DTSTART:20261101T070000
END:STANDARD
END:VTIMEZONE
BEGIN:VTIMEZONE
TZID:UTC
BEGIN:STANDARD
TZOFFSETFROM:+0000
TZOFFSETTO:+0000
TZNAME:UTC
DTSTART:20240101T000000
END:STANDARD
END:VTIMEZONE
BEGIN:VEVENT
DTSTART;TZID=America/Chicago:20251102T160000
DTEND;TZID=America/Chicago:20251102T173000
DTSTAMP:20260419T154327
CREATED:20250207T152945Z
LAST-MODIFIED:20250207T152948Z
UID:10007394-1762099200-1762104600@saintandrews.org
SUMMARY:NATIONAL LUTHERAN CHOIR ALL SAINTS CONCERT
DESCRIPTION:The National Lutheran Choir All Saints Concert will be held at St. Andrew’s on Sunday\, November 2 at 4pm in the Sanctuary. Tickets are available at NLCA.com.
URL:https://saintandrews.org/event/national-lutheran-choir-all-saints-concert/
LOCATION:St. Andrew’s Sanctuary Building\, 120 East Avenue - Door #1\, Mahtomedi\, MN\, 55115\, United States
CATEGORIES:Music
ATTACH;FMTTYPE=image/jpeg:https://saintandrews.org/wp-content/uploads/National-Lutheran-Choir-All-Saints-Concert-1920x1080-1.jpg
ORGANIZER;CN="National Lutheran Choir":MAILTO:info@nlca.com
END:VEVENT
BEGIN:VEVENT
DTSTART;TZID=UTC:20251105T173000
DTEND;TZID=UTC:20251105T181500
DTSTAMP:20260419T154327
CREATED:20250617T160754Z
LAST-MODIFIED:20250825T144533Z
UID:10008478-1762363800-1762366500@saintandrews.org
SUMMARY:YOUTH CHOIRS 2025-26
DESCRIPTION:St. Andrew’s Youth Choirs (Choristers\, Celebration Singers\, and the Youth Choir) rehearse weekly from 5:30-6:15pm beginning Wednesday\, September 10\, 2025.  \n\n\n\nDrop in at the Fellowship Hall (in the Sanctuary Building) before practice on Wednesdays between 4:45-6:15pm and enjoy dinner! Suggested donation of $6-8/person.
URL:https://saintandrews.org/event/youth-choir-6-12/2025-11-05/
LOCATION:St. Andrew’s Sanctuary Building\, 120 East Avenue - Door #1\, Mahtomedi\, MN\, 55115\, United States
CATEGORIES:Music,Youth Music
ATTACH;FMTTYPE=image/jpeg:https://saintandrews.org/wp-content/uploads/Youth-Choirs-2024-1920x1080-1.jpg
ORGANIZER;CN="Dianne Nash":MAILTO:dnash@saintandrews.org
END:VEVENT
BEGIN:VEVENT
DTSTART;TZID=UTC:20251105T181500
DTEND;TZID=UTC:20251105T191500
DTSTAMP:20260419T154327
CREATED:20250620T141139Z
LAST-MODIFIED:20250620T141718Z
UID:10008574-1762366500-1762370100@saintandrews.org
SUMMARY:HANDBELLS REHEARSAL
DESCRIPTION:Handbells rehearse weekly from 6:15-7:15pm. If interested in joining the Handbell Choir\, contact Andy Haase at ahaase@saintandrews.org or 651.762.9123. Drop in for dinner before rehearsal! Meals served in Fellowship Hall every Wednesday from 4:45-6:15pm—suggested donation $6-8/person.
URL:https://saintandrews.org/event/handbells-rehearsal-3/2025-11-05/
LOCATION:St. Andrew’s Sanctuary Building\, 120 East Avenue - Door #1\, Mahtomedi\, MN\, 55115\, United States
CATEGORIES:Music
ATTACH;FMTTYPE=image/jpeg:https://saintandrews.org/wp-content/uploads/Handbells-2024-1920x1080-1.jpg
ORGANIZER;CN="Dianne Nash":MAILTO:dnash@saintandrews.org
END:VEVENT
BEGIN:VEVENT
DTSTART;TZID=UTC:20251105T193000
DTEND;TZID=UTC:20251105T210000
DTSTAMP:20260419T154327
CREATED:20250617T154622Z
LAST-MODIFIED:20260205T171729Z
UID:10008442-1762371000-1762376400@saintandrews.org
SUMMARY:ST. ANDREW'S ADULT CHOIR REHEARSAL
DESCRIPTION:St. Andrew’s Choir for adults rehearses every Wednesday evening from 7:30-9pm. New members are always welcome! Contact Andy Haase at 651.762.9123 if you’re interested in joining the St. Andrew’s Choir.And be sure to stop by the Fellowship Hall (in the Sanctuary building) between 4:45-6:15pm to grab dinner before practice. Suggested donation of $6-8/person.
URL:https://saintandrews.org/event/st-andrews-adult-choir-rehearsal-5/2025-11-05/
LOCATION:St. Andrew’s Sanctuary Building\, 120 East Avenue - Door #1\, Mahtomedi\, MN\, 55115\, United States
CATEGORIES:Adult Ministries,Music,Seniors Page Extra
ATTACH;FMTTYPE=image/jpeg:https://saintandrews.org/wp-content/uploads/St-Andrews-Choir-2024-1920x1080-1.jpg
ORGANIZER;CN="Dianne Nash":MAILTO:dnash@saintandrews.org
END:VEVENT
BEGIN:VEVENT
DTSTART;TZID=America/Chicago:20251106T190000
DTEND;TZID=America/Chicago:20251106T203000
DTSTAMP:20260419T154327
CREATED:20251021T200512Z
LAST-MODIFIED:20251027T203543Z
UID:10013082-1762455600-1762461000@saintandrews.org
SUMMARY:THE HEART OF WORSHIP
DESCRIPTION:Spend an evening with Andy Haase\, Music Director\, and Bill Chouinard\, Organist & Music Coordinator\, and other friends of St. Andrew’s. These two talented musicians will be performing some of their favorite pieces\, and sharing their heart and passion for worship music.
URL:https://saintandrews.org/event/heart-of-worship/
LOCATION:Sanctuary Fellowship Hall\, 900 Stillwater Rd\, Mahtomedi\, MN\, 55115\, United States
CATEGORIES:Adult Education,Adult Ministries,Music
ATTACH;FMTTYPE=image/jpeg:https://saintandrews.org/wp-content/uploads/Andy-and-Bill.jpg
ORGANIZER;CN="Sue Lennartson":MAILTO:slennartson@saintandrews.org
END:VEVENT
BEGIN:VEVENT
DTSTART;TZID=UTC:20251112T173000
DTEND;TZID=UTC:20251112T181500
DTSTAMP:20260419T154327
CREATED:20250617T160754Z
LAST-MODIFIED:20250825T144533Z
UID:10008479-1762968600-1762971300@saintandrews.org
SUMMARY:YOUTH CHOIRS 2025-26
DESCRIPTION:St. Andrew’s Youth Choirs (Choristers\, Celebration Singers\, and the Youth Choir) rehearse weekly from 5:30-6:15pm beginning Wednesday\, September 10\, 2025.  \n\n\n\nDrop in at the Fellowship Hall (in the Sanctuary Building) before practice on Wednesdays between 4:45-6:15pm and enjoy dinner! Suggested donation of $6-8/person.
URL:https://saintandrews.org/event/youth-choir-6-12/2025-11-12/
LOCATION:St. Andrew’s Sanctuary Building\, 120 East Avenue - Door #1\, Mahtomedi\, MN\, 55115\, United States
CATEGORIES:Music,Youth Music
ATTACH;FMTTYPE=image/jpeg:https://saintandrews.org/wp-content/uploads/Youth-Choirs-2024-1920x1080-1.jpg
ORGANIZER;CN="Dianne Nash":MAILTO:dnash@saintandrews.org
END:VEVENT
BEGIN:VEVENT
DTSTART;TZID=UTC:20251112T181500
DTEND;TZID=UTC:20251112T191500
DTSTAMP:20260419T154327
CREATED:20250620T141139Z
LAST-MODIFIED:20250620T141718Z
UID:10008575-1762971300-1762974900@saintandrews.org
SUMMARY:HANDBELLS REHEARSAL
DESCRIPTION:Handbells rehearse weekly from 6:15-7:15pm. If interested in joining the Handbell Choir\, contact Andy Haase at ahaase@saintandrews.org or 651.762.9123. Drop in for dinner before rehearsal! Meals served in Fellowship Hall every Wednesday from 4:45-6:15pm—suggested donation $6-8/person.
URL:https://saintandrews.org/event/handbells-rehearsal-3/2025-11-12/
LOCATION:St. Andrew’s Sanctuary Building\, 120 East Avenue - Door #1\, Mahtomedi\, MN\, 55115\, United States
CATEGORIES:Music
ATTACH;FMTTYPE=image/jpeg:https://saintandrews.org/wp-content/uploads/Handbells-2024-1920x1080-1.jpg
ORGANIZER;CN="Dianne Nash":MAILTO:dnash@saintandrews.org
END:VEVENT
BEGIN:VEVENT
DTSTART;TZID=UTC:20251112T193000
DTEND;TZID=UTC:20251112T210000
DTSTAMP:20260419T154327
CREATED:20250617T154622Z
LAST-MODIFIED:20260205T171729Z
UID:10008443-1762975800-1762981200@saintandrews.org
SUMMARY:ST. ANDREW'S ADULT CHOIR REHEARSAL
DESCRIPTION:St. Andrew’s Choir for adults rehearses every Wednesday evening from 7:30-9pm. New members are always welcome! Contact Andy Haase at 651.762.9123 if you’re interested in joining the St. Andrew’s Choir.And be sure to stop by the Fellowship Hall (in the Sanctuary building) between 4:45-6:15pm to grab dinner before practice. Suggested donation of $6-8/person.
URL:https://saintandrews.org/event/st-andrews-adult-choir-rehearsal-5/2025-11-12/
LOCATION:St. Andrew’s Sanctuary Building\, 120 East Avenue - Door #1\, Mahtomedi\, MN\, 55115\, United States
CATEGORIES:Adult Ministries,Music,Seniors Page Extra
ATTACH;FMTTYPE=image/jpeg:https://saintandrews.org/wp-content/uploads/St-Andrews-Choir-2024-1920x1080-1.jpg
ORGANIZER;CN="Dianne Nash":MAILTO:dnash@saintandrews.org
END:VEVENT
BEGIN:VEVENT
DTSTART;TZID=UTC:20251114T000000
DTEND;TZID=UTC:20251115T235959
DTSTAMP:20260419T154327
CREATED:20250321T124530Z
LAST-MODIFIED:20250321T124531Z
UID:10007681-1763078400-1763251199@saintandrews.org
SUMMARY:ACDA-MN STATE CONFERENCE
DESCRIPTION:ACDA-MN State Conference features performanes of choirs of all ages from across Minnesota\, and information sessions led by musicians and educators about various aspects of choral music.
URL:https://saintandrews.org/event/acda-mn-state-conference-2/
LOCATION:St. Andrew’s Sanctuary Building\, 120 East Avenue - Door #1\, Mahtomedi\, MN\, 55115\, United States
CATEGORIES:Music
ATTACH;FMTTYPE=image/jpeg:https://saintandrews.org/wp-content/uploads/National-Lutheran-Choir-All-Saints-Concert-1920x1080-1.jpg
ORGANIZER;CN="ACDA Executive Director - Jamie Andrews":MAILTO:jandrews@acda-mn.org
END:VEVENT
BEGIN:VEVENT
DTSTART;TZID=UTC:20251119T173000
DTEND;TZID=UTC:20251119T181500
DTSTAMP:20260419T154327
CREATED:20250617T160754Z
LAST-MODIFIED:20250825T144533Z
UID:10008480-1763573400-1763576100@saintandrews.org
SUMMARY:YOUTH CHOIRS 2025-26
DESCRIPTION:St. Andrew’s Youth Choirs (Choristers\, Celebration Singers\, and the Youth Choir) rehearse weekly from 5:30-6:15pm beginning Wednesday\, September 10\, 2025.  \n\n\n\nDrop in at the Fellowship Hall (in the Sanctuary Building) before practice on Wednesdays between 4:45-6:15pm and enjoy dinner! Suggested donation of $6-8/person.
URL:https://saintandrews.org/event/youth-choir-6-12/2025-11-19/
LOCATION:St. Andrew’s Sanctuary Building\, 120 East Avenue - Door #1\, Mahtomedi\, MN\, 55115\, United States
CATEGORIES:Music,Youth Music
ATTACH;FMTTYPE=image/jpeg:https://saintandrews.org/wp-content/uploads/Youth-Choirs-2024-1920x1080-1.jpg
ORGANIZER;CN="Dianne Nash":MAILTO:dnash@saintandrews.org
END:VEVENT
BEGIN:VEVENT
DTSTART;TZID=UTC:20251119T181500
DTEND;TZID=UTC:20251119T191500
DTSTAMP:20260419T154327
CREATED:20250620T141139Z
LAST-MODIFIED:20250620T141718Z
UID:10008576-1763576100-1763579700@saintandrews.org
SUMMARY:HANDBELLS REHEARSAL
DESCRIPTION:Handbells rehearse weekly from 6:15-7:15pm. If interested in joining the Handbell Choir\, contact Andy Haase at ahaase@saintandrews.org or 651.762.9123. Drop in for dinner before rehearsal! Meals served in Fellowship Hall every Wednesday from 4:45-6:15pm—suggested donation $6-8/person.
URL:https://saintandrews.org/event/handbells-rehearsal-3/2025-11-19/
LOCATION:St. Andrew’s Sanctuary Building\, 120 East Avenue - Door #1\, Mahtomedi\, MN\, 55115\, United States
CATEGORIES:Music
ATTACH;FMTTYPE=image/jpeg:https://saintandrews.org/wp-content/uploads/Handbells-2024-1920x1080-1.jpg
ORGANIZER;CN="Dianne Nash":MAILTO:dnash@saintandrews.org
END:VEVENT
BEGIN:VEVENT
DTSTART;TZID=UTC:20251119T193000
DTEND;TZID=UTC:20251119T210000
DTSTAMP:20260419T154327
CREATED:20250617T154622Z
LAST-MODIFIED:20260205T171729Z
UID:10008444-1763580600-1763586000@saintandrews.org
SUMMARY:ST. ANDREW'S ADULT CHOIR REHEARSAL
DESCRIPTION:St. Andrew’s Choir for adults rehearses every Wednesday evening from 7:30-9pm. New members are always welcome! Contact Andy Haase at 651.762.9123 if you’re interested in joining the St. Andrew’s Choir.And be sure to stop by the Fellowship Hall (in the Sanctuary building) between 4:45-6:15pm to grab dinner before practice. Suggested donation of $6-8/person.
URL:https://saintandrews.org/event/st-andrews-adult-choir-rehearsal-5/2025-11-19/
LOCATION:St. Andrew’s Sanctuary Building\, 120 East Avenue - Door #1\, Mahtomedi\, MN\, 55115\, United States
CATEGORIES:Adult Ministries,Music,Seniors Page Extra
ATTACH;FMTTYPE=image/jpeg:https://saintandrews.org/wp-content/uploads/St-Andrews-Choir-2024-1920x1080-1.jpg
ORGANIZER;CN="Dianne Nash":MAILTO:dnash@saintandrews.org
END:VEVENT
BEGIN:VEVENT
DTSTART;TZID=America/Chicago:20251121T190000
DTEND;TZID=America/Chicago:20251121T210000
DTSTAMP:20260419T154327
CREATED:20251021T190355Z
LAST-MODIFIED:20251021T190356Z
UID:10013081-1763751600-1763758800@saintandrews.org
SUMMARY:GREAT HALL CONCERT SERIES - THANKSGIVING WITH THE GATHERING BAND
DESCRIPTION:St. Andrew’s own Contemporary Worship team\, The Gathering Band (with many special guests!)\, usher in the season of Thanksgiving with a concert of congregational and band favorites. All are invited to come to this musical celebration of the goodness of God!
URL:https://saintandrews.org/event/great-hall-concert-series-thanksgiving-with-the-gathering-band/
LOCATION:St. Andrew’s Great Hall\, 900 Stillwater Road\, Mahtomedi\, MN\, 55115\, United States
CATEGORIES:Adult Ministries,Music
ATTACH;FMTTYPE=image/jpeg:https://saintandrews.org/wp-content/uploads/The-Gathering-Band.jpg
ORGANIZER;CN="Sara Renner":MAILTO:srenner@saintandrews.org
END:VEVENT
BEGIN:VEVENT
DTSTART;TZID=UTC:20251126T173000
DTEND;TZID=UTC:20251126T181500
DTSTAMP:20260419T154327
CREATED:20250617T160754Z
LAST-MODIFIED:20250825T144533Z
UID:10008481-1764178200-1764180900@saintandrews.org
SUMMARY:YOUTH CHOIRS 2025-26
DESCRIPTION:St. Andrew’s Youth Choirs (Choristers\, Celebration Singers\, and the Youth Choir) rehearse weekly from 5:30-6:15pm beginning Wednesday\, September 10\, 2025.  \n\n\n\nDrop in at the Fellowship Hall (in the Sanctuary Building) before practice on Wednesdays between 4:45-6:15pm and enjoy dinner! Suggested donation of $6-8/person.
URL:https://saintandrews.org/event/youth-choir-6-12/2025-11-26/
LOCATION:St. Andrew’s Sanctuary Building\, 120 East Avenue - Door #1\, Mahtomedi\, MN\, 55115\, United States
CATEGORIES:Music,Youth Music
ATTACH;FMTTYPE=image/jpeg:https://saintandrews.org/wp-content/uploads/Youth-Choirs-2024-1920x1080-1.jpg
ORGANIZER;CN="Dianne Nash":MAILTO:dnash@saintandrews.org
END:VEVENT
BEGIN:VEVENT
DTSTART;TZID=UTC:20251126T181500
DTEND;TZID=UTC:20251126T191500
DTSTAMP:20260419T154327
CREATED:20250620T141139Z
LAST-MODIFIED:20250620T141718Z
UID:10008577-1764180900-1764184500@saintandrews.org
SUMMARY:HANDBELLS REHEARSAL
DESCRIPTION:Handbells rehearse weekly from 6:15-7:15pm. If interested in joining the Handbell Choir\, contact Andy Haase at ahaase@saintandrews.org or 651.762.9123. Drop in for dinner before rehearsal! Meals served in Fellowship Hall every Wednesday from 4:45-6:15pm—suggested donation $6-8/person.
URL:https://saintandrews.org/event/handbells-rehearsal-3/2025-11-26/
LOCATION:St. Andrew’s Sanctuary Building\, 120 East Avenue - Door #1\, Mahtomedi\, MN\, 55115\, United States
CATEGORIES:Music
ATTACH;FMTTYPE=image/jpeg:https://saintandrews.org/wp-content/uploads/Handbells-2024-1920x1080-1.jpg
ORGANIZER;CN="Dianne Nash":MAILTO:dnash@saintandrews.org
END:VEVENT
BEGIN:VEVENT
DTSTART;TZID=UTC:20251126T193000
DTEND;TZID=UTC:20251126T210000
DTSTAMP:20260419T154327
CREATED:20250617T154622Z
LAST-MODIFIED:20260205T171729Z
UID:10008445-1764185400-1764190800@saintandrews.org
SUMMARY:ST. ANDREW'S ADULT CHOIR REHEARSAL
DESCRIPTION:St. Andrew’s Choir for adults rehearses every Wednesday evening from 7:30-9pm. New members are always welcome! Contact Andy Haase at 651.762.9123 if you’re interested in joining the St. Andrew’s Choir.And be sure to stop by the Fellowship Hall (in the Sanctuary building) between 4:45-6:15pm to grab dinner before practice. Suggested donation of $6-8/person.
URL:https://saintandrews.org/event/st-andrews-adult-choir-rehearsal-5/2025-11-26/
LOCATION:St. Andrew’s Sanctuary Building\, 120 East Avenue - Door #1\, Mahtomedi\, MN\, 55115\, United States
CATEGORIES:Adult Ministries,Music,Seniors Page Extra
ATTACH;FMTTYPE=image/jpeg:https://saintandrews.org/wp-content/uploads/St-Andrews-Choir-2024-1920x1080-1.jpg
ORGANIZER;CN="Dianne Nash":MAILTO:dnash@saintandrews.org
END:VEVENT
END:VCALENDAR