BEGIN:VCALENDAR
VERSION:2.0
PRODID:-//St. Andrew&#039;s Lutheran Church - ECPv6.15.20//NONSGML v1.0//EN
CALSCALE:GREGORIAN
METHOD:PUBLISH
X-WR-CALNAME:St. Andrew&#039;s Lutheran Church
X-ORIGINAL-URL:https://saintandrews.org
X-WR-CALDESC:Events for St. Andrew&#039;s Lutheran Church
REFRESH-INTERVAL;VALUE=DURATION:PT1H
X-Robots-Tag:noindex
X-PUBLISHED-TTL:PT1H
BEGIN:VTIMEZONE
TZID:UTC
BEGIN:STANDARD
TZOFFSETFROM:+0000
TZOFFSETTO:+0000
TZNAME:UTC
DTSTART:20240101T000000
END:STANDARD
END:VTIMEZONE
BEGIN:VEVENT
DTSTART;TZID=UTC:20250903T190000
DTEND;TZID=UTC:20250903T203000
DTSTAMP:20260419T123229
CREATED:20250617T154307Z
LAST-MODIFIED:20250617T154510Z
UID:10008398-1756926000-1756931400@saintandrews.org
SUMMARY:ST. ANDREW'S ADULT CHOIR REHEARSAL
DESCRIPTION:Earlier time for 8/27/25 and 9/3/25 \n\n\n\nSt. Andrew’s Choir for adults rehearses every Wednesday evening from 7:30-9pm. New members are always welcome! Contact Andy Haase at 651.762.9123 if you’re interested in joining the St. Andrew’s Choir.And be sure to stop by the Fellowship Hall (in the Sanctuary building) between 4:45-6:15pm to grab dinner before practice. Suggested donation of $6-8/person.
URL:https://saintandrews.org/event/st-andrews-adult-choir-rehearsal-4/2025-09-03/
LOCATION:St. Andrew’s Sanctuary Building\, 120 East Avenue - Door #1\, Mahtomedi\, MN\, 55115\, United States
CATEGORIES:Adult Ministries,Music
ATTACH;FMTTYPE=image/jpeg:https://saintandrews.org/wp-content/uploads/St-Andrews-Choir-2024-1920x1080-1.jpg
ORGANIZER;CN="Dianne Nash":MAILTO:dnash@saintandrews.org
END:VEVENT
BEGIN:VEVENT
DTSTART;TZID=UTC:20250906T170000
DTEND;TZID=UTC:20250906T183000
DTSTAMP:20260419T123229
CREATED:20250812T205635Z
LAST-MODIFIED:20250827T170727Z
UID:10011180-1757178000-1757183400@saintandrews.org
SUMMARY:FALL KICKOFF - 2025
DESCRIPTION:During Fall Kickoff weekend (September 6-7)\, come discover ways you can grow at St. Andrew’s. Enjoy contemporary and traditional worship services\, festive music\, fall foods\, and kids’ games and activities! Fall Kickoff is for those looking for a church family\, as well as those who already call St. Andrew’s home. Pick up a postcard at the Welcome Desk to invite someone new!
URL:https://saintandrews.org/event/fall-kickoff-2025-6/
LOCATION:St. Andrew’s Great Hall\, 900 Stillwater Road\, Mahtomedi\, MN\, 55115\, United States
CATEGORIES:Adult Education,Adult Ministries,Bible Studies,Care Ministry,Children, Youth & Family,LifeU,Membership & Volunteers,Missions,Music,Special Interest Groups,Worship
ATTACH;FMTTYPE=image/jpeg:https://saintandrews.org/wp-content/uploads/Grow-Graphic-Phrases-20253-scaled.jpg
ORGANIZER;CN="St. Andrew's Lutheran Church":MAILTO:office@saintandrews.org
END:VEVENT
BEGIN:VEVENT
DTSTART;TZID=UTC:20250907T090000
DTEND;TZID=UTC:20250907T120000
DTSTAMP:20260419T123229
CREATED:20250827T170241Z
LAST-MODIFIED:20250827T170345Z
UID:10011182-1757235600-1757246400@saintandrews.org
SUMMARY:FALL KICKOFF - 2025
DESCRIPTION:During Fall Kickoff weekend (September 6-7)\, come discover ways you can grow at St. Andrew’s. Enjoy contemporary and traditional worship services\, festive music\, fall foods\, and kids’ games and activities! Fall Kickoff is for those looking for a church family\, as well as those who already call St. Andrew’s home. Pick up a postcard at the Welcome Desk to invite someone new!
URL:https://saintandrews.org/event/fall-kickoff-2025-duplicate/
LOCATION:St. Andrew’s Sanctuary Building\, 120 East Avenue - Door #1\, Mahtomedi\, MN\, 55115\, United States
CATEGORIES:Adult Education,Adult Ministries,Bible Studies,Care Ministry,Children, Youth & Family,LifeU,Membership & Volunteers,Missions,Music,Special Interest Groups,Worship
ATTACH;FMTTYPE=image/jpeg:https://saintandrews.org/wp-content/uploads/Grow-Graphic-Phrases-20253-scaled.jpg
ORGANIZER;CN="St. Andrew's Lutheran Church":MAILTO:office@saintandrews.org
END:VEVENT
BEGIN:VEVENT
DTSTART;TZID=UTC:20250910T173000
DTEND;TZID=UTC:20250910T181500
DTSTAMP:20260419T123229
CREATED:20250617T160754Z
LAST-MODIFIED:20250825T144533Z
UID:10006106-1757525400-1757528100@saintandrews.org
SUMMARY:YOUTH CHOIRS 2025-26
DESCRIPTION:St. Andrew’s Youth Choirs (Choristers\, Celebration Singers\, and the Youth Choir) rehearse weekly from 5:30-6:15pm beginning Wednesday\, September 10\, 2025.  \n\n\n\nDrop in at the Fellowship Hall (in the Sanctuary Building) before practice on Wednesdays between 4:45-6:15pm and enjoy dinner! Suggested donation of $6-8/person.
URL:https://saintandrews.org/event/youth-choir-6-12/2025-09-10/
LOCATION:St. Andrew’s Sanctuary Building\, 120 East Avenue - Door #1\, Mahtomedi\, MN\, 55115\, United States
CATEGORIES:Music,Youth Music
ATTACH;FMTTYPE=image/jpeg:https://saintandrews.org/wp-content/uploads/Youth-Choirs-2024-1920x1080-1.jpg
ORGANIZER;CN="Dianne Nash":MAILTO:dnash@saintandrews.org
END:VEVENT
BEGIN:VEVENT
DTSTART;TZID=UTC:20250910T181500
DTEND;TZID=UTC:20250910T191500
DTSTAMP:20260419T123229
CREATED:20250620T141139Z
LAST-MODIFIED:20250620T141718Z
UID:10008602-1757528100-1757531700@saintandrews.org
SUMMARY:HANDBELLS REHEARSAL
DESCRIPTION:Handbells rehearse weekly from 6:15-7:15pm. If interested in joining the Handbell Choir\, contact Andy Haase at ahaase@saintandrews.org or 651.762.9123. Drop in for dinner before rehearsal! Meals served in Fellowship Hall every Wednesday from 4:45-6:15pm—suggested donation $6-8/person.
URL:https://saintandrews.org/event/handbells-rehearsal-3/2025-09-10/
LOCATION:St. Andrew’s Sanctuary Building\, 120 East Avenue - Door #1\, Mahtomedi\, MN\, 55115\, United States
CATEGORIES:Music
ATTACH;FMTTYPE=image/jpeg:https://saintandrews.org/wp-content/uploads/Handbells-2024-1920x1080-1.jpg
ORGANIZER;CN="Dianne Nash":MAILTO:dnash@saintandrews.org
END:VEVENT
BEGIN:VEVENT
DTSTART;TZID=UTC:20250910T193000
DTEND;TZID=UTC:20250910T210000
DTSTAMP:20260419T123229
CREATED:20250617T154622Z
LAST-MODIFIED:20260205T171729Z
UID:10008399-1757532600-1757538000@saintandrews.org
SUMMARY:ST. ANDREW'S ADULT CHOIR REHEARSAL
DESCRIPTION:St. Andrew’s Choir for adults rehearses every Wednesday evening from 7:30-9pm. New members are always welcome! Contact Andy Haase at 651.762.9123 if you’re interested in joining the St. Andrew’s Choir.And be sure to stop by the Fellowship Hall (in the Sanctuary building) between 4:45-6:15pm to grab dinner before practice. Suggested donation of $6-8/person.
URL:https://saintandrews.org/event/st-andrews-adult-choir-rehearsal-5/2025-09-10/
LOCATION:St. Andrew’s Sanctuary Building\, 120 East Avenue - Door #1\, Mahtomedi\, MN\, 55115\, United States
CATEGORIES:Adult Ministries,Music,Seniors Page Extra
ATTACH;FMTTYPE=image/jpeg:https://saintandrews.org/wp-content/uploads/St-Andrews-Choir-2024-1920x1080-1.jpg
ORGANIZER;CN="Dianne Nash":MAILTO:dnash@saintandrews.org
END:VEVENT
BEGIN:VEVENT
DTSTART;TZID=UTC:20250917T173000
DTEND;TZID=UTC:20250917T181500
DTSTAMP:20260419T123229
CREATED:20250617T160754Z
LAST-MODIFIED:20250825T144533Z
UID:10008471-1758130200-1758132900@saintandrews.org
SUMMARY:YOUTH CHOIRS 2025-26
DESCRIPTION:St. Andrew’s Youth Choirs (Choristers\, Celebration Singers\, and the Youth Choir) rehearse weekly from 5:30-6:15pm beginning Wednesday\, September 10\, 2025.  \n\n\n\nDrop in at the Fellowship Hall (in the Sanctuary Building) before practice on Wednesdays between 4:45-6:15pm and enjoy dinner! Suggested donation of $6-8/person.
URL:https://saintandrews.org/event/youth-choir-6-12/2025-09-17/
LOCATION:St. Andrew’s Sanctuary Building\, 120 East Avenue - Door #1\, Mahtomedi\, MN\, 55115\, United States
CATEGORIES:Music,Youth Music
ATTACH;FMTTYPE=image/jpeg:https://saintandrews.org/wp-content/uploads/Youth-Choirs-2024-1920x1080-1.jpg
ORGANIZER;CN="Dianne Nash":MAILTO:dnash@saintandrews.org
END:VEVENT
BEGIN:VEVENT
DTSTART;TZID=UTC:20250917T181500
DTEND;TZID=UTC:20250917T191500
DTSTAMP:20260419T123229
CREATED:20250620T141139Z
LAST-MODIFIED:20250620T141718Z
UID:10008567-1758132900-1758136500@saintandrews.org
SUMMARY:HANDBELLS REHEARSAL
DESCRIPTION:Handbells rehearse weekly from 6:15-7:15pm. If interested in joining the Handbell Choir\, contact Andy Haase at ahaase@saintandrews.org or 651.762.9123. Drop in for dinner before rehearsal! Meals served in Fellowship Hall every Wednesday from 4:45-6:15pm—suggested donation $6-8/person.
URL:https://saintandrews.org/event/handbells-rehearsal-3/2025-09-17/
LOCATION:St. Andrew’s Sanctuary Building\, 120 East Avenue - Door #1\, Mahtomedi\, MN\, 55115\, United States
CATEGORIES:Music
ATTACH;FMTTYPE=image/jpeg:https://saintandrews.org/wp-content/uploads/Handbells-2024-1920x1080-1.jpg
ORGANIZER;CN="Dianne Nash":MAILTO:dnash@saintandrews.org
END:VEVENT
BEGIN:VEVENT
DTSTART;TZID=UTC:20250917T193000
DTEND;TZID=UTC:20250917T210000
DTSTAMP:20260419T123229
CREATED:20250617T154622Z
LAST-MODIFIED:20260205T171729Z
UID:10008435-1758137400-1758142800@saintandrews.org
SUMMARY:ST. ANDREW'S ADULT CHOIR REHEARSAL
DESCRIPTION:St. Andrew’s Choir for adults rehearses every Wednesday evening from 7:30-9pm. New members are always welcome! Contact Andy Haase at 651.762.9123 if you’re interested in joining the St. Andrew’s Choir.And be sure to stop by the Fellowship Hall (in the Sanctuary building) between 4:45-6:15pm to grab dinner before practice. Suggested donation of $6-8/person.
URL:https://saintandrews.org/event/st-andrews-adult-choir-rehearsal-5/2025-09-17/
LOCATION:St. Andrew’s Sanctuary Building\, 120 East Avenue - Door #1\, Mahtomedi\, MN\, 55115\, United States
CATEGORIES:Adult Ministries,Music,Seniors Page Extra
ATTACH;FMTTYPE=image/jpeg:https://saintandrews.org/wp-content/uploads/St-Andrews-Choir-2024-1920x1080-1.jpg
ORGANIZER;CN="Dianne Nash":MAILTO:dnash@saintandrews.org
END:VEVENT
BEGIN:VEVENT
DTSTART;TZID=UTC:20250921T150000
DTEND;TZID=UTC:20250921T173000
DTSTAMP:20260419T123229
CREATED:20250320T130339Z
LAST-MODIFIED:20250320T130339Z
UID:10007676-1758466800-1758475800@saintandrews.org
SUMMARY:SAINT PAUL CHAMBER ORCHESTRA CONCERT SERIES
DESCRIPTION:Renowned for its artistic excellence\, remarkable versatility of musical styles and adventurous programming\, The Saint Paul Chamber Orchestra is widely regarded as one of the finest chamber orchestras in the world. The SPCO is primarily an unconducted ensemble that performs a broad range of repertoire from Baroque to new music and works in close collaboration with a dynamic roster of Artistic Partners. \n\n\n\nFour concert dates to choose from: Sept. 21\, 2025; February 8\,  March 15\, May 3\, 2026 \n\n\n\nClick on SPCO WEBSITE for ticketing information.
URL:https://saintandrews.org/event/saint-paul-chamber-orchestra-concert-series/2025-09-21/
LOCATION:St. Andrew’s Sanctuary Building\, 120 East Avenue - Door #1\, Mahtomedi\, MN\, 55115\, United States
CATEGORIES:Music
ATTACH;FMTTYPE=image/jpeg:https://saintandrews.org/wp-content/uploads/SPCO-1920x1080-1.jpg
ORGANIZER;CN="Dianne Nash":MAILTO:dnash@saintandrews.org
END:VEVENT
BEGIN:VEVENT
DTSTART;TZID=UTC:20250924T173000
DTEND;TZID=UTC:20250924T181500
DTSTAMP:20260419T123229
CREATED:20250617T160754Z
LAST-MODIFIED:20250825T144533Z
UID:10008472-1758735000-1758737700@saintandrews.org
SUMMARY:YOUTH CHOIRS 2025-26
DESCRIPTION:St. Andrew’s Youth Choirs (Choristers\, Celebration Singers\, and the Youth Choir) rehearse weekly from 5:30-6:15pm beginning Wednesday\, September 10\, 2025.  \n\n\n\nDrop in at the Fellowship Hall (in the Sanctuary Building) before practice on Wednesdays between 4:45-6:15pm and enjoy dinner! Suggested donation of $6-8/person.
URL:https://saintandrews.org/event/youth-choir-6-12/2025-09-24/
LOCATION:St. Andrew’s Sanctuary Building\, 120 East Avenue - Door #1\, Mahtomedi\, MN\, 55115\, United States
CATEGORIES:Music,Youth Music
ATTACH;FMTTYPE=image/jpeg:https://saintandrews.org/wp-content/uploads/Youth-Choirs-2024-1920x1080-1.jpg
ORGANIZER;CN="Dianne Nash":MAILTO:dnash@saintandrews.org
END:VEVENT
BEGIN:VEVENT
DTSTART;TZID=UTC:20250924T181500
DTEND;TZID=UTC:20250924T191500
DTSTAMP:20260419T123229
CREATED:20250620T141139Z
LAST-MODIFIED:20250620T141718Z
UID:10008568-1758737700-1758741300@saintandrews.org
SUMMARY:HANDBELLS REHEARSAL
DESCRIPTION:Handbells rehearse weekly from 6:15-7:15pm. If interested in joining the Handbell Choir\, contact Andy Haase at ahaase@saintandrews.org or 651.762.9123. Drop in for dinner before rehearsal! Meals served in Fellowship Hall every Wednesday from 4:45-6:15pm—suggested donation $6-8/person.
URL:https://saintandrews.org/event/handbells-rehearsal-3/2025-09-24/
LOCATION:St. Andrew’s Sanctuary Building\, 120 East Avenue - Door #1\, Mahtomedi\, MN\, 55115\, United States
CATEGORIES:Music
ATTACH;FMTTYPE=image/jpeg:https://saintandrews.org/wp-content/uploads/Handbells-2024-1920x1080-1.jpg
ORGANIZER;CN="Dianne Nash":MAILTO:dnash@saintandrews.org
END:VEVENT
BEGIN:VEVENT
DTSTART;TZID=UTC:20250924T193000
DTEND;TZID=UTC:20250924T210000
DTSTAMP:20260419T123229
CREATED:20250617T154622Z
LAST-MODIFIED:20260205T171729Z
UID:10008436-1758742200-1758747600@saintandrews.org
SUMMARY:ST. ANDREW'S ADULT CHOIR REHEARSAL
DESCRIPTION:St. Andrew’s Choir for adults rehearses every Wednesday evening from 7:30-9pm. New members are always welcome! Contact Andy Haase at 651.762.9123 if you’re interested in joining the St. Andrew’s Choir.And be sure to stop by the Fellowship Hall (in the Sanctuary building) between 4:45-6:15pm to grab dinner before practice. Suggested donation of $6-8/person.
URL:https://saintandrews.org/event/st-andrews-adult-choir-rehearsal-5/2025-09-24/
LOCATION:St. Andrew’s Sanctuary Building\, 120 East Avenue - Door #1\, Mahtomedi\, MN\, 55115\, United States
CATEGORIES:Adult Ministries,Music,Seniors Page Extra
ATTACH;FMTTYPE=image/jpeg:https://saintandrews.org/wp-content/uploads/St-Andrews-Choir-2024-1920x1080-1.jpg
ORGANIZER;CN="Dianne Nash":MAILTO:dnash@saintandrews.org
END:VEVENT
END:VCALENDAR