BEGIN:VCALENDAR
VERSION:2.0
PRODID:-//St. Andrew&#039;s Lutheran Church - ECPv6.15.20//NONSGML v1.0//EN
CALSCALE:GREGORIAN
METHOD:PUBLISH
X-WR-CALNAME:St. Andrew&#039;s Lutheran Church
X-ORIGINAL-URL:https://saintandrews.org
X-WR-CALDESC:Events for St. Andrew&#039;s Lutheran Church
REFRESH-INTERVAL;VALUE=DURATION:PT1H
X-Robots-Tag:noindex
X-PUBLISHED-TTL:PT1H
BEGIN:VTIMEZONE
TZID:UTC
BEGIN:STANDARD
TZOFFSETFROM:+0000
TZOFFSETTO:+0000
TZNAME:UTC
DTSTART:20250101T000000
END:STANDARD
END:VTIMEZONE
BEGIN:VEVENT
DTSTART;TZID=UTC:20260421T070000
DTEND;TZID=UTC:20260421T080000
DTSTAMP:20260421T020539
CREATED:20250624T000614Z
LAST-MODIFIED:20260205T171920Z
UID:10008637-1776754800-1776758400@saintandrews.org
SUMMARY:TUESDAY MORNING BIBLE STUDY
DESCRIPTION:Hybrid: Zoom and In Person with Pastor Emeritus John Straiton \n\n\n\nJoin Pastor Emeritus John Straiton for Tuesday Morning Bible Study live\, on Zoom\, and in person in the Fellowship Hall on Tuesday mornings at 7am. Pastors Brian Norsman and John Swanson host in person each week to gather around tables in fellowship and to listen to Pastor Straiton’s teaching. \n\n\n\nContact Dianne Nash at dnash@saintandrews.org for the Zoom meeting link. Miss a week? Check the library of the past few Bible studies.
URL:https://saintandrews.org/event/tuesday-morning-bible-study-2/2026-04-21/
LOCATION:MN
CATEGORIES:Bible Studies,Seniors Page Extra
ATTACH;FMTTYPE=image/jpeg:https://saintandrews.org/wp-content/uploads/Tuesday-Morning-Bible-Study-2024-1920x1080-1.jpg
END:VEVENT
BEGIN:VEVENT
DTSTART;TZID=UTC:20260421T130000
DTEND;TZID=UTC:20260421T140000
DTSTAMP:20260421T020539
CREATED:20250617T175458Z
LAST-MODIFIED:20250617T180741Z
UID:10008525-1776776400-1776780000@saintandrews.org
SUMMARY:CAREGIVER SUPPORT GROUP 2025-2026
DESCRIPTION:Benefit from the community of caregivers in this support group. This is a warm\, welcoming space to share the joys and pains of caregiving. Come to have your cup filled with love\, prayer\, and the Holy Spirit\, and enjoy a fresh framework for the experience of giving care. Share resources and develop new friendships in this supportive\, healing space. This support group meets on the third Tuesday of the month all year round from 1-2pm in the Great Hall Dot Room. Come to any or all of the sessions. Registration not required. Please contact group facilitator Jill Dumas for more information about the group.
URL:https://saintandrews.org/event/caregiver-support-group-2025-2026/2026-04-21/
LOCATION:St. Andrew’s Great Hall\, 900 Stillwater Road\, Mahtomedi\, MN\, 55115\, United States
CATEGORIES:Care Ministry
ATTACH;FMTTYPE=image/jpeg:https://saintandrews.org/wp-content/uploads/Caregiver-Support-Group-2024-1920x1080-1.jpg
END:VEVENT
BEGIN:VEVENT
DTSTART;TZID=UTC:20260421T183000
DTEND;TZID=UTC:20260421T193000
DTSTAMP:20260421T020539
CREATED:20251212T144250Z
LAST-MODIFIED:20251212T144302Z
UID:10013385-1776796200-1776799800@saintandrews.org
SUMMARY:YOGADEVOTION 2026
DESCRIPTION:Yogadevotion classes are offered as part of the healing ministries of St. Andrew’s Congregational Care Team. We invite all to move mind\, body\, and spirit in awareness of God’s presence through gentle\, breath-guided practice. No experience is necessary!Two classes are offered each week at St. Andrew’s (Monday morning and Tuesday evening). Both are hybrid classes—you can attend in person in the Great Hall Narthex or via Zoom in the comfort of your home.For more information\, to view costs\, and to register for Yogadevotion sessions\, visit www.yogadevotion.com and find the St. Andrew’s sessions. \n\n\n\nMonday 9am Yogadevotion with Penny2026 DATES: \n\n\n\n\n1/5 – 2/23 (7 weeks) (skip 1/19)\n\n\n\n3/2 – 4/27 (8 weeks) (skip 3/30; 4/6 is virtual only)\n\n\n\n4/28 – 6/23 (8 weeks) (5/25 and 6/22\, both dates virtual only)\n\n\n\n6/29 – 8/19 (8 weeks)\n\n\n\n\nTuesday 6:30pm Hatha Yogadevotion with Sandy2026 DATES: \n\n\n\n\n1/6 – 2/24 (8 weeks)\n\n\n\n3/3 – 4/28 (8 weeks) (skip 03/31)\n\n\n\n5/5 – 6/23 (8 weeks)\n\n\n\n6/30 – 8/18 (8 weeks)
URL:https://saintandrews.org/event/yogadevotion-2026-2/2026-04-21/
LOCATION:Great Hall Narthex\, 900 Stillwater Road\, Mahtomedi\, Minnesota\, 55115
CATEGORIES:Care Ministry
ATTACH;FMTTYPE=image/jpeg:https://saintandrews.org/wp-content/uploads/Yogadevotion-2024-1920x1080-1.jpg
ORGANIZER;CN="Yogadevotion":MAILTO:lori@yogadevotion.com
END:VEVENT
END:VCALENDAR